{"text_format":"1","workbook":"xlsx","n_sheets":4,"sheets":["Introduction","Prices","Raw_data","PPI"],"not_rendered":{"charts":0,"images":3,"macros":0,"external_links":1,"defined_names":4,"comments":0,"pivot_tables":0},"unopened":[],"bounds":{"document_bytes":16777216,"sheet_cells":100000,"rows_first":2000,"rows_last":500,"rows_between":2000,"halvings":0,"cell_chars":16384,"cell_head_chars":4096},"cells_cut":0,"cells_raw":0,"read":"whole","date_system":"1900"}

{"sheet":"Introduction","index":0,"n_rows":51,"n_cols":12,"rows_kept":51,"cut":false,"hidden":false,"merged":[[45,15,45,16],[4,1,5,8],[4,13,5,23],[7,2,7,3],[7,4,7,5],[7,13,8,13],[28,1,31,11],[40,1,40,5],[40,7,40,10],[32,1,32,4],[34,1,35,11],[38,1,38,6],[39,1,39,11]]}
[]
[]
[null,"KSU-Custom Rates"]
[]
[null,"An Excel spreadsheet program to estimate custom rates for various farming operations given a user-entered projection for diesel fuel price."]
[]
[]
[null,null,null,null,null,null,null,null,null,null,null,"Version- 2.17.2016"]
[]
[]
[]
[]
[]
[]
[]
[]
[]
[]
[]
[]
[]
[]
[]
[]
[]
[]
[]
[null,"DISCLAIMER"]
[null,"This tool uses the current diesel fuel price and an index of input prices that farmers pay to estimate the custom operation rates for machinery in Kansas. The last survey of custom rates was completed in 2013, so there is some risk that the current estimates might not reflect actual rates. However, the model has, historicaly, provided estimates that are a close fit to actual values over a wide range of diesel fuel prices. "]
[]
[]
[]
[null,"INSTRUCTIONS FOR THE USER:"]
[null,"Be sure to \"Enable Content\" and \"Enable Macros\" for the spreadsheet to function correctly."]
[null,"In the various tabs all values are calculated except fuel prices, PPI, and adjustment factor which are blue numbers to be entered by the user."]
[]
[]
[null,"FOR MORE INFORMATION:"]
[null,"The companion publication can be found by clicking",null,null,null,null,null,"HERE"]
[]
[null,"Updated by:",null,null,null,null,null,"Originally developed by:"]
[]
[null,"Gregg Ibendahl, Ph.D.",null,null,null,null,null,"Kevin C. Dhuyvetter, Ph.D."]
[null,"Associate Professor",null,null,null,null,null,"Former Extension Agricultural Economist"]
[null,"    Dept. of Agricultural Economics",null,null,null,null,null,"Department of Agricultural Economics"]
[null,"Kansas State University",null,null,null,null,null,"Kansas State University"]
[null,"ibendahl@ksu.edu"]
[null,"(785) 477-2071"]
[]
[]
[null,"Copyright 2016 AgManager.info, K-State Department of Agricultural Economics"]

{"sheet":"Prices","index":1,"n_rows":70,"n_cols":121,"rows_kept":70,"cut":false,"hidden":false,"merged":[[50,1,69,1],[8,1,13,1],[14,1,21,1],[22,1,33,1],[34,1,44,1],[45,1,49,1]]}
[]
[null,null,"PPI",126,null,null,2016,2015,2014,2013,2012]
[null,null,"Adj factor",1.02,null,"PPI",126,122.3,119.1,114.9,111.7]
[null,null,"Diesel ",2.1,null,"Diesel",2.1,2.71,3.82,3.92,3.96]
[null,null,"Use the highway diesel price"]
[]
[null,null,null,null,"Crop Reporting Districts - - - - - - - - - - - - - - - - - - - - - - - - - - - - - - - - - - - - - - - - - - - - - - - - - ",null,null,null,null,null,null,null,null,"Budget Regions  - - - - - - - - - - - - - - - - - - - - - - - - - - - - - - - - - - - - - - - - - - - - - - - - - ",null,null,null,null,null,null,null,null,null,null,null,null,null,null,null,null,null,null,null,null,null,null,null,null,null,null,null,null,null,null,null,null,null,null,null,null,null,null,null,null,null,null,null,null,null,null,null,null,null,null,null,null,null,null,null,null,null,null,null,null,null,null,null,null,null,null,null,null,null,null,null,null,null,null,null,null,null,null,null,null,null,null,null,null,null,null,null,null,null,null,null,null,null,null,null,null,null,null,null,null,null,null,null,null,null,"CRD - Northeast","RMSE"]
[null,null,"OPERATION","State","CRD - Northwest","CRD - West central","CRD - Southwest","CRD - North central","CRD - Central","CRD - South central","CRD - Northeast","CRD - East central","CRD - Southeast","Northwest","Southwest","West","North central","South central","Central","Northeast","Southeast","East",null,null,null,null,null,null,null,null,null,null,null,null,"CRD - Central","CRD - Central","CRD - Central","CRD - Central",null,null,null,null,null,null,null,null,null,null,null,null,null,null,null,"CRD - East central","CRD - East central","CRD - East central","CRD - East central",null,"CRD - Southeast","CRD - Southeast","CRD - Southeast","CRD - Southeast","CRD - Southeast",null,null,null,null,null,null,null,null,null,null,null,null,null,null,null,null,null,null,null,null,null,null,null,null,null,null,null,null,null,"South central",null,null,null,null,"Central","Central",null,null,null,"Northeast","Northeast","Northeast",null,null,"Southeast","Southeast","Southeast","Southeast",null,"East","East","East","East","East"]
[null,"Tillage","Disk",{"$f":"Raw_data!D77 * $D$3","v":11.974418816502988},{"$f":"Raw_data!E77 * $D$3","v":10.494296183926597},{"$f":"Raw_data!F77 * $D$3","v":10.334993978956156},{"$f":"Raw_data!G77 * $D$3","v":11.67735990666224},{"$f":"Raw_data!H77 * $D$3","v":12.520001461334145},{"$f":"Raw_data!I77 * $D$3","v":11.707732745621113},{"$f":"Raw_data!J77 * $D$3","v":12.482002976845688},{"$f":"Raw_data!K77 * $D$3","v":14.491116184346803},{"$f":"Raw_data!L77 * $D$3","v":13.179705614965387},{"$f":"Raw_data!M77 * $D$3","v":12.983145913464179},{"$f":"Raw_data!N77 * $D$3","v":10.41434049156565},{"$f":"Raw_data!O77 * $D$3","v":10.985692710314547},{"$f":"Raw_data!P77 * $D$3","v":10.819389032552147},{"$f":"Raw_data!Q77 * $D$3","v":12.520001461334145},{"$f":"Raw_data!R77 * $D$3","v":12.482002976845688},{"$f":"Raw_data!S77 * $D$3","v":12.500987781390926},{"$f":"Raw_data!T77 * $D$3","v":13.81986415786904},{"$f":"Raw_data!U77 * $D$3","v":13.081056574130413},{"$f":"Raw_data!V77 * $D$3","v":13.535131997274034},null,null,null,null,null,null,null,null,null,null,null,null,null,null,null,null,null,null,null,null,null,null,null,null,null,null,null,null,null,null,null,null,null,null,null,null,null,null,null,null,null,null,null,null,null,null,null,null,null,null,null,null,null,null,null,null,null,null,null,null,null,null,null,null,null,null,null,null,null,null,null,null,null,null,null,null,null,null,null,null,null,null,null,null,null,null,null,null,null,null,null,null,null,null,null,null,null,"CRD - East central","Intercept"]
[null,null,"Offset disk",{"$f":"Raw_data!D78 * $D$3","v":11.588015193751998},{"$f":"Raw_data!E78 * $D$3","v":10.618118555827433},{"$f":"Raw_data!F78 * $D$3","v":10.46204790416661},{"$f":"Raw_data!G78 * $D$3","v":11.192205634478071},{"$f":"Raw_data!H78 * $D$3","v":12.39952610916049},{"$f":"Raw_data!I78 * $D$3","v":11.247868190125955},{"$f":"Raw_data!J78 * $D$3","v":12.061190765104881},{"$f":"Raw_data!K78 * $D$3","v":14.464227517077166},{"$f":"Raw_data!L78 * $D$3","v":13.633785302280112},{"$f":"Raw_data!M78 * $D$3","v":14.347518452678626},{"$f":"Raw_data!N78 * $D$3","v":10.539794352034905},{"$f":"Raw_data!O78 * $D$3","v":10.820969988923906},{"$f":"Raw_data!P78 * $D$3","v":10.752925868269827},{"$f":"Raw_data!Q78 * $D$3","v":12.39952610916049},{"$f":"Raw_data!R78 * $D$3","v":12.061190765104881},{"$f":"Raw_data!S78 * $D$3","v":12.229188435848263},{"$f":"Raw_data!T78 * $D$3","v":14.042869098982663},{"$f":"Raw_data!U78 * $D$3","v":13.986099749548568},{"$f":"Raw_data!V78 * $D$3","v":14.143693259752524},null,null,null,null,null,null,null,null,null,null,null,null,null,null,null,null,null,null,null,null,null,null,null,null,null,null,null,null,null,null,null,null,null,null,null,null,null,null,null,null,null,null,null,null,null,null,null,null,null,null,null,null,null,null,null,null,null,null,null,null,null,null,null,null,null,null,null,null,null,null,null,null,null,null,null,null,null,null,null,null,null,null,null,null,null,null,null,null,null,null,null,null,null,null,null,null,null,"CRD - East central","PPI"]
[null,null,"Chisel 4-12 in",{"$f":"Raw_data!D79 * $D$3","v":12.591345657411935},{"$f":"Raw_data!E79 * $D$3","v":11.001854956956416},{"$f":"Raw_data!F79 * $D$3","v":10.30128447700325},{"$f":"Raw_data!G79 * $D$3","v":10.977361387643043},{"$f":"Raw_data!H79 * $D$3","v":12.847379128421196},{"$f":"Raw_data!I79 * $D$3","v":12.619202029029355},{"$f":"Raw_data!J79 * $D$3","v":12.839553275178931},{"$f":"Raw_data!K79 * $D$3","v":15.790452333187247},{"$f":"Raw_data!L79 * $D$3","v":15.092878369734523},{"$f":"Raw_data!M79 * $D$3","v":14.50428598241705},{"$f":"Raw_data!N79 * $D$3","v":10.645808456211073},{"$f":"Raw_data!O79 * $D$3","v":10.633951403922296},{"$f":"Raw_data!P79 * $D$3","v":10.755198228168824},{"$f":"Raw_data!Q79 * $D$3","v":12.847379128421196},{"$f":"Raw_data!R79 * $D$3","v":12.839553275178931},{"$f":"Raw_data!S79 * $D$3","v":12.843465605738421},{"$f":"Raw_data!T79 * $D$3","v":15.43772575439427},{"$f":"Raw_data!U79 * $D$3","v":14.795655584409506},{"$f":"Raw_data!V79 * $D$3","v":15.120088475369222},null,null,null,null,null,null,null,null,null,null,null,null,null,null,null,null,null,null,null,null,null,null,null,null,null,null,null,null,null,null,null,null,null,null,null,null,null,null,null,null,null,null,null,null,null,null,null,null,null,null,null,null,null,null,null,null,null,null,null,null,null,null,null,null,null,null,null,null,null,null,null,null,null,null,null,null,null,null,null,null,null,null,null,null,null,null,null,null,null,null,null,null,null,null,null,null,null,"CRD - East central","fuel"]
[null,null,"Springtooth harrow",{"$f":"Raw_data!D80 * $D$3","v":9.7026392240013344},{"$f":"Raw_data!E80 * $D$3","v":8.8041235730371881},{"$f":"Raw_data!F80 * $D$3","v":8.6253704484514078},{"$f":"Raw_data!G80 * $D$3","v":8.4767306394093751},{"$f":"Raw_data!H80 * $D$3","v":9.0910407342782786},{"$f":"Raw_data!I80 * $D$3","v":8.8305665614972408},{"$f":"Raw_data!J80 * $D$3","v":9.0380437374065608},{"$f":"Raw_data!K80 * $D$3","v":10.407243323472217},{"$f":"Raw_data!L80 * $D$3","v":10.499636949070414},{"$f":"Raw_data!M80 * $D$3","v":10.496861108638335},{"$f":"Raw_data!N80 * $D$3","v":8.7142886853367809},{"$f":"Raw_data!O80 * $D$3","v":8.5507275688472415},{"$f":"Raw_data!P80 * $D$3","v":8.6343720136207018},{"$f":"Raw_data!Q80 * $D$3","v":9.0910407342782786},{"$f":"Raw_data!R80 * $D$3","v":9.0380437374065608},{"$f":"Raw_data!S80 * $D$3","v":9.0645035040509399},{"$f":"Raw_data!T80 * $D$3","v":10.453338057151605},{"$f":"Raw_data!U80 * $D$3","v":10.498248937109429},{"$f":"Raw_data!V80 * $D$3","v":10.467825652909649},null,null,null,null,null,null,null,null,null,null,null,null,null,null,null,null,null,null,null,null,null,null,null,null,null,null,null,null,null,null,null,null,null,null,null,null,null,null,null,null,null,null,null,null,null,null,null,null,null,null,null,null,null,null,null,null,null,null,null,null,null,null,null,null,null,null,null,null,null,null,null,null,null,null,null,null,null,null,null,null,null,null,null,null,null,null,null,null,null,null,null,null,null,null,null,null,null,"CRD - East central","Adjustment factor"]
[null,null,"Field cultivate",{"$f":"Raw_data!D81 * $D$3","v":11.10765066921519},{"$f":"Raw_data!E81 * $D$3","v":10.736251233569213},{"$f":"Raw_data!F81 * $D$3","v":10.449957797541366},{"$f":"Raw_data!G81 * $D$3","v":11.334583464622808},{"$f":"Raw_data!H81 * $D$3","v":11.82433395460677},{"$f":"Raw_data!I81 * $D$3","v":10.508740737925775},{"$f":"Raw_data!J81 * $D$3","v":11.233509368455584},{"$f":"Raw_data!K81 * $D$3","v":13.672509807056244},{"$f":"Raw_data!L81 * $D$3","v":12.676054302915778},{"$f":"Raw_data!M81 * $D$3","v":11.92710103688507},{"$f":"Raw_data!N81 * $D$3","v":10.592137286430898},{"$f":"Raw_data!O81 * $D$3","v":10.883286215937652},{"$f":"Raw_data!P81 * $D$3","v":10.834052164916322},{"$f":"Raw_data!Q81 * $D$3","v":11.82433395460677},{"$f":"Raw_data!R81 * $D$3","v":11.233509368455584},{"$f":"Raw_data!S81 * $D$3","v":11.52513627922996},{"$f":"Raw_data!T81 * $D$3","v":13.164857643415491},{"$f":"Raw_data!U81 * $D$3","v":12.295876561673829},{"$f":"Raw_data!V81 * $D$3","v":12.738620832317757},null,null,null,null,null,null,null,null,null,null,null,null,null,null,null,null,null,null,null,null,null,null,null,null,null,null,null,null,null,null,null,null,null,null,null,null,null,null,null,null,null,null,null,null,null,null,null,null,null,null,null,null,null,null,null,null,null,null,null,null,null,null,null,null,null,null,null,null,null,null,null,null,null,null,null,null,null,null,null,null,null,null,null,null,null,null,null,null,null,null,null,null,null,null,null,null,null,"CRD - East central","RMSE"]
[null,null,"V-blade",{"$f":"Raw_data!D82 * $D$3","v":8.9273146411899393},{"$f":"Raw_data!E82 * $D$3","v":8.690979950277292},{"$f":"Raw_data!F82 * $D$3","v":8.0869161460520615},{"$f":"Raw_data!G82 * $D$3","v":9.0291890536422468},{"$f":"Raw_data!H82 * $D$3","v":10.329493240099492},{"$f":"Raw_data!I82 * $D$3","v":9.6019524912782934},{"$f":"Raw_data!J82 * $D$3","v":10.089496190545123},{"$f":"Raw_data!K82 * $D$3","v":8.7631999302686001},{"$f":"Raw_data!L82 * $D$3","v":8.7631999302686001},{"$f":"Raw_data!M82 * $D$3","v":8.7677720404350108},{"$f":"Raw_data!N82 * $D$3","v":8.3835091748570818},{"$f":"Raw_data!O82 * $D$3","v":8.5450742971408236},{"$f":"Raw_data!P82 * $D$3","v":8.5934352985604736},{"$f":"Raw_data!Q82 * $D$3","v":10.329493240099492},{"$f":"Raw_data!R82 * $D$3","v":10.089496190545123},{"$f":"Raw_data!S82 * $D$3","v":10.208789482413936},{"$f":"Raw_data!T82 * $D$3","v":8.7631999302686001},{"$f":"Raw_data!U82 * $D$3","v":8.7654856872480842},{"$f":"Raw_data!V82 * $D$3","v":8.764723702017271},null,null,null,null,null,null,null,null,null,null,null,null,null,null,null,null,null,null,null,null,null,null,null,null,null,null,null,null,null,null,null,null,null,null,null,null,null,null,null,null,null,null,null,null,null,null,null,null,null,null,null,null,null,null,null,null,null,null,null,null,null,null,null,null,null,null,null,null,null,null,null,null,null,null,null,null,null,null,null,null,null,null,null,null,null,null,null,null,null,null,null,null,null,null,null,null,null,"CRD - East central","LN adjustment"]
[null,"Fertillizer application","Row crop cultivation with fertilizer",{"$f":"Raw_data!D83 * $D$3","v":10.859070627337374},{"$f":"Raw_data!E83 * $D$3","v":12.464321822788133},{"$f":"Raw_data!F83 * $D$3","v":12.464321822788133},{"$f":"Raw_data!G83 * $D$3","v":12.464321822788133},{"$f":"Raw_data!H83 * $D$3","v":11.146614888436284},{"$f":"Raw_data!I83 * $D$3","v":11.146614888436277},{"$f":"Raw_data!J83 * $D$3","v":11.146614888436284},{"$f":"Raw_data!K83 * $D$3","v":11.57947574738786},{"$f":"Raw_data!L83 * $D$3","v":11.57947574738786},{"$f":"Raw_data!M83 * $D$3","v":11.57947574738786},{"$f":"Raw_data!N83 * $D$3","v":12.464321822788133},{"$f":"Raw_data!O83 * $D$3","v":12.464321822788133},{"$f":"Raw_data!P83 * $D$3","v":12.464321822788133},{"$f":"Raw_data!Q83 * $D$3","v":11.146614888436284},{"$f":"Raw_data!R83 * $D$3","v":11.146614888436284},{"$f":"Raw_data!S83 * $D$3","v":11.146614888436284},{"$f":"Raw_data!T83 * $D$3","v":11.57947574738786},{"$f":"Raw_data!U83 * $D$3","v":11.57947574738786},{"$f":"Raw_data!V83 * $D$3","v":11.57947574738786},null,null,null,null,null,null,null,null,null,null,null,null,null,null,null,null,null,null,null,null,null,null,null,null,null,null,null,null,null,null,null,null,null,null,null,null,null,null,null,null,null,null,null,null,null,null,null,null,null,null,null,null,null,null,null,null,null,null,null,null,null,null,null,null,null,null,null,null,null,null,null,null,null,null,null,null,null,null,null,null,null,null,null,null,null,null,null,null,null,null,null,null,null,null,null,null,null,"CRD - Southeast","Intercept"]
[null,null,"Dry fertilizer",{"$f":"Raw_data!D84 * $D$3","v":6.1947614097749897},{"$f":"Raw_data!E84 * $D$3","v":6.1342121476122546},{"$f":"Raw_data!F84 * $D$3","v":6.3912604472356049},{"$f":"Raw_data!G84 * $D$3","v":6.2193241530304082},{"$f":"Raw_data!H84 * $D$3","v":6.2246967053099054},{"$f":"Raw_data!I84 * $D$3","v":5.7376148643235165},{"$f":"Raw_data!J84 * $D$3","v":5.6073339504043584},{"$f":"Raw_data!K84 * $D$3","v":6.6736391648469997},{"$f":"Raw_data!L84 * $D$3","v":6.3122980684608336},{"$f":"Raw_data!M84 * $D$3","v":5.6209198656027768},{"$f":"Raw_data!N84 * $D$3","v":6.2614173694129649},{"$f":"Raw_data!O84 * $D$3","v":6.3047062158201088},{"$f":"Raw_data!P84 * $D$3","v":6.2473547374072291},{"$f":"Raw_data!Q84 * $D$3","v":6.2246967053099054},{"$f":"Raw_data!R84 * $D$3","v":5.6073339504043584},{"$f":"Raw_data!S84 * $D$3","v":5.9079567675004814},{"$f":"Raw_data!T84 * $D$3","v":6.4904544994837385},{"$f":"Raw_data!U84 * $D$3","v":5.9565864058718674},{"$f":"Raw_data!V84 * $D$3","v":6.1866071297680367},null,null,null,null,null,null,null,null,null,null,null,null,null,null,null,null,null,null,null,null,null,null,null,null,null,null,null,null,null,null,null,null,null,null,null,null,null,null,null,null,null,null,null,null,null,null,null,null,null,null,null,null,null,null,null,null,null,null,null,null,null,null,null,null,null,null,null,null,null,null,null,null,null,null,null,null,null,null,null,null,null,null,null,null,null,null,null,null,null,null,null,null,null,null,null,null,null,"CRD - Southeast","PPI"]
[null,null,"Liquid fertilizer",{"$f":"Raw_data!D85 * $D$3","v":6.3338411946206739},{"$f":"Raw_data!E85 * $D$3","v":6.6643146758748966},{"$f":"Raw_data!F85 * $D$3","v":6.3765852672990793},{"$f":"Raw_data!G85 * $D$3","v":6.824891693459274},{"$f":"Raw_data!H85 * $D$3","v":6.293706666160281},{"$f":"Raw_data!I85 * $D$3","v":5.8065502266960127},{"$f":"Raw_data!J85 * $D$3","v":5.7752461866102749},{"$f":"Raw_data!K85 * $D$3","v":6.9815701684708085},{"$f":"Raw_data!L85 * $D$3","v":6.8446101320026953},{"$f":"Raw_data!M85 * $D$3","v":6.1030817897888765},{"$f":"Raw_data!N85 * $D$3","v":6.5188626905947693},{"$f":"Raw_data!O85 * $D$3","v":6.5969313944760914},{"$f":"Raw_data!P85 * $D$3","v":6.6193164442487289},{"$f":"Raw_data!Q85 * $D$3","v":6.293706666160281},{"$f":"Raw_data!R85 * $D$3","v":5.7752461866102749},{"$f":"Raw_data!S85 * $D$3","v":6.0289058230648989},{"$f":"Raw_data!T85 * $D$3","v":6.9127509655999164},{"$f":"Raw_data!U85 * $D$3","v":6.4632202078244303},{"$f":"Raw_data!V85 * $D$3","v":6.6315798673362929},null,null,null,null,null,null,null,null,null,null,null,null,null,null,null,null,null,null,null,null,null,null,null,null,null,null,null,null,null,null,null,null,null,null,null,null,null,null,null,null,null,null,null,null,null,null,null,null,null,null,null,null,null,null,null,null,null,null,null,null,null,null,null,null,null,null,null,null,null,null,null,null,null,null,null,null,null,null,null,null,null,null,null,null,null,null,null,null,null,null,null,null,null,null,null,null,null,"CRD - Southeast","fuel"]
[null,null,"NH3 application",{"$f":"Raw_data!D86 * $D$3","v":14.516990213132793},{"$f":"Raw_data!E86 * $D$3","v":13.046668560431621},{"$f":"Raw_data!F86 * $D$3","v":11.707958306740201},{"$f":"Raw_data!G86 * $D$3","v":13.523956101246293},{"$f":"Raw_data!H86 * $D$3","v":12.976465834178066},{"$f":"Raw_data!I86 * $D$3","v":12.065765565483012},{"$f":"Raw_data!J86 * $D$3","v":10.510862201416909},{"$f":"Raw_data!K86 * $D$3","v":16.301842588375397},{"$f":"Raw_data!L86 * $D$3","v":14.172058631700388},{"$f":"Raw_data!M86 * $D$3","v":12.371678674967031},{"$f":"Raw_data!N86 * $D$3","v":12.359201088557121},{"$f":"Raw_data!O86 * $D$3","v":12.583239415014514},{"$f":"Raw_data!P86 * $D$3","v":12.735857263056802},{"$f":"Raw_data!Q86 * $D$3","v":12.976465834178066},{"$f":"Raw_data!R86 * $D$3","v":10.510862201416909},{"$f":"Raw_data!S86 * $D$3","v":11.678777514981562},{"$f":"Raw_data!T86 * $D$3","v":15.199693055032686},{"$f":"Raw_data!U86 * $D$3","v":13.241304903754454},{"$f":"Raw_data!V86 * $D$3","v":14.19164555274223},null,null,null,null,null,null,null,null,null,null,null,null,null,null,null,null,null,null,null,null,null,null,null,null,null,null,null,null,null,null,null,null,null,null,null,null,null,null,null,null,null,null,null,null,null,null,null,null,null,null,null,null,null,null,null,null,null,null,null,null,null,null,null,null,null,null,null,null,null,null,null,null,null,null,null,null,null,null,null,null,null,null,null,null,null,null,null,null,null,null,null,null,null,null,null,null,null,"CRD - Southeast","Adjustment factor"]
[null,null,"Ground herbicide",{"$f":"Raw_data!D87 * $D$3","v":6.2560013833386403},{"$f":"Raw_data!E87 * $D$3","v":6.1080302608492536},{"$f":"Raw_data!F87 * $D$3","v":5.9466020221355658},{"$f":"Raw_data!G87 * $D$3","v":6.268082956944216},{"$f":"Raw_data!H87 * $D$3","v":6.0807222542973269},{"$f":"Raw_data!I87 * $D$3","v":5.721793075928991},{"$f":"Raw_data!J87 * $D$3","v":5.779803996086482},{"$f":"Raw_data!K87 * $D$3","v":6.9218031541445262},{"$f":"Raw_data!L87 * $D$3","v":6.8221645190338531},{"$f":"Raw_data!M87 * $D$3","v":6.1550194436659664},{"$f":"Raw_data!N87 * $D$3","v":6.0267756802814052},{"$f":"Raw_data!O87 * $D$3","v":6.1052268415413993},{"$f":"Raw_data!P87 * $D$3","v":6.1061611716489779},{"$f":"Raw_data!Q87 * $D$3","v":6.0807222542973269},{"$f":"Raw_data!R87 * $D$3","v":5.779803996086482},{"$f":"Raw_data!S87 * $D$3","v":5.9283541379104285},{"$f":"Raw_data!T87 * $D$3","v":6.8718032484888134},{"$f":"Raw_data!U87 * $D$3","v":6.4800119801232965},{"$f":"Raw_data!V87 * $D$3","v":6.624050285491756},null,null,null,null,null,null,null,null,null,null,null,null,null,null,null,null,null,null,null,null,null,null,null,null,null,null,null,null,null,null,null,null,null,null,null,null,null,null,null,null,null,null,null,null,null,null,null,null,null,null,null,null,null,null,null,null,null,null,null,null,null,null,null,null,null,null,null,null,null,null,null,null,null,null,null,null,null,null,null,null,null,null,null,null,null,null,null,null,null,null,null,null,null,null,null,null,null,"CRD - Southeast","RMSE"]
[null,null,"Aerial herbicide",{"$f":"Raw_data!D88 * $D$3","v":7.5931123383228787},{"$f":"Raw_data!E88 * $D$3","v":6.7435649089958218},{"$f":"Raw_data!F88 * $D$3","v":6.3808126785310222},{"$f":"Raw_data!G88 * $D$3","v":6.4175239884066082},{"$f":"Raw_data!H88 * $D$3","v":6.6746244384303166},{"$f":"Raw_data!I88 * $D$3","v":6.3377957397392137},{"$f":"Raw_data!J88 * $D$3","v":6.8754979994335637},{"$f":"Raw_data!K88 * $D$3","v":7.8062219667445358},{"$f":"Raw_data!L88 * $D$3","v":8.0019280198011629},{"$f":"Raw_data!M88 * $D$3","v":8.1927468076147925},{"$f":"Raw_data!N88 * $D$3","v":6.5596817354058423},{"$f":"Raw_data!O88 * $D$3","v":6.399142007332097},{"$f":"Raw_data!P88 * $D$3","v":6.5119493309603751},{"$f":"Raw_data!Q88 * $D$3","v":6.6746244384303166},{"$f":"Raw_data!R88 * $D$3","v":6.8754979994335637},{"$f":"Raw_data!S88 * $D$3","v":6.774316716348415},{"$f":"Raw_data!T88 * $D$3","v":7.9034692562495019},{"$f":"Raw_data!U88 * $D$3","v":8.0967752987834185},{"$f":"Raw_data!V88 * $D$3","v":7.9987420216258087},null,null,null,null,null,null,null,null,null,null,null,null,null,null,null,null,null,null,null,null,null,null,null,null,null,null,null,null,null,null,null,null,null,null,null,null,null,null,null,null,null,null,null,null,null,null,null,null,null,null,null,null,null,null,null,null,null,null,null,null,null,null,null,null,null,null,null,null,null,null,null,null,null,null,null,null,null,null,null,null,null,null,null,null,null,null,null,null,null,null,null,null,null,null,null,null,null,"CRD - Southeast","LN adjustment"]
[null,null,"Ground insecticide",{"$f":"Raw_data!D89 * $D$3","v":6.2931436273051542},{"$f":"Raw_data!E89 * $D$3","v":6.2583812063916664},{"$f":"Raw_data!F89 * $D$3","v":5.9983876116323467},{"$f":"Raw_data!G89 * $D$3","v":6.2698028378839767},{"$f":"Raw_data!H89 * $D$3","v":6.1703877863501706},{"$f":"Raw_data!I89 * $D$3","v":5.8045338889833653},{"$f":"Raw_data!J89 * $D$3","v":5.8344676953308729},{"$f":"Raw_data!K89 * $D$3","v":6.9609813932908393},{"$f":"Raw_data!L89 * $D$3","v":7.1065281006601175},{"$f":"Raw_data!M89 * $D$3","v":6.1700918196340764},{"$f":"Raw_data!N89 * $D$3","v":6.1270054918607748},{"$f":"Raw_data!O89 * $D$3","v":6.1325938778090112},{"$f":"Raw_data!P89 * $D$3","v":6.1742395368275904},{"$f":"Raw_data!Q89 * $D$3","v":6.1703877863501706},{"$f":"Raw_data!R89 * $D$3","v":5.8344676953308729},{"$f":"Raw_data!S89 * $D$3","v":6.0000773500951006},{"$f":"Raw_data!T89 * $D$3","v":7.0333782693378613},{"$f":"Raw_data!U89 * $D$3","v":6.6217770197948465},{"$f":"Raw_data!V89 * $D$3","v":6.7329676196022339},null,null,null,null,null,null,null,null,null,null,null,null,null,null,null,null,null,null,null,null,null,null,null,null,null,null,null,null,null,null,null,null,null,null,null,null,null,null,null,null,null,null,null,null,null,null,null,null,null,null,null,null,null,null,null,null,null,null,null,null,null,null,null,null,null,null,null,null,null,null,null,null,null,null,null,null,null,null,null,null,null,null,null,null,null,null,null,null,null,null,null,null,null,null,null,null,null,"Northwest","Intercept"]
[null,null,"Aerial insecticide",{"$f":"Raw_data!D90 * $D$3","v":7.8168610698738101},{"$f":"Raw_data!E90 * $D$3","v":7.6216242592902299},{"$f":"Raw_data!F90 * $D$3","v":7.0010037048483085},{"$f":"Raw_data!G90 * $D$3","v":7.0145682185227587},{"$f":"Raw_data!H90 * $D$3","v":7.4060866076181844},{"$f":"Raw_data!I90 * $D$3","v":7.2129840607607987},{"$f":"Raw_data!J90 * $D$3","v":7.5993954554862899},{"$f":"Raw_data!K90 * $D$3","v":8.6830946112353757},{"$f":"Raw_data!L90 * $D$3","v":8.8769168063808443},{"$f":"Raw_data!M90 * $D$3","v":9.1447075022822109},{"$f":"Raw_data!N90 * $D$3","v":7.3047258453861303},{"$f":"Raw_data!O90 * $D$3","v":7.0077826796918465},{"$f":"Raw_data!P90 * $D$3","v":7.2066969813640194},{"$f":"Raw_data!Q90 * $D$3","v":7.4060866076181844},{"$f":"Raw_data!R90 * $D$3","v":7.5993954554862899},{"$f":"Raw_data!S90 * $D$3","v":7.5021184280756366},{"$f":"Raw_data!T90 * $D$3","v":8.779470854548709},{"$f":"Raw_data!U90 * $D$3","v":9.0098172965075118},{"$f":"Raw_data!V90 * $D$3","v":8.8995661179719416},null,null,null,null,null,null,null,null,null,null,null,null,null,null,null,null,null,null,null,null,null,null,null,null,null,null,null,null,null,null,null,null,null,null,null,null,null,null,null,null,null,null,null,null,null,null,null,null,null,null,null,null,null,null,null,null,null,null,null,null,null,null,null,null,null,null,null,null,null,null,null,null,null,null,null,null,null,null,null,null,null,null,null,null,null,null,null,null,null,null,null,null,null,null,null,null,null,"Northwest","PPI"]
[null,"Planting","Wheat, reg-till planting",{"$f":"Raw_data!D91 * $D$3","v":15.863618900420505},{"$f":"Raw_data!E91 * $D$3","v":14.993363708991566},{"$f":"Raw_data!F91 * $D$3","v":14.061066186158362},{"$f":"Raw_data!G91 * $D$3","v":15.271953297831953},{"$f":"Raw_data!H91 * $D$3","v":17.686858561206073},{"$f":"Raw_data!I91 * $D$3","v":15.999003831738476},{"$f":"Raw_data!J91 * $D$3","v":16.264518535436178},{"$f":"Raw_data!K91 * $D$3","v":18.801873880184271},{"$f":"Raw_data!L91 * $D$3","v":18.10229876484382},{"$f":"Raw_data!M91 * $D$3","v":16.083999234733305},{"$f":"Raw_data!N91 * $D$3","v":14.519734138932268},{"$f":"Raw_data!O91 * $D$3","v":14.654007851531153},{"$f":"Raw_data!P91 * $D$3","v":14.766264338171517},{"$f":"Raw_data!Q91 * $D$3","v":17.686858561206073},{"$f":"Raw_data!R91 * $D$3","v":16.264518535436178},{"$f":"Raw_data!S91 * $D$3","v":16.960785326817184},{"$f":"Raw_data!T91 * $D$3","v":18.448770645167905},{"$f":"Raw_data!U91 * $D$3","v":17.063333773933643},{"$f":"Raw_data!V91 * $D$3","v":17.624209057669471},null,null,null,null,null,null,null,null,null,null,null,null,null,null,null,null,null,null,null,null,null,null,null,null,null,null,null,null,null,null,null,null,null,null,null,null,null,null,null,null,null,null,null,null,null,null,null,null,null,null,null,null,null,null,null,null,null,null,null,null,null,null,null,null,null,null,null,null,null,null,null,null,null,null,null,null,null,null,null,null,null,null,null,null,null,null,null,null,null,null,null,null,null,null,null,null,null,"Northwest","fuel"]
[null,null,"Milo, reg-till planting",{"$f":"Raw_data!D92 * $D$3","v":18.245452620212195},{"$f":"Raw_data!E92 * $D$3","v":18.348219263095125},{"$f":"Raw_data!F92 * $D$3","v":17.609957140717039},{"$f":"Raw_data!G92 * $D$3","v":17.652874394076061},{"$f":"Raw_data!H92 * $D$3","v":18.753770535020891},{"$f":"Raw_data!I92 * $D$3","v":18.925235100655666},{"$f":"Raw_data!J92 * $D$3","v":19.656665415832045},{"$f":"Raw_data!K92 * $D$3","v":19.770472399901724},{"$f":"Raw_data!L92 * $D$3","v":18.576072672842574},{"$f":"Raw_data!M92 * $D$3","v":16.839284735654591},{"$f":"Raw_data!N92 * $D$3","v":17.975298462934827},{"$f":"Raw_data!O92 * $D$3","v":17.631402709090981},{"$f":"Raw_data!P92 * $D$3","v":17.867174698812612},{"$f":"Raw_data!Q92 * $D$3","v":18.753770535020891},{"$f":"Raw_data!R92 * $D$3","v":19.656665415832045},{"$f":"Raw_data!S92 * $D$3","v":19.199911267820884},{"$f":"Raw_data!T92 * $D$3","v":19.16396963254228},{"$f":"Raw_data!U92 * $D$3","v":17.686372635682119},{"$f":"Raw_data!V92 * $D$3","v":18.355442677499013},null,null,null,null,null,null,null,null,null,null,null,null,null,null,null,null,null,null,null,null,null,null,null,null,null,null,null,null,null,null,null,null,null,null,null,null,null,null,null,null,null,null,null,null,null,null,null,null,null,null,null,null,null,null,null,null,null,null,null,null,null,null,null,null,null,null,null,null,null,null,null,null,null,null,null,null,null,null,null,null,null,null,null,null,null,null,null,null,null,null,null,null,null,null,null,null,null,"Northwest","Adjustment factor"]
[null,null,"Corn, reg-till planting",{"$f":"Raw_data!D93 * $D$3","v":18.322715487479851},{"$f":"Raw_data!E93 * $D$3","v":17.824683600989289},{"$f":"Raw_data!F93 * $D$3","v":17.647723166976405},{"$f":"Raw_data!G93 * $D$3","v":18.240431555207163},{"$f":"Raw_data!H93 * $D$3","v":18.589234364438621},{"$f":"Raw_data!I93 * $D$3","v":19.599038543614299},{"$f":"Raw_data!J93 * $D$3","v":19.561337768178831},{"$f":"Raw_data!K93 * $D$3","v":19.5179925787853},{"$f":"Raw_data!L93 * $D$3","v":17.566016572525527},{"$f":"Raw_data!M93 * $D$3","v":16.755913827984749},{"$f":"Raw_data!N93 * $D$3","v":17.735982682930285},{"$f":"Raw_data!O93 * $D$3","v":17.941629985385298},{"$f":"Raw_data!P93 * $D$3","v":17.902562851981259},{"$f":"Raw_data!Q93 * $D$3","v":18.589234364438621},{"$f":"Raw_data!R93 * $D$3","v":19.561337768178831},{"$f":"Raw_data!S93 * $D$3","v":19.069092591275052},{"$f":"Raw_data!T93 * $D$3","v":18.516300416157012},{"$f":"Raw_data!U93 * $D$3","v":17.15618430742083},{"$f":"Raw_data!V93 * $D$3","v":17.909859750508307},null,null,null,null,null,null,null,null,null,null,null,null,null,null,null,null,null,null,null,null,null,null,null,null,null,null,null,null,null,null,null,null,null,null,null,null,null,null,null,null,null,null,null,null,null,null,null,null,null,null,null,null,null,null,null,null,null,null,null,null,null,null,null,null,null,null,null,null,null,null,null,null,null,null,null,null,null,null,null,null,null,null,null,null,null,null,null,null,null,null,null,null,null,null,null,null,null,"Northwest","RMSE"]
[null,null,"Soybeans, reg-till planting",{"$f":"Raw_data!D94 * $D$3","v":18.383177220998778},{"$f":"Raw_data!E94 * $D$3","v":18.074410014031336},{"$f":"Raw_data!F94 * $D$3","v":17.557026233254483},{"$f":"Raw_data!G94 * $D$3","v":17.758135518201005},{"$f":"Raw_data!H94 * $D$3","v":18.408214523020494},{"$f":"Raw_data!I94 * $D$3","v":18.547628583734653},{"$f":"Raw_data!J94 * $D$3","v":18.879905355511983},{"$f":"Raw_data!K94 * $D$3","v":19.317686886249259},{"$f":"Raw_data!L94 * $D$3","v":17.660856822316987},{"$f":"Raw_data!M94 * $D$3","v":16.325155815799178},{"$f":"Raw_data!N94 * $D$3","v":17.813839865872424},{"$f":"Raw_data!O94 * $D$3","v":17.65729455909776},{"$f":"Raw_data!P94 * $D$3","v":17.795252361959129},{"$f":"Raw_data!Q94 * $D$3","v":18.408214523020494},{"$f":"Raw_data!R94 * $D$3","v":18.879905355511983},{"$f":"Raw_data!S94 * $D$3","v":18.64256816961095},{"$f":"Raw_data!T94 * $D$3","v":18.470703891200213},{"$f":"Raw_data!U94 * $D$3","v":16.979877486744353},{"$f":"Raw_data!V94 * $D$3","v":17.725891054546629},null,null,null,null,null,null,null,null,null,null,null,null,null,null,null,null,null,null,null,null,null,null,null,null,null,null,null,null,null,null,null,null,null,null,null,null,null,null,null,null,null,null,null,null,null,null,null,null,null,null,null,null,null,null,null,null,null,null,null,null,null,null,null,null,null,null,null,null,null,null,null,null,null,null,null,null,null,null,null,null,null,null,null,null,null,null,null,null,null,null,null,null,null,null,null,null,null,"Northwest","LN adjustment"]
[null,null,"Grass seeding, reg-till",{"$f":"Raw_data!D95 * $D$3","v":18.55683710134732},{"$f":"Raw_data!E95 * $D$3","v":18.211008679666691},{"$f":"Raw_data!F95 * $D$3","v":17.352769436212963},{"$f":"Raw_data!G95 * $D$3","v":18.355021595987342},{"$f":"Raw_data!H95 * $D$3","v":18.852379490749602},{"$f":"Raw_data!I95 * $D$3","v":19.307410037372183},{"$f":"Raw_data!J95 * $D$3","v":17.758650042962437},{"$f":"Raw_data!K95 * $D$3","v":20.910513339494226},{"$f":"Raw_data!L95 * $D$3","v":22.06604943102063},{"$f":"Raw_data!M95 * $D$3","v":19.821582333772923},{"$f":"Raw_data!N95 * $D$3","v":17.776710461137885},{"$f":"Raw_data!O95 * $D$3","v":17.846861285724021},{"$f":"Raw_data!P95 * $D$3","v":17.967427420477353},{"$f":"Raw_data!Q95 * $D$3","v":18.852379490749602},{"$f":"Raw_data!R95 * $D$3","v":17.758650042962437},{"$f":"Raw_data!S95 * $D$3","v":18.297344338819801},{"$f":"Raw_data!T95 * $D$3","v":21.480512586465238},{"$f":"Raw_data!U95 * $D$3","v":20.913727921584968},{"$f":"Raw_data!V95 * $D$3","v":20.912656339316221},null,null,null,null,null,null,null,null,null,null,null,null,null,null,null,null,null,null,null,null,null,null,null,null,null,null,null,null,null,null,null,null,null,null,null,null,null,null,null,null,null,null,null,null,null,null,null,null,null,null,null,null,null,null,null,null,null,null,null,null,null,null,null,null,null,null,null,null,null,null,null,null,null,null,null,null,null,null,null,null,null,null,null,null,null,null,null,null,null,null,null,null,null,null,null,null,null,"Southwest","Intercept"]
[null,null,"Alfalfa seeding, reg-till",{"$f":"Raw_data!D96 * $D$3","v":18.723509288247165},{"$f":"Raw_data!E96 * $D$3","v":19.851336141823648},{"$f":"Raw_data!F96 * $D$3","v":19.07596450010708},{"$f":"Raw_data!G96 * $D$3","v":18.691448601920058},{"$f":"Raw_data!H96 * $D$3","v":19.84896881662948},{"$f":"Raw_data!I96 * $D$3","v":18.800217943406484},{"$f":"Raw_data!J96 * $D$3","v":17.876425346350139},{"$f":"Raw_data!K96 * $D$3","v":20.754350881117908},{"$f":"Raw_data!L96 * $D$3","v":22.427356290487712},{"$f":"Raw_data!M96 * $D$3","v":19.068545089472725},{"$f":"Raw_data!N96 * $D$3","v":19.459788886858995},{"$f":"Raw_data!O96 * $D$3","v":18.882727821631157},{"$f":"Raw_data!P96 * $D$3","v":19.200228765617503},{"$f":"Raw_data!Q96 * $D$3","v":19.84896881662948},{"$f":"Raw_data!R96 * $D$3","v":17.876425346350139},{"$f":"Raw_data!S96 * $D$3","v":18.836894894130214},{"$f":"Raw_data!T96 * $D$3","v":21.574643028069524},{"$f":"Raw_data!U96 * $D$3","v":20.679870760302894},{"$f":"Raw_data!V96 * $D$3","v":20.704667721646295},null,null,null,null,null,null,null,null,null,null,null,null,null,null,null,null,null,null,null,null,null,null,null,null,null,null,null,null,null,null,null,null,null,null,null,null,null,null,null,null,null,null,null,null,null,null,null,null,null,null,null,null,null,null,null,null,null,null,null,null,null,null,null,null,null,null,null,null,null,null,null,null,null,null,null,null,null,null,null,null,null,null,null,null,null,null,null,null,null,null,null,null,null,null,null,null,null,"Southwest","PPI"]
[null,null,"Sunflowers, reg-till planting",{"$f":"Raw_data!D97 * $D$3","v":18.317028811944692},{"$f":"Raw_data!E97 * $D$3","v":18.081174414540719},{"$f":"Raw_data!F97 * $D$3","v":17.60486321450102},{"$f":"Raw_data!G97 * $D$3","v":17.881995335709863},{"$f":"Raw_data!H97 * $D$3","v":18.583204138368231},{"$f":"Raw_data!I97 * $D$3","v":19.019020891291404},{"$f":"Raw_data!J97 * $D$3","v":19.362855837736845},{"$f":"Raw_data!K97 * $D$3","v":19.534506661829006},{"$f":"Raw_data!L97 * $D$3","v":17.928597951931813},{"$f":"Raw_data!M97 * $D$3","v":16.63858436566694},{"$f":"Raw_data!N97 * $D$3","v":17.841429380112036},{"$f":"Raw_data!O97 * $D$3","v":17.742888205912827},{"$f":"Raw_data!P97 * $D$3","v":17.854941129950323},{"$f":"Raw_data!Q97 * $D$3","v":18.799849673195649},{"$f":"Raw_data!R97 * $D$3","v":19.190168308094048},{"$f":"Raw_data!S97 * $D$3","v":18.985675559024966},{"$f":"Raw_data!T97 * $D$3","v":18.714334509387875},{"$f":"Raw_data!U97 * $D$3","v":17.271551452644264},{"$f":"Raw_data!V97 * $D$3","v":17.995132539847553},null,null,null,null,null,null,null,null,null,null,null,null,null,null,null,null,null,null,null,null,null,null,null,null,null,null,null,null,null,null,null,null,null,null,null,null,null,null,null,null,null,null,null,null,null,null,null,null,null,null,null,null,null,null,null,null,null,null,null,null,null,null,null,null,null,null,null,null,null,null,null,null,null,null,null,null,null,null,null,null,null,null,null,null,null,null,null,null,null,null,null,null,null,null,null,null,null,"Southwest","fuel"]
[null,null,"Wheat, min-till planting",{"$f":"Raw_data!D98 * $D$3","v":19.76613336745482},{"$f":"Raw_data!E98 * $D$3","v":19.975768145459149},{"$f":"Raw_data!F98 * $D$3","v":19.178912120892473},{"$f":"Raw_data!G98 * $D$3","v":19.592332385313902},{"$f":"Raw_data!H98 * $D$3","v":22.328737378308499},{"$f":"Raw_data!I98 * $D$3","v":22.663236884014836},{"$f":"Raw_data!J98 * $D$3","v":20.732197589288855},{"$f":"Raw_data!K98 * $D$3","v":24.899207943904081},{"$f":"Raw_data!L98 * $D$3","v":23.880550758963949},{"$f":"Raw_data!M98 * $D$3","v":22.761376104394355},{"$f":"Raw_data!N98 * $D$3","v":19.573285411731163},{"$f":"Raw_data!O98 * $D$3","v":19.384520140082159},{"$f":"Raw_data!P98 * $D$3","v":19.579632344614286},{"$f":"Raw_data!Q98 * $D$3","v":22.328737378308499},{"$f":"Raw_data!R98 * $D$3","v":20.732197589288855},{"$f":"Raw_data!S98 * $D$3","v":21.515663950862308},{"$f":"Raw_data!T98 * $D$3","v":24.384560671916972},{"$f":"Raw_data!U98 * $D$3","v":23.314248806359871},{"$f":"Raw_data!V98 * $D$3","v":23.831029009375484},null,null,null,null,null,null,null,null,null,null,null,null,null,null,null,null,null,null,null,null,null,null,null,null,null,null,null,null,null,null,null,null,null,null,null,null,null,null,null,null,null,null,null,null,null,null,null,null,null,null,null,null,null,null,null,null,null,null,null,null,null,null,null,null,null,null,null,null,null,null,null,null,null,null,null,null,null,null,null,null,null,null,null,null,null,null,null,null,null,null,null,null,null,null,null,null,null,"Southwest","Adjustment factor"]
[null,null,"Milo, minimum till",{"$f":"Raw_data!D99 * $D$3","v":20.670573343629965},{"$f":"Raw_data!E99 * $D$3","v":19.624327098618288},{"$f":"Raw_data!F99 * $D$3","v":18.839565147385272},{"$f":"Raw_data!G99 * $D$3","v":18.95270005957072},{"$f":"Raw_data!H99 * $D$3","v":20.748298572226236},{"$f":"Raw_data!I99 * $D$3","v":21.645405108881491},{"$f":"Raw_data!J99 * $D$3","v":21.641906245262408},{"$f":"Raw_data!K99 * $D$3","v":23.896948823680628},{"$f":"Raw_data!L99 * $D$3","v":22.568355614536117},{"$f":"Raw_data!M99 * $D$3","v":21.837325768795335},{"$f":"Raw_data!N99 * $D$3","v":19.227942917743796},{"$f":"Raw_data!O99 * $D$3","v":18.896047933129701},{"$f":"Raw_data!P99 * $D$3","v":19.13575400239219},{"$f":"Raw_data!Q99 * $D$3","v":20.748298572226236},{"$f":"Raw_data!R99 * $D$3","v":21.641906245262408},{"$f":"Raw_data!S99 * $D$3","v":21.190392456224796},{"$f":"Raw_data!T99 * $D$3","v":23.223153083834248},{"$f":"Raw_data!U99 * $D$3","v":22.199831837665943},{"$f":"Raw_data!V99 * $D$3","v":22.751704632293034},null,null,null,null,null,null,null,null,null,null,null,null,null,null,null,null,null,null,null,null,null,null,null,null,null,null,null,null,null,null,null,null,null,null,null,null,null,null,null,null,null,null,null,null,null,null,null,null,null,null,null,null,null,null,null,null,null,null,null,null,null,null,null,null,null,null,null,null,null,null,null,null,null,null,null,null,null,null,null,null,null,null,null,null,null,null,null,null,null,null,null,null,null,null,null,null,null,"Southwest","RMSE"]
[null,null,"Corn, minimum till",{"$f":"Raw_data!D100 * $D$3","v":20.582032293305279},{"$f":"Raw_data!E100 * $D$3","v":20.076121073567013},{"$f":"Raw_data!F100 * $D$3","v":19.37358277559656},{"$f":"Raw_data!G100 * $D$3","v":20.522229253443868},{"$f":"Raw_data!H100 * $D$3","v":21.001268086269675},{"$f":"Raw_data!I100 * $D$3","v":22.163727785059503},{"$f":"Raw_data!J100 * $D$3","v":21.932441140931878},{"$f":"Raw_data!K100 * $D$3","v":23.333198490527998},{"$f":"Raw_data!L100 * $D$3","v":22.180394657077017},{"$f":"Raw_data!M100 * $D$3","v":21.035060211920818},{"$f":"Raw_data!N100 * $D$3","v":19.721723896040444},{"$f":"Raw_data!O100 * $D$3","v":19.939636585990424},{"$f":"Raw_data!P100 * $D$3","v":19.985028005853533},{"$f":"Raw_data!Q100 * $D$3","v":21.001268086269675},{"$f":"Raw_data!R100 * $D$3","v":21.932441140931878},{"$f":"Raw_data!S100 * $D$3","v":21.46180505425955},{"$f":"Raw_data!T100 * $D$3","v":22.749495623679749},{"$f":"Raw_data!U100 * $D$3","v":21.600137433261423},{"$f":"Raw_data!V100 * $D$3","v":22.1630283220885},null,null,null,null,null,null,null,null,null,null,null,null,null,null,null,null,null,null,null,null,null,null,null,null,null,null,null,null,null,null,null,null,null,null,null,null,null,null,null,null,null,null,null,null,null,null,null,null,null,null,null,null,null,null,null,null,null,null,null,null,null,null,null,null,null,null,null,null,null,null,null,null,null,null,null,null,null,null,null,null,null,null,null,null,null,null,null,null,null,null,null,null,null,null,null,null,null,"Southwest","LN adjustment"]
[null,null,"Soybeans, minimum till",{"$f":"Raw_data!D101 * $D$3","v":20.877954711816592},{"$f":"Raw_data!E101 * $D$3","v":20.968237368958782},{"$f":"Raw_data!F101 * $D$3","v":20.259863592111881},{"$f":"Raw_data!G101 * $D$3","v":21.470094667613655},{"$f":"Raw_data!H101 * $D$3","v":21.500101253372165},{"$f":"Raw_data!I101 * $D$3","v":22.9084902943872},{"$f":"Raw_data!J101 * $D$3","v":22.239748314852868},{"$f":"Raw_data!K101 * $D$3","v":24.52411001172695},{"$f":"Raw_data!L101 * $D$3","v":22.433805726393459},{"$f":"Raw_data!M101 * $D$3","v":22.34706312696494},{"$f":"Raw_data!N101 * $D$3","v":20.611007468392415},{"$f":"Raw_data!O101 * $D$3","v":20.856202657137306},{"$f":"Raw_data!P101 * $D$3","v":20.893480890520905},{"$f":"Raw_data!Q101 * $D$3","v":21.500101253372165},{"$f":"Raw_data!R101 * $D$3","v":22.239748314852868},{"$f":"Raw_data!S101 * $D$3","v":21.866797676359802},{"$f":"Raw_data!T101 * $D$3","v":23.455684164308426},{"$f":"Raw_data!U101 * $D$3","v":22.390392420540049},{"$f":"Raw_data!V101 * $D$3","v":23.08016390675677},null,null,null,null,null,null,null,null,null,null,null,null,null,null,null,null,null,null,null,null,null,null,null,null,null,null,null,null,null,null,null,null,null,null,null,null,null,null,null,null,null,null,null,null,null,null,null,null,null,null,null,null,null,null,null,null,null,null,null,null,null,null,null,null,null,null,null,null,null,null,null,null,null,null,null,null,null,null,null,null,null,null,null,null,null,null,null,null,null,null,null,null,null,null,null,null,null,"West","Intercept"]
[null,null,"Sunflowers, minimum till",{"$f":"Raw_data!D102 * $D$3","v":20.709817122251362},{"$f":"Raw_data!E102 * $D$3","v":20.21524241408822},{"$f":"Raw_data!F102 * $D$3","v":19.482255295207093},{"$f":"Raw_data!G102 * $D$3","v":20.2881904641803},{"$f":"Raw_data!H102 * $D$3","v":21.08092305452401},{"$f":"Raw_data!I102 * $D$3","v":22.233190228561799},{"$f":"Raw_data!J102 * $D$3","v":21.936680134897571},{"$f":"Raw_data!K102 * $D$3","v":23.913149573284745},{"$f":"Raw_data!L102 * $D$3","v":22.393612843718294},{"$f":"Raw_data!M102 * $D$3","v":21.733083145099645},{"$f":"Raw_data!N102 * $D$3","v":19.845365039871787},{"$f":"Raw_data!O102 * $D$3","v":19.881139456805457},{"$f":"Raw_data!P102 * $D$3","v":19.991889023841207},{"$f":"Raw_data!Q102 * $D$3","v":21.649391965247116},{"$f":"Raw_data!R102 * $D$3","v":22.084437561828253},{"$f":"Raw_data!S102 * $D$3","v":21.744734192388133},{"$f":"Raw_data!T102 * $D$3","v":23.140912112923861},{"$f":"Raw_data!U102 * $D$3","v":22.060875999191335},{"$f":"Raw_data!V102 * $D$3","v":22.661784001033805},null,null,null,null,null,null,null,null,null,null,null,null,null,null,null,null,null,null,null,null,null,null,null,null,null,null,null,null,null,null,null,null,null,null,null,null,null,null,null,null,null,null,null,null,null,null,null,null,null,null,null,null,null,null,null,null,null,null,null,null,null,null,null,null,null,null,null,null,null,null,null,null,null,null,null,null,null,null,null,null,null,null,null,null,null,null,null,null,null,null,null,null,null,null,null,null,null,"West","PPI"]
[null,"Harvesting","Wheat (base)",{"$f":"Raw_data!D103 * $D$3","v":22.280879848444922},{"$f":"Raw_data!E103 * $D$3","v":21.378599710639367},{"$f":"Raw_data!F103 * $D$3","v":21.160383863399385},{"$f":"Raw_data!G103 * $D$3","v":20.918989589335052},{"$f":"Raw_data!H103 * $D$3","v":21.4887821105889},{"$f":"Raw_data!I103 * $D$3","v":21.43319615342898},{"$f":"Raw_data!J103 * $D$3","v":21.467507852630675},{"$f":"Raw_data!K103 * $D$3","v":26.075197246021876},{"$f":"Raw_data!L103 * $D$3","v":27.079102571703153},{"$f":"Raw_data!M103 * $D$3","v":24.490970133896436},{"$f":"Raw_data!N103 * $D$3","v":21.269211935073852},{"$f":"Raw_data!O103 * $D$3","v":21.039340525424869},{"$f":"Raw_data!P103 * $D$3","v":21.151824468816152},{"$f":"Raw_data!Q103 * $D$3","v":21.4887821105889},{"$f":"Raw_data!R103 * $D$3","v":21.467507852630675},{"$f":"Raw_data!S103 * $D$3","v":21.478142347571325},{"$f":"Raw_data!T103 * $D$3","v":26.572409390238175},{"$f":"Raw_data!U103 * $D$3","v":25.752543414899812},{"$f":"Raw_data!V103 * $D$3","v":25.859648622258103},null,null,null,null,null,null,null,null,null,null,null,null,null,null,null,null,null,null,null,null,null,null,null,null,null,null,null,null,null,null,null,null,null,null,null,null,null,null,null,null,null,null,null,null,null,null,null,null,null,null,null,null,null,null,null,null,null,null,null,null,null,null,null,null,null,null,null,null,null,null,null,null,null,null,null,null,null,null,null,null,null,null,null,null,null,null,null,null,null,null,null,null,null,null,null,null,null,"West","fuel"]
[null,null,"Wheat (extra charge for high yield) - $/bu",{"$f":"Raw_data!D104 * $D$3 /100","v":0.21620842810196758},{"$f":"Raw_data!E104 * $D$3 /100","v":0.21889246430208728},{"$f":"Raw_data!F104 * $D$3 /100","v":0.21049638159831133},{"$f":"Raw_data!G104 * $D$3 /100","v":0.20912508511776115},{"$f":"Raw_data!H104 * $D$3 /100","v":0.21153907488716991},{"$f":"Raw_data!I104 * $D$3 /100","v":0.21104477275664521},{"$f":"Raw_data!J104 * $D$3 /100","v":0.21286700026375929},{"$f":"Raw_data!K104 * $D$3 /100","v":0.21523807090056007},{"$f":"Raw_data!L104 * $D$3 /100","v":0.2081740089410001},{"$f":"Raw_data!M104 * $D$3 /100","v":0.20728126308827519},{"$f":"Raw_data!N104 * $D$3 /100","v":0.21465337568910337},{"$f":"Raw_data!O104 * $D$3 /100","v":0.2098096130274493},{"$f":"Raw_data!P104 * $D$3 /100","v":0.21279456203488539},{"$f":"Raw_data!Q104 * $D$3 /100","v":0.21153907488716991},{"$f":"Raw_data!R104 * $D$3 /100","v":0.21286700026375929},{"$f":"Raw_data!S104 * $D$3 /100","v":0.21220199883555074},{"$f":"Raw_data!T104 * $D$3 /100","v":0.21167657427334097},{"$f":"Raw_data!U104 * $D$3 /100","v":0.20772715642265072},{"$f":"Raw_data!V104 * $D$3 /100","v":0.21020121131457331},null,null,null,null,null,null,null,null,null,null,null,null,null,null,null,null,null,null,null,null,null,null,null,null,null,null,null,null,null,null,null,null,null,null,null,null,null,null,null,null,null,null,null,null,null,null,null,null,null,null,null,null,null,null,null,null,null,null,null,null,null,null,null,null,null,null,null,null,null,null,null,null,null,null,null,null,null,null,null,null,null,null,null,null,null,null,null,null,null,null,null,null,null,null,null,null,null,"West","Adjustment factor"]
[null,null,"Milo (base)",{"$f":"Raw_data!D105 * $D$3","v":22.683590518942427},{"$f":"Raw_data!E105 * $D$3","v":22.505887642460628},{"$f":"Raw_data!F105 * $D$3","v":22.098243414986346},{"$f":"Raw_data!G105 * $D$3","v":21.978888391688223},{"$f":"Raw_data!H105 * $D$3","v":22.757299419985461},{"$f":"Raw_data!I105 * $D$3","v":22.233207255738634},{"$f":"Raw_data!J105 * $D$3","v":22.815993000940306},{"$f":"Raw_data!K105 * $D$3","v":28.412414913083673},{"$f":"Raw_data!L105 * $D$3","v":28.728152234109491},{"$f":"Raw_data!M105 * $D$3","v":25.769596853587132},{"$f":"Raw_data!N105 * $D$3","v":22.301134127963827},{"$f":"Raw_data!O105 * $D$3","v":22.038485103798401},{"$f":"Raw_data!P105 * $D$3","v":22.193197314449137},{"$f":"Raw_data!Q105 * $D$3","v":22.757299419985461},{"$f":"Raw_data!R105 * $D$3","v":22.815993000940306},{"$f":"Raw_data!S105 * $D$3","v":22.786627312673676},{"$f":"Raw_data!T105 * $D$3","v":28.569847408793596},{"$f":"Raw_data!U105 * $D$3","v":27.208691652144545},{"$f":"Raw_data!V105 * $D$3","v":27.604156991612363},null,null,null,null,null,null,null,null,null,null,null,null,null,null,null,null,null,null,null,null,null,null,null,null,null,null,null,null,null,null,null,null,null,null,null,null,null,null,null,null,null,null,null,null,null,null,null,null,null,null,null,null,null,null,null,null,null,null,null,null,null,null,null,null,null,null,null,null,null,null,null,null,null,null,null,null,null,null,null,null,null,null,null,null,null,null,null,null,null,null,null,null,null,null,null,null,null,"West","RMSE"]
[null,null,"Milo (extra charge for high yield) - $/bu",{"$f":"Raw_data!D106 * $D$3 /100","v":0.22050481400032484},{"$f":"Raw_data!E106 * $D$3 /100","v":0.22653488102598091},{"$f":"Raw_data!F106 * $D$3 /100","v":0.22385318682746491},{"$f":"Raw_data!G106 * $D$3 /100","v":0.22435793307463187},{"$f":"Raw_data!H106 * $D$3 /100","v":0.22453586693356634},{"$f":"Raw_data!I106 * $D$3 /100","v":0.22288523619775283},{"$f":"Raw_data!J106 * $D$3 /100","v":0.22267157659054287},{"$f":"Raw_data!K106 * $D$3 /100","v":0.21537329020183321},{"$f":"Raw_data!L106 * $D$3 /100","v":0.21478296958259627},{"$f":"Raw_data!M106 * $D$3 /100","v":0.21460052181864367},{"$f":"Raw_data!N106 * $D$3 /100","v":0.22519004206502211},{"$f":"Raw_data!O106 * $D$3 /100","v":0.22410541784789459},{"$f":"Raw_data!P106 * $D$3 /100","v":0.22491233005847044},{"$f":"Raw_data!Q106 * $D$3 /100","v":0.22453586693356634},{"$f":"Raw_data!R106 * $D$3 /100","v":0.22267157659054287},{"$f":"Raw_data!S106 * $D$3 /100","v":0.22360177881944707},{"$f":"Raw_data!T106 * $D$3 /100","v":0.21507792736197737},{"$f":"Raw_data!U106 * $D$3 /100","v":0.21469172631981664},{"$f":"Raw_data!V106 * $D$3 /100","v":0.21491867429205802},null,null,null,null,null,null,null,null,null,null,null,null,null,null,null,null,null,null,null,null,null,null,null,null,null,null,null,null,null,null,null,null,null,null,null,null,null,null,null,null,null,null,null,null,null,null,null,null,null,null,null,null,null,null,null,null,null,null,null,null,null,null,null,null,null,null,null,null,null,null,null,null,null,null,null,null,null,null,null,null,null,null,null,null,null,null,null,null,null,null,null,null,null,null,null,null,null,"West","LN adjustment"]
[null,null,"Corn (base)",{"$f":"Raw_data!D107 * $D$3","v":28.923403634269992},{"$f":"Raw_data!E107 * $D$3","v":27.669459246139937},{"$f":"Raw_data!F107 * $D$3","v":27.595419243302199},{"$f":"Raw_data!G107 * $D$3","v":27.591516003508641},{"$f":"Raw_data!H107 * $D$3","v":29.139958832682339},{"$f":"Raw_data!I107 * $D$3","v":27.98777484882104},{"$f":"Raw_data!J107 * $D$3","v":29.776908160026327},{"$f":"Raw_data!K107 * $D$3","v":30.902414216900777},{"$f":"Raw_data!L107 * $D$3","v":29.61552677734311},{"$f":"Raw_data!M107 * $D$3","v":28.366604813925488},{"$f":"Raw_data!N107 * $D$3","v":27.632414446310989},{"$f":"Raw_data!O107 * $D$3","v":27.593467554388578},{"$f":"Raw_data!P107 * $D$3","v":27.618774900579815},{"$f":"Raw_data!Q107 * $D$3","v":29.139958832682339},{"$f":"Raw_data!R107 * $D$3","v":29.776908160026327},{"$f":"Raw_data!S107 * $D$3","v":29.456711933746622},{"$f":"Raw_data!T107 * $D$3","v":30.252128449502237},{"$f":"Raw_data!U107 * $D$3","v":28.984339641418629},{"$f":"Raw_data!V107 * $D$3","v":29.610091080824002},null,null,null,null,null,null,null,null,null,null,null,null,null,null,null,null,null,null,null,null,null,null,null,null,null,null,null,null,null,null,null,null,null,null,null,null,null,null,null,null,null,null,null,null,null,null,null,null,null,null,null,null,null,null,null,null,null,null,null,null,null,null,null,null,null,null,null,null,null,null,null,null,null,null,null,null,null,null,null,null,null,null,null,null,null,null,null,null,null,null,null,null,null,null,null,null,null,"North central","Intercept"]
[null,null,"Corn  (extra charge for high yield) - $/bu",{"$f":"Raw_data!D108 * $D$3 /100","v":0.24864301068254618},{"$f":"Raw_data!E108 * $D$3 /100","v":0.24176688922046261},{"$f":"Raw_data!F108 * $D$3 /100","v":0.24204062307307123},{"$f":"Raw_data!G108 * $D$3 /100","v":0.2387893436674631},{"$f":"Raw_data!H108 * $D$3 /100","v":0.23706507029601401},{"$f":"Raw_data!I108 * $D$3 /100","v":0.22717096661583208},{"$f":"Raw_data!J108 * $D$3 /100","v":0.24037145533584223},{"$f":"Raw_data!K108 * $D$3 /100","v":0.19800559832780046},{"$f":"Raw_data!L108 * $D$3 /100","v":0.17006510827960086},{"$f":"Raw_data!M108 * $D$3 /100","v":0.19692034742205883},{"$f":"Raw_data!N108 * $D$3 /100","v":0.24190371742773814},{"$f":"Raw_data!O108 * $D$3 /100","v":0.24040948717652952},{"$f":"Raw_data!P108 * $D$3 /100","v":0.24086110561073279},{"$f":"Raw_data!Q108 * $D$3 /100","v":0.23706507029601401},{"$f":"Raw_data!R108 * $D$3 /100","v":0.24037145533584223},{"$f":"Raw_data!S108 * $D$3 /100","v":0.23871253833082601},{"$f":"Raw_data!T108 * $D$3 /100","v":0.18350434196384618},{"$f":"Raw_data!U108 * $D$3 /100","v":0.18300076559071743},{"$f":"Raw_data!V108 * $D$3 /100","v":0.18787158278743488},null,null,null,null,null,null,null,null,null,null,null,null,null,null,null,null,null,null,null,null,null,null,null,null,null,null,null,null,null,null,null,null,null,null,null,null,null,null,null,null,null,null,null,null,null,null,null,null,null,null,null,null,null,null,null,null,null,null,null,null,null,null,null,null,null,null,null,null,null,null,null,null,null,null,null,null,null,null,null,null,null,null,null,null,null,null,null,null,null,null,null,null,null,null,null,null,null,"North central","PPI"]
[null,null,"Soybeans (base)",{"$f":"Raw_data!D109 * $D$3","v":27.672420373067911},{"$f":"Raw_data!E109 * $D$3","v":27.807543400796039},{"$f":"Raw_data!F109 * $D$3","v":27.978542964184157},{"$f":"Raw_data!G109 * $D$3","v":29.581122828462291},{"$f":"Raw_data!H109 * $D$3","v":28.250880933996491},{"$f":"Raw_data!I109 * $D$3","v":26.540850713608332},{"$f":"Raw_data!J109 * $D$3","v":28.100272320106519},{"$f":"Raw_data!K109 * $D$3","v":28.73493734862339},{"$f":"Raw_data!L109 * $D$3","v":26.810692296588687},{"$f":"Raw_data!M109 * $D$3","v":24.599021003116622},{"$f":"Raw_data!N109 * $D$3","v":27.892912142112159},{"$f":"Raw_data!O109 * $D$3","v":28.76867595119646},{"$f":"Raw_data!P109 * $D$3","v":28.444662871194328},{"$f":"Raw_data!Q109 * $D$3","v":28.250880933996491},{"$f":"Raw_data!R109 * $D$3","v":28.100272320106519},{"$f":"Raw_data!S109 * $D$3","v":28.175475994705156},{"$f":"Raw_data!T109 * $D$3","v":27.75614460647774},{"$f":"Raw_data!U109 * $D$3","v":25.681058835489537},{"$f":"Raw_data!V109 * $D$3","v":26.661139180868272},null,null,null,null,null,null,null,null,null,null,null,null,null,null,null,null,null,null,null,null,null,null,null,null,null,null,null,null,null,null,null,null,null,null,null,null,null,null,null,null,null,null,null,null,null,null,null,null,null,null,null,null,null,null,null,null,null,null,null,null,null,null,null,null,null,null,null,null,null,null,null,null,null,null,null,null,null,null,null,null,null,null,null,null,null,null,null,null,null,null,null,null,null,null,null,null,null,"North central","fuel"]
[null,null,"Soybeans  (extra charge for high yield) - $/bu",{"$f":"Raw_data!D110 * $D$3 /100","v":0.20464949835188559},{"$f":"Raw_data!E110 * $D$3 /100","v":0.20805916461608615},{"$f":"Raw_data!F110 * $D$3 /100","v":0.20928432458465263},{"$f":"Raw_data!G110 * $D$3 /100","v":0.21036158550862574},{"$f":"Raw_data!H110 * $D$3 /100","v":0.21725523699673741},{"$f":"Raw_data!I110 * $D$3 /100","v":0.20637695526409142},{"$f":"Raw_data!J110 * $D$3 /100","v":0.21178061469200501},{"$f":"Raw_data!K110 * $D$3 /100","v":0.21618680881337812},{"$f":"Raw_data!L110 * $D$3 /100","v":0.20701661927835521},{"$f":"Raw_data!M110 * $D$3 /100","v":0.21911887902820038},{"$f":"Raw_data!N110 * $D$3 /100","v":0.20867084544881837},{"$f":"Raw_data!O110 * $D$3 /100","v":0.20982226369413087},{"$f":"Raw_data!P110 * $D$3 /100","v":0.2092329101617823},{"$f":"Raw_data!Q110 * $D$3 /100","v":0.21725523699673741},{"$f":"Raw_data!R110 * $D$3 /100","v":0.21178061469200501},{"$f":"Raw_data!S110 * $D$3 /100","v":0.21450046069000944},{"$f":"Raw_data!T110 * $D$3 /100","v":0.21155203211768522},{"$f":"Raw_data!U110 * $D$3 /100","v":0.21298180569354028},{"$f":"Raw_data!V110 * $D$3 /100","v":0.2140448255693494},null,null,null,null,null,null,null,null,null,null,null,null,null,null,null,null,null,null,null,null,null,null,null,null,null,null,null,null,null,null,null,null,null,null,null,null,null,null,null,null,null,null,null,null,null,null,null,null,null,null,null,null,null,null,null,null,null,null,null,null,null,null,null,null,null,null,null,null,null,null,null,null,null,null,null,null,null,null,null,null,null,null,null,null,null,null,null,null,null,null,null,null,null,null,null,null,null,"North central","Adjustment factor"]
[null,null,"Sunflower (base)",{"$f":"Raw_data!D111 * $D$3","v":31.866991567203353},{"$f":"Raw_data!E111 * $D$3","v":31.381318072816526},{"$f":"Raw_data!F111 * $D$3","v":31.228930074297452},{"$f":"Raw_data!G111 * $D$3","v":31.157366981324543},{"$f":"Raw_data!H111 * $D$3","v":32.020453390425324},{"$f":"Raw_data!I111 * $D$3","v":31.857488566096364},{"$f":"Raw_data!J111 * $D$3","v":32.557891166452549},{"$f":"Raw_data!K111 * $D$3","v":32.29951489101245},{"$f":"Raw_data!L111 * $D$3","v":32.420312901396201},{"$f":"Raw_data!M111 * $D$3","v":31.804718760590227},{"$f":"Raw_data!N111 * $D$3","v":31.305031348575021},{"$f":"Raw_data!O111 * $D$3","v":31.193128005363604},{"$f":"Raw_data!P111 * $D$3","v":31.255732297610141},{"$f":"Raw_data!Q111 * $D$3","v":32.020453390425324},{"$f":"Raw_data!R111 * $D$3","v":32.557891166452549},{"$f":"Raw_data!S111 * $D$3","v":32.28805408484606},{"$f":"Raw_data!T111 * $D$3","v":32.359857529506058},{"$f":"Raw_data!U111 * $D$3","v":32.111040686331563},{"$f":"Raw_data!V111 * $D$3","v":32.173742904883767},null,null,null,null,null,null,null,null,null,null,null,null,null,null,null,null,null,null,null,null,null,null,null,null,null,null,null,null,null,null,null,null,null,null,null,null,null,null,null,null,null,null,null,null,null,null,null,null,null,null,null,null,null,null,null,null,null,null,null,null,null,null,null,null,null,null,null,null,null,null,null,null,null,null,null,null,null,null,null,null,null,null,null,null,null,null,null,null,null,null,null,null,null,null,null,null,null,"North central","RMSE"]
[null,null,"Sunflower (extra charge for high yield)-$/cwt",{"$f":"Raw_data!D112 * $D$3 /100","v":0.28266672983030011},{"$f":"Raw_data!E112 * $D$3 /100","v":0.28806325226775342},{"$f":"Raw_data!F112 * $D$3 /100","v":0.2886596851722289},{"$f":"Raw_data!G112 * $D$3 /100","v":0.2886596851722289},{"$f":"Raw_data!H112 * $D$3 /100","v":0.28904115278064002},{"$f":"Raw_data!I112 * $D$3 /100","v":0.28904115278062242},{"$f":"Raw_data!J112 * $D$3 /100","v":0.28904115278064002},{"$f":"Raw_data!K112 * $D$3 /100","v":0.28904115278064002},{"$f":"Raw_data!L112 * $D$3 /100","v":0.28904115278064002},{"$f":"Raw_data!M112 * $D$3 /100","v":0.28904115278064002},{"$f":"Raw_data!N112 * $D$3 /100","v":0.28836131451582975},{"$f":"Raw_data!O112 * $D$3 /100","v":0.2886596851722289},{"$f":"Raw_data!P112 * $D$3 /100","v":0.288460737117955},{"$f":"Raw_data!Q112 * $D$3 /100","v":0.28904115278064002},{"$f":"Raw_data!R112 * $D$3 /100","v":0.28904115278064002},{"$f":"Raw_data!S112 * $D$3 /100","v":0.28904115278064002},{"$f":"Raw_data!T112 * $D$3 /100","v":0.28904115278064002},{"$f":"Raw_data!U112 * $D$3 /100","v":0.28904115278064002},{"$f":"Raw_data!V112 * $D$3 /100","v":0.28904115278064002},null,null,null,null,null,null,null,null,null,null,null,null,null,null,null,null,null,null,null,null,null,null,null,null,null,null,null,null,null,null,null,null,null,null,null,null,null,null,null,null,null,null,null,null,null,null,null,null,null,null,null,null,null,null,null,null,null,null,null,null,null,null,null,null,null,null,null,null,null,null,null,null,null,null,null,null,null,null,null,null,null,null,null,null,null,null,null,null,null,null,null,null,null,null,null,null,null,"North central","LN adjustment"]
[null,null,"Silage (base)",{"$f":"Raw_data!D113 * $D$3","v":7.8047585498089092},{"$f":"Raw_data!E113 * $D$3","v":7.924956069702211},{"$f":"Raw_data!F113 * $D$3","v":8.0791827160560032},{"$f":"Raw_data!G113 * $D$3","v":8.0868342799937114},{"$f":"Raw_data!H113 * $D$3","v":7.8386023316013995},{"$f":"Raw_data!I113 * $D$3","v":8.0954720737657784},{"$f":"Raw_data!J113 * $D$3","v":8.5022262546656879},{"$f":"Raw_data!K113 * $D$3","v":8.2953305660125771},{"$f":"Raw_data!L113 * $D$3","v":7.88593713431161},{"$f":"Raw_data!M113 * $D$3","v":8.2177187134329071},{"$f":"Raw_data!N113 * $D$3","v":8.0016978263266427},{"$f":"Raw_data!O113 * $D$3","v":8.0830075926312475},{"$f":"Raw_data!P113 * $D$3","v":8.0299765866577406},{"$f":"Raw_data!Q113 * $D$3","v":7.8386023316013995},{"$f":"Raw_data!R113 * $D$3","v":8.5022262546656879},{"$f":"Raw_data!S113 * $D$3","v":8.1636738386357059},{"$f":"Raw_data!T113 * $D$3","v":8.0880439756413676},{"$f":"Raw_data!U113 * $D$3","v":8.0501188290352168},{"$f":"Raw_data!V113 * $D$3","v":8.1310399173268042},null,null,null,null,null,null,null,null,null,null,null,null,null,null,null,null,null,null,null,null,null,null,null,null,null,null,null,null,null,null,null,null,null,null,null,null,null,null,null,null,null,null,null,null,null,null,null,null,null,null,null,null,null,null,null,null,null,null,null,null,null,null,null,null,null,null,null,null,null,null,null,null,null,null,null,null,null,null,null,null,null,null,null,null,null,null,null,null,null,null,null,null,null,null,null,null,null,"South central","Intercept"]
[null,"Hauling","Wheat - hauling - $/bu",{"$f":"Raw_data!D114/100*$D$3","v":0.20510483207271218},{"$f":"Raw_data!E114/100*$D$3","v":0.20892114655748795},{"$f":"Raw_data!F114/100*$D$3","v":0.20958141155294185},{"$f":"Raw_data!G114/100*$D$3","v":0.20663817857827349},{"$f":"Raw_data!H114/100*$D$3","v":0.20699599859507781},{"$f":"Raw_data!I114/100*$D$3","v":0.20600870849679412},{"$f":"Raw_data!J114/100*$D$3","v":0.20683797731188944},{"$f":"Raw_data!K114/100*$D$3","v":0.20895171870924573},{"$f":"Raw_data!L114/100*$D$3","v":0.18570588769695234},{"$f":"Raw_data!M114/100*$D$3","v":0.20158219668187555},{"$f":"Raw_data!N114/100*$D$3","v":0.20925101863259199},{"$f":"Raw_data!O114/100*$D$3","v":0.20810459184545499},{"$f":"Raw_data!P114/100*$D$3","v":0.2083764215264137},{"$f":"Raw_data!Q114/100*$D$3","v":0.20699599859507781},{"$f":"Raw_data!R114/100*$D$3","v":0.20683797731188944},{"$f":"Raw_data!S114/100*$D$3","v":0.20691697286849284},{"$f":"Raw_data!T114/100*$D$3","v":0.19698620359990793},{"$f":"Raw_data!U114/100*$D$3","v":0.19348126725528073},{"$f":"Raw_data!V114/100*$D$3","v":0.19850643874317697},null,null,null,null,null,null,null,null,null,null,null,null,null,null,null,null,null,null,null,null,null,null,null,null,null,null,null,null,null,null,null,null,null,null,null,null,null,null,null,null,null,null,null,null,null,null,null,null,null,null,null,null,null,null,null,null,null,null,null,null,null,null,null,null,null,null,null,null,null,null,null,null,null,null,null,null,null,null,null,null,null,null,null,null,null,null,null,null,null,null,null,null,null,null,null,null,null,"South central","PPI"]
[null,null,"Milo - hauling - $/bu",{"$f":"Raw_data!D115/100*$D$3","v":0.20307664574584486},{"$f":"Raw_data!E115/100*$D$3","v":0.20776655523010049},{"$f":"Raw_data!F115/100*$D$3","v":0.21023032218205587},{"$f":"Raw_data!G115/100*$D$3","v":0.20185843968184575},{"$f":"Raw_data!H115/100*$D$3","v":0.20494954270339258},{"$f":"Raw_data!I115/100*$D$3","v":0.2042361609674781},{"$f":"Raw_data!J115/100*$D$3","v":0.20822818500078114},{"$f":"Raw_data!K115/100*$D$3","v":0.20315476935364388},{"$f":"Raw_data!L115/100*$D$3","v":0.18564706317649463},{"$f":"Raw_data!M115/100*$D$3","v":0.19722397374541711},{"$f":"Raw_data!N115/100*$D$3","v":0.20899480817637534},{"$f":"Raw_data!O115/100*$D$3","v":0.20600185632533008},{"$f":"Raw_data!P115/100*$D$3","v":0.20658841755802973},{"$f":"Raw_data!Q115/100*$D$3","v":0.20494954270339258},{"$f":"Raw_data!R115/100*$D$3","v":0.20822818500078114},{"$f":"Raw_data!S115/100*$D$3","v":0.20658235959023111},{"$f":"Raw_data!T115/100*$D$3","v":0.19420372370477895},{"$f":"Raw_data!U115/100*$D$3","v":0.19134798539267345},{"$f":"Raw_data!V115/100*$D$3","v":0.1952052993667506},null,null,null,null,null,null,null,null,null,null,null,null,null,null,null,null,null,null,null,null,null,null,null,null,null,null,null,null,null,null,null,null,null,null,null,null,null,null,null,null,null,null,null,null,null,null,null,null,null,null,null,null,null,null,null,null,null,null,null,null,null,null,null,null,null,null,null,null,null,null,null,null,null,null,null,null,null,null,null,null,null,null,null,null,null,null,null,null,null,null,null,null,null,null,null,null,null,"South central","fuel"]
[null,null,"Corn - hauling - $/bu",{"$f":"Raw_data!D116/100*$D$3","v":0.1734213914165961},{"$f":"Raw_data!E116/100*$D$3","v":0.16844480209619261},{"$f":"Raw_data!F116/100*$D$3","v":0.17877347475550945},{"$f":"Raw_data!G116/100*$D$3","v":0.16294714896717069},{"$f":"Raw_data!H116/100*$D$3","v":0.17477455586897966},{"$f":"Raw_data!I116/100*$D$3","v":0.17208546201199756},{"$f":"Raw_data!J116/100*$D$3","v":0.15800137718552798},{"$f":"Raw_data!K116/100*$D$3","v":0.17774645434341868},{"$f":"Raw_data!L116/100*$D$3","v":0.16480917538742096},{"$f":"Raw_data!M116/100*$D$3","v":0.16674844814001841},{"$f":"Raw_data!N116/100*$D$3","v":0.17353230988850518},{"$f":"Raw_data!O116/100*$D$3","v":0.17067696980660491},{"$f":"Raw_data!P116/100*$D$3","v":0.16992964646143899},{"$f":"Raw_data!Q116/100*$D$3","v":0.17477455586897966},{"$f":"Raw_data!R116/100*$D$3","v":0.15800137718552798},{"$f":"Raw_data!S116/100*$D$3","v":0.16617647403976313},{"$f":"Raw_data!T116/100*$D$3","v":0.1711556209079223},{"$f":"Raw_data!U116/100*$D$3","v":0.16577597604927125},{"$f":"Raw_data!V116/100*$D$3","v":0.16967377061551639},null,null,null,null,null,null,null,null,null,null,null,null,null,null,null,null,null,null,null,null,null,null,null,null,null,null,null,null,null,null,null,null,null,null,null,null,null,null,null,null,null,null,null,null,null,null,null,null,null,null,null,null,null,null,null,null,null,null,null,null,null,null,null,null,null,null,null,null,null,null,null,null,null,null,null,null,null,null,null,null,null,null,null,null,null,null,null,null,null,null,null,null,null,null,null,null,null,"South central","Adjustment factor"]
[null,null,"Soybeans - hauling - $/bu",{"$f":"Raw_data!D117/100*$D$3","v":0.18442322285333673},{"$f":"Raw_data!E117/100*$D$3","v":0.1865075234133344},{"$f":"Raw_data!F117/100*$D$3","v":0.18875946854639733},{"$f":"Raw_data!G117/100*$D$3","v":0.18432650489943311},{"$f":"Raw_data!H117/100*$D$3","v":0.18945755752712012},{"$f":"Raw_data!I117/100*$D$3","v":0.18950000400770739},{"$f":"Raw_data!J117/100*$D$3","v":0.19198581911051257},{"$f":"Raw_data!K117/100*$D$3","v":0.1894737070232751},{"$f":"Raw_data!L117/100*$D$3","v":0.17663263550710132},{"$f":"Raw_data!M117/100*$D$3","v":0.18932195949030461},{"$f":"Raw_data!N117/100*$D$3","v":0.18763011751689918},{"$f":"Raw_data!O117/100*$D$3","v":0.18652981826997941},{"$f":"Raw_data!P117/100*$D$3","v":0.18652238635499224},{"$f":"Raw_data!Q117/100*$D$3","v":0.18945755752712012},{"$f":"Raw_data!R117/100*$D$3","v":0.19198581911051257},{"$f":"Raw_data!S117/100*$D$3","v":0.1907174988524161},{"$f":"Raw_data!T117/100*$D$3","v":0.18294053741809418},{"$f":"Raw_data!U117/100*$D$3","v":0.18286726515191529},{"$f":"Raw_data!V117/100*$D$3","v":0.18504341322753223},null,null,null,null,null,null,null,null,null,null,null,null,null,null,null,null,null,null,null,null,null,null,null,null,null,null,null,null,null,null,null,null,null,null,null,null,null,null,null,null,null,null,null,null,null,null,null,null,null,null,null,null,null,null,null,null,null,null,null,null,null,null,null,null,null,null,null,null,null,null,null,null,null,null,null,null,null,null,null,null,null,null,null,null,null,null,null,null,null,null,null,null,null,null,null,null,null,"South central","RMSE"]
[null,null,"Sunflower - hauling - $/cwt",{"$f":"Raw_data!D118/100*$D$3","v":0.29866827149947972},{"$f":"Raw_data!E118/100*$D$3","v":0.45216270817622112},{"$f":"Raw_data!F118/100*$D$3","v":0.45216270817622112},{"$f":"Raw_data!G118/100*$D$3","v":0.45569568746255379},{"$f":"Raw_data!H118/100*$D$3","v":0.41750235510021866},{"$f":"Raw_data!I118/100*$D$3","v":0.41750235510021955},{"$f":"Raw_data!J118/100*$D$3","v":0.41750235510021866},{"$f":"Raw_data!K118/100*$D$3","v":0.31497482517935349},{"$f":"Raw_data!L118/100*$D$3","v":0.31497482517935349},{"$f":"Raw_data!M118/100*$D$3","v":0.31497482517935349},{"$f":"Raw_data!N118/100*$D$3","v":0.45216270817622112},{"$f":"Raw_data!O118/100*$D$3","v":0.45392576061212397},{"$f":"Raw_data!P118/100*$D$3","v":0.45333731396365612},{"$f":"Raw_data!Q118/100*$D$3","v":0.41750235510021866},{"$f":"Raw_data!R118/100*$D$3","v":0.41750235510021866},{"$f":"Raw_data!S118/100*$D$3","v":0.41750235510021866},{"$f":"Raw_data!T118/100*$D$3","v":0.31497482517935349},{"$f":"Raw_data!U118/100*$D$3","v":0.31497482517935349},{"$f":"Raw_data!V118/100*$D$3","v":0.31497482517935349},null,null,null,null,null,null,null,null,null,null,null,null,null,null,null,null,null,null,null,null,null,null,null,null,null,null,null,null,null,null,null,null,null,null,null,null,null,null,null,null,null,null,null,null,null,null,null,null,null,null,null,null,null,null,null,null,null,null,null,null,null,null,null,null,null,null,null,null,null,null,null,null,null,null,null,null,null,null,null,null,null,null,null,null,null,null,null,null,null,null,null,null,null,null,null,null,null,"South central","LN adjustment"]
[null,"Hay","Rotary mow, $/acre",{"$f":"Raw_data!D119*$D$3","v":14.674064209143493},{"$f":"Raw_data!E119*$D$3","v":14.161302181973239},{"$f":"Raw_data!F119*$D$3","v":13.99200740631438},{"$f":"Raw_data!G119*$D$3","v":14.647673377687312},{"$f":"Raw_data!H119*$D$3","v":13.794907509964567},{"$f":"Raw_data!I119*$D$3","v":13.629087002303654},{"$f":"Raw_data!J119*$D$3","v":13.665485343792181},{"$f":"Raw_data!K119*$D$3","v":14.291116965760231},{"$f":"Raw_data!L119*$D$3","v":15.888356478896748},{"$f":"Raw_data!M119*$D$3","v":13.97552908953929},{"$f":"Raw_data!N119*$D$3","v":14.076400286054159},{"$f":"Raw_data!O119*$D$3","v":14.316087258251633},{"$f":"Raw_data!P119*$D$3","v":14.264305159866471},{"$f":"Raw_data!Q119*$D$3","v":13.794907509964567},{"$f":"Raw_data!R119*$D$3","v":13.665485343792181},{"$f":"Raw_data!S119*$D$3","v":13.730043932791675},{"$f":"Raw_data!T119*$D$3","v":15.068588548155656},{"$f":"Raw_data!U119*$D$3","v":14.901281426635482},{"$f":"Raw_data!V119*$D$3","v":14.695052292302522},null,null,null,null,null,null,null,null,null,null,null,null,null,null,null,null,null,null,null,null,null,null,null,null,null,null,null,null,null,null,null,null,null,null,null,null,null,null,null,null,null,null,null,null,null,null,null,null,null,null,null,null,null,null,null,null,null,null,null,null,null,null,null,null,null,null,null,null,null,null,null,null,null,null,null,null,null,null,null,null,null,null,null,null,null,null,null,null,null,null,null,null,null,null,null,null,null,"Central","Intercept"]
[null,null,"Rotary mow, $/hour",{"$f":"D51*7.5","v":110.0554815685762},{"$f":"E51*7.5","v":106.20976636479929},104.94005554735786,109.85755033265484,103.46180632473425,102.2181525172774,102.49114007844136,107.18337724320173,119.16267359172561,104.81646817154467,105.57300214540619,107.37065443688725,106.98228869899853,103.46180632473425,102.49114007844136,102.97532949593756,113.01441411116743,111.75961069976611,110.21289219226891]
[null,null,"Hay-mow/swath, $/acre",{"$f":"Raw_data!D121*$D$3","v":14.120847762444285},{"$f":"Raw_data!E121*$D$3","v":16.622609735158409},{"$f":"Raw_data!F121*$D$3","v":16.591144893406391},{"$f":"Raw_data!G121*$D$3","v":16.022520532529541},{"$f":"Raw_data!H121*$D$3","v":14.898322710895936},{"$f":"Raw_data!I121*$D$3","v":15.300847207069463},{"$f":"Raw_data!J121*$D$3","v":15.675062533302805},{"$f":"Raw_data!K121*$D$3","v":15.743213600016272},{"$f":"Raw_data!L121*$D$3","v":14.48231835999907},{"$f":"Raw_data!M121*$D$3","v":14.836789166359729},{"$f":"Raw_data!N121*$D$3","v":16.606869862275691},{"$f":"Raw_data!O121*$D$3","v":16.304354010900784},{"$f":"Raw_data!P121*$D$3","v":16.409756391656739},{"$f":"Raw_data!Q121*$D$3","v":14.898322710895936},{"$f":"Raw_data!R121*$D$3","v":15.675062533302805},{"$f":"Raw_data!S121*$D$3","v":15.28175841108016},{"$f":"Raw_data!T121*$D$3","v":15.099610305067566},{"$f":"Raw_data!U121*$D$3","v":14.658482327560613},{"$f":"Raw_data!V121*$D$3","v":15.011489995033669}]
[null,null,"Forage-mow/swath, $/acre",{"$f":"Raw_data!D122*$D$3","v":19.085181368436512},{"$f":"Raw_data!E122*$D$3","v":14.647956988993899},{"$f":"Raw_data!F122*$D$3","v":13.99921894004544},{"$f":"Raw_data!G122*$D$3","v":14.09205825057475},{"$f":"Raw_data!H122*$D$3","v":13.566885624689245},{"$f":"Raw_data!I122*$D$3","v":13.411297275991727},{"$f":"Raw_data!J122*$D$3","v":13.495824091833123},{"$f":"Raw_data!K122*$D$3","v":12.156892137356536},{"$f":"Raw_data!L122*$D$3","v":11.986656299725292},{"$f":"Raw_data!M122*$D$3","v":11.929503065631636},{"$f":"Raw_data!N122*$D$3","v":14.319914696439165},{"$f":"Raw_data!O122*$D$3","v":14.045561888570695},{"$f":"Raw_data!P122*$D$3","v":14.243556101867863},{"$f":"Raw_data!Q122*$D$3","v":13.566885624689245},{"$f":"Raw_data!R122*$D$3","v":13.495824091833123},{"$f":"Raw_data!S122*$D$3","v":13.531308209660502},{"$f":"Raw_data!T122*$D$3","v":12.071474132156585},{"$f":"Raw_data!U122*$D$3","v":11.958045537388022},{"$f":"Raw_data!V122*$D$3","v":12.023963698935571}]
[null,null,"Swathing and condition, $/acre",{"$f":"Raw_data!D123*$D$3","v":17.461350617069691},{"$f":"Raw_data!E123*$D$3","v":17.556761195143185},{"$f":"Raw_data!F123*$D$3","v":17.532974358311378},{"$f":"Raw_data!G123*$D$3","v":16.823224811765915},{"$f":"Raw_data!H123*$D$3","v":15.638596246131996},{"$f":"Raw_data!I123*$D$3","v":16.003225265279134},{"$f":"Raw_data!J123*$D$3","v":16.453381312579857},{"$f":"Raw_data!K123*$D$3","v":16.744888943496523},{"$f":"Raw_data!L123*$D$3","v":15.600629499999114},{"$f":"Raw_data!M123*$D$3","v":16.604009760076519},{"$f":"Raw_data!N123*$D$3","v":17.544863745536517},{"$f":"Raw_data!O123*$D$3","v":17.174433593245499},{"$f":"Raw_data!P123*$D$3","v":17.300941967422389},{"$f":"Raw_data!Q123*$D$3","v":15.638596246131996},{"$f":"Raw_data!R123*$D$3","v":16.453381312579857},{"$f":"Raw_data!S123*$D$3","v":16.040816289425226},{"$f":"Raw_data!T123*$D$3","v":16.162636184302389},{"$f":"Raw_data!U123*$D$3","v":16.094502306108225},{"$f":"Raw_data!V123*$D$3","v":16.308441426271333}]
[null,null,"Sideraking hay, $/acre",{"$f":"Raw_data!D124*$D$3","v":4.2009005784567552},{"$f":"Raw_data!E124*$D$3","v":5.2499104707051272},{"$f":"Raw_data!F124*$D$3","v":4.5958071663302942},{"$f":"Raw_data!G124*$D$3","v":4.6557988271065041},{"$f":"Raw_data!H124*$D$3","v":4.0871938415124314},{"$f":"Raw_data!I124*$D$3","v":4.254834710220174},{"$f":"Raw_data!J124*$D$3","v":4.2446593078318777},{"$f":"Raw_data!K124*$D$3","v":4.5120555252994556},{"$f":"Raw_data!L124*$D$3","v":4.4450301340605671},{"$f":"Raw_data!M124*$D$3","v":4.622311498200939},{"$f":"Raw_data!N124*$D$3","v":4.9119829156725574},{"$f":"Raw_data!O124*$D$3","v":4.6257057423282184},{"$f":"Raw_data!P124*$D$3","v":4.8250590638370223},{"$f":"Raw_data!Q124*$D$3","v":4.0871938415124314},{"$f":"Raw_data!R124*$D$3","v":4.2446593078318777},{"$f":"Raw_data!S124*$D$3","v":4.1651825148832167},{"$f":"Raw_data!T124*$D$3","v":4.4784174410734163},{"$f":"Raw_data!U124*$D$3","v":4.5328041981225953},{"$f":"Raw_data!V124*$D$3","v":4.5258773940454775}]
[null,null,"Small square with twine, $/bale",{"$f":"Raw_data!D125*$D$3","v":1.5752485693440359},{"$f":"Raw_data!E125*$D$3","v":1.3386850218236332},{"$f":"Raw_data!F125*$D$3","v":1.4037264973206105},{"$f":"Raw_data!G125*$D$3","v":1.4651221768354059},{"$f":"Raw_data!H125*$D$3","v":1.2161089689458595},{"$f":"Raw_data!I125*$D$3","v":1.4391595324162174},{"$f":"Raw_data!J125*$D$3","v":1.2095320643679939},{"$f":"Raw_data!K125*$D$3","v":1.2500075573162761},{"$f":"Raw_data!L125*$D$3","v":1.3971038692383921},{"$f":"Raw_data!M125*$D$3","v":1.361299894652624},{"$f":"Raw_data!N125*$D$3","v":1.3708200599276528},{"$f":"Raw_data!O125*$D$3","v":1.4340958201723875},{"$f":"Raw_data!P125*$D$3","v":1.4015596353641147},{"$f":"Raw_data!Q125*$D$3","v":1.2161089689458595},{"$f":"Raw_data!R125*$D$3","v":1.2095320643679939},{"$f":"Raw_data!S125*$D$3","v":1.2128160584794043},{"$f":"Raw_data!T125*$D$3","v":1.3215106488045416},{"$f":"Raw_data!U125*$D$3","v":1.3790856934987747},{"$f":"Raw_data!V125*$D$3","v":1.3346428013015292}]
[null,null,"Small square with wire, $/bale",{"$f":"Raw_data!D126*$D$3","v":1.3559062078320381},{"$f":"Raw_data!E126*$D$3","v":1.3236354533571384},{"$f":"Raw_data!F126*$D$3","v":1.4200490116428557},{"$f":"Raw_data!G126*$D$3","v":1.4063448425099081},{"$f":"Raw_data!H126*$D$3","v":1.5257145615363634},{"$f":"Raw_data!I126*$D$3","v":1.3100762888214366},{"$f":"Raw_data!J126*$D$3","v":1.2393946851086239},{"$f":"Raw_data!K126*$D$3","v":1.2564832336993739},{"$f":"Raw_data!L126*$D$3","v":1.2886961441467728},{"$f":"Raw_data!M126*$D$3","v":1.2688230382682009},{"$f":"Raw_data!N126*$D$3","v":1.3709949734828524},{"$f":"Raw_data!O126*$D$3","v":1.4131803153296549},{"$f":"Raw_data!P126*$D$3","v":1.382678415548394},{"$f":"Raw_data!Q126*$D$3","v":1.5257145615363634},{"$f":"Raw_data!R126*$D$3","v":1.2393946851086239},{"$f":"Raw_data!S126*$D$3","v":1.3751227285449847},{"$f":"Raw_data!T126*$D$3","v":1.2724877596477899},{"$f":"Raw_data!U126*$D$3","v":1.2787209848207011},{"$f":"Raw_data!V126*$D$3","v":1.2712650112777224}]
[null,null,"Round (< 1500 lbs) w/o net, $/bale",{"$f":"Raw_data!D127*$D$3","v":13.443888203439796},{"$f":"Raw_data!E127*$D$3","v":12.187411411896013},{"$f":"Raw_data!F127*$D$3","v":12.596252329268111},{"$f":"Raw_data!G127*$D$3","v":15.773047776879022},{"$f":"Raw_data!H127*$D$3","v":12.306754038938285},{"$f":"Raw_data!I127*$D$3","v":13.011588982380864},{"$f":"Raw_data!J127*$D$3","v":13.362841138007219},{"$f":"Raw_data!K127*$D$3","v":12.897935444921606},{"$f":"Raw_data!L127*$D$3","v":13.375079524615533},{"$f":"Raw_data!M127*$D$3","v":14.060415917085791},{"$f":"Raw_data!N127*$D$3","v":12.390145656320749},{"$f":"Raw_data!O127*$D$3","v":14.095435069524084},{"$f":"Raw_data!P127*$D$3","v":13.428355006264438},{"$f":"Raw_data!Q127*$D$3","v":12.306754038938285},{"$f":"Raw_data!R127*$D$3","v":13.362841138007219},{"$f":"Raw_data!S127*$D$3","v":12.823930721384183},{"$f":"Raw_data!T127*$D$3","v":13.134340953362825},{"$f":"Raw_data!U127*$D$3","v":13.713467141470549},{"$f":"Raw_data!V127*$D$3","v":13.436049025097455}]
[null,null,"Round (< 1500 lbs) w/ net, $/bale",{"$f":"Raw_data!D128*$D$3","v":13.156441258751954},{"$f":"Raw_data!E128*$D$3","v":10.666205649430111},{"$f":"Raw_data!F128*$D$3","v":11.10387780189874},{"$f":"Raw_data!G128*$D$3","v":11.718403852701929},{"$f":"Raw_data!H128*$D$3","v":11.130884809445345},{"$f":"Raw_data!I128*$D$3","v":11.305424873643824},{"$f":"Raw_data!J128*$D$3","v":11.561114513873083},{"$f":"Raw_data!K128*$D$3","v":11.553950046072282},{"$f":"Raw_data!L128*$D$3","v":12.445579701751832},{"$f":"Raw_data!M128*$D$3","v":12.378913103215744},{"$f":"Raw_data!N128*$D$3","v":10.882841730963191},{"$f":"Raw_data!O128*$D$3","v":11.407003305588264},{"$f":"Raw_data!P128*$D$3","v":11.154523665052746},{"$f":"Raw_data!Q128*$D$3","v":11.130884809445345},{"$f":"Raw_data!R128*$D$3","v":11.561114513873083},{"$f":"Raw_data!S128*$D$3","v":11.34396023982489},{"$f":"Raw_data!T128*$D$3","v":11.991480566154115},{"$f":"Raw_data!U128*$D$3","v":12.412201643831427},{"$f":"Raw_data!V128*$D$3","v":12.11925834564156}]
[null,null,"Round (> 1500 lbs) w/o net, $/bale",{"$f":"Raw_data!D129*$D$3","v":11.692456419023546},{"$f":"Raw_data!E129*$D$3","v":11.052804377952569},{"$f":"Raw_data!F129*$D$3","v":11.191510150997077},{"$f":"Raw_data!G129*$D$3","v":14.130296039715031},{"$f":"Raw_data!H129*$D$3","v":11.533680840542493},{"$f":"Raw_data!I129*$D$3","v":11.367809392406292},{"$f":"Raw_data!J129*$D$3","v":12.049744406399464},{"$f":"Raw_data!K129*$D$3","v":11.796344644891612},{"$f":"Raw_data!L129*$D$3","v":12.795209827088893},{"$f":"Raw_data!M129*$D$3","v":13.355583119576028},{"$f":"Raw_data!N129*$D$3","v":11.121941035306792},{"$f":"Raw_data!O129*$D$3","v":12.575346975931305},{"$f":"Raw_data!P129*$D$3","v":12.045850783142987},{"$f":"Raw_data!Q129*$D$3","v":11.533680840542493},{"$f":"Raw_data!R129*$D$3","v":12.049744406399464},{"$f":"Raw_data!S129*$D$3","v":11.788889099212172},{"$f":"Raw_data!T129*$D$3","v":12.285630017383912},{"$f":"Raw_data!U129*$D$3","v":13.07239413336753},{"$f":"Raw_data!V129*$D$3","v":12.632401089267287}]
[null,null,"Round (> 1500 lbs) w/ net, $/bale",{"$f":"Raw_data!D130*$D$3","v":13.084470428778703},{"$f":"Raw_data!E130*$D$3","v":10.384933516222704},{"$f":"Raw_data!F130*$D$3","v":10.934195894537435},{"$f":"Raw_data!G130*$D$3","v":11.32357114733124},{"$f":"Raw_data!H130*$D$3","v":10.208083203713036},{"$f":"Raw_data!I130*$D$3","v":10.339773663215919},{"$f":"Raw_data!J130*$D$3","v":10.538150342672685},{"$f":"Raw_data!K130*$D$3","v":11.62207015932329},{"$f":"Raw_data!L130*$D$3","v":12.598185950415223},{"$f":"Raw_data!M130*$D$3","v":12.971205073710108},{"$f":"Raw_data!N130*$D$3","v":10.656026342784935},{"$f":"Raw_data!O130*$D$3","v":11.127180467245591},{"$f":"Raw_data!P130*$D$3","v":10.874050060525512},{"$f":"Raw_data!Q130*$D$3","v":10.208083203713036},{"$f":"Raw_data!R130*$D$3","v":10.538150342672685},{"$f":"Raw_data!S130*$D$3","v":10.371803869686305},{"$f":"Raw_data!T130*$D$3","v":12.100289293894036},{"$f":"Raw_data!U130*$D$3","v":12.783334992073442},{"$f":"Raw_data!V130*$D$3","v":12.383895469852259}]
[null,null,"Square (approx 1 ton), $/bale",{"$f":"Raw_data!D131*$D$3","v":12.251345515197334},{"$f":"Raw_data!E131*$D$3","v":12.552022263921021},{"$f":"Raw_data!F131*$D$3","v":12.60412270392869},{"$f":"Raw_data!G131*$D$3","v":12.967596412692384},{"$f":"Raw_data!H131*$D$3","v":11.054848888631415},{"$f":"Raw_data!I131*$D$3","v":12.181732410079167},{"$f":"Raw_data!J131*$D$3","v":11.938188614937838},{"$f":"Raw_data!K131*$D$3","v":10.512347484337557},{"$f":"Raw_data!L131*$D$3","v":10.826480466260559},{"$f":"Raw_data!M131*$D$3","v":11.08840283121449},{"$f":"Raw_data!N131*$D$3","v":12.578045507824548},{"$f":"Raw_data!O131*$D$3","v":12.784567898861518},{"$f":"Raw_data!P131*$D$3","v":12.706577890319487},{"$f":"Raw_data!Q131*$D$3","v":11.054848888631415},{"$f":"Raw_data!R131*$D$3","v":11.938188614937838},{"$f":"Raw_data!S131*$D$3","v":11.488031647854989},{"$f":"Raw_data!T131*$D$3","v":10.668257809676509},{"$f":"Raw_data!U131*$D$3","v":10.956659009669508},{"$f":"Raw_data!V131*$D$3","v":10.8065068537251}]
[null,null,"Stacking hay (4-6 tons), $",{"$f":"Raw_data!D132*$D$3","v":70.08844653595915},{"$f":"Raw_data!E132*$D$3","v":70.07698903765916},{"$f":"Raw_data!F132*$D$3","v":70.07698903765916},{"$f":"Raw_data!G132*$D$3","v":70.07698903765916},{"$f":"Raw_data!H132*$D$3","v":70.07698903765916},{"$f":"Raw_data!I132*$D$3","v":70.076989037655238},{"$f":"Raw_data!J132*$D$3","v":70.07698903765916},{"$f":"Raw_data!K132*$D$3","v":70.07698903765916},{"$f":"Raw_data!L132*$D$3","v":70.07698903765916},{"$f":"Raw_data!M132*$D$3","v":70.07698903765916},{"$f":"Raw_data!N132*$D$3","v":70.07698903765916},{"$f":"Raw_data!O132*$D$3","v":70.07698903765916},{"$f":"Raw_data!P132*$D$3","v":70.07698903765916},{"$f":"Raw_data!Q132*$D$3","v":70.07698903765916},{"$f":"Raw_data!R132*$D$3","v":70.07698903765916},{"$f":"Raw_data!S132*$D$3","v":70.07698903765916},{"$f":"Raw_data!T132*$D$3","v":70.07698903765916},{"$f":"Raw_data!U132*$D$3","v":70.07698903765916},{"$f":"Raw_data!V132*$D$3","v":70.07698903765916}]
[null,null,"Hauling small squares, $/bale",{"$f":"Raw_data!D133*$D$3","v":1.2722329252743276},{"$f":"Raw_data!E133*$D$3","v":1.5684316233875186},{"$f":"Raw_data!F133*$D$3","v":1.6200198464526139},{"$f":"Raw_data!G133*$D$3","v":1.5258451771532215},{"$f":"Raw_data!H133*$D$3","v":1.6800983125297555},{"$f":"Raw_data!I133*$D$3","v":1.6119647056165483},{"$f":"Raw_data!J133*$D$3","v":1.8309659700342098},{"$f":"Raw_data!K133*$D$3","v":1.6812921035630592},{"$f":"Raw_data!L133*$D$3","v":1.7090125508266816},{"$f":"Raw_data!M133*$D$3","v":1.7699266323305447},{"$f":"Raw_data!N133*$D$3","v":1.5940170506276496},{"$f":"Raw_data!O133*$D$3","v":1.5722275501981968},{"$f":"Raw_data!P133*$D$3","v":1.5709612215885358},{"$f":"Raw_data!Q133*$D$3","v":1.6800983125297555},{"$f":"Raw_data!R133*$D$3","v":1.8309659700342098},{"$f":"Raw_data!S133*$D$3","v":1.7539107265063076},{"$f":"Raw_data!T133*$D$3","v":1.6950956629627312},{"$f":"Raw_data!U133*$D$3","v":1.7392029291302675},{"$f":"Raw_data!V133*$D$3","v":1.719681014143164}]
[null,null,"Hauling large round, $/bale",{"$f":"Raw_data!D134*$D$3","v":5.3427729400806951},{"$f":"Raw_data!E134*$D$3","v":5.4301216664785583},{"$f":"Raw_data!F134*$D$3","v":5.752584913952739},{"$f":"Raw_data!G134*$D$3","v":5.1864000838424058},{"$f":"Raw_data!H134*$D$3","v":4.5118382831115387},{"$f":"Raw_data!I134*$D$3","v":5.3489639719069872},{"$f":"Raw_data!J134*$D$3","v":5.1355471514027},{"$f":"Raw_data!K134*$D$3","v":5.6802500635931965},{"$f":"Raw_data!L134*$D$3","v":5.2836741425151317},{"$f":"Raw_data!M134*$D$3","v":6.0270235146489153},{"$f":"Raw_data!N134*$D$3","v":5.5890281784503877},{"$f":"Raw_data!O134*$D$3","v":5.4621613744043698},{"$f":"Raw_data!P134*$D$3","v":5.4514605215438365},{"$f":"Raw_data!Q134*$D$3","v":4.5118382831115387},{"$f":"Raw_data!R134*$D$3","v":5.1355471514027},{"$f":"Raw_data!S134*$D$3","v":4.8136013796764594},{"$f":"Raw_data!T134*$D$3","v":5.4783747940449725},{"$f":"Raw_data!U134*$D$3","v":5.6431222120986471},{"$f":"Raw_data!V134*$D$3","v":5.6554711196323986}]
[null,null,"Hauling large round, $/ton",{"$f":"Raw_data!D135*$D$3","v":7.7123753340495558},{"$f":"Raw_data!E135*$D$3","v":3.0479257353311024},{"$f":"Raw_data!F135*$D$3","v":3.0160438780915237},{"$f":"Raw_data!G135*$D$3","v":2.9997187176192734},{"$f":"Raw_data!H135*$D$3","v":3.8151400769434276},{"$f":"Raw_data!I135*$D$3","v":4.0300829040788315},{"$f":"Raw_data!J135*$D$3","v":3.667319975805841},{"$f":"Raw_data!K135*$D$3","v":5.9737690357938193},{"$f":"Raw_data!L135*$D$3","v":5.950722307920211},{"$f":"Raw_data!M135*$D$3","v":5.8769679225294293},{"$f":"Raw_data!N135*$D$3","v":3.0319429009997823},{"$f":"Raw_data!O135*$D$3","v":3.0078702223121541},{"$f":"Raw_data!P135*$D$3","v":3.0211632262425434},{"$f":"Raw_data!Q135*$D$3","v":3.8151400769434276},{"$f":"Raw_data!R135*$D$3","v":3.667319975805841},{"$f":"Raw_data!S135*$D$3","v":3.7404998883400689},{"$f":"Raw_data!T135*$D$3","v":5.9622345361165801},{"$f":"Raw_data!U135*$D$3","v":5.9137301358387475},{"$f":"Raw_data!V135*$D$3","v":5.9336757549832555}]
[null,null,"Entire operation (small square), $/bale",{"$f":"Raw_data!D136*$D$3","v":2.82248429372402},{"$f":"Raw_data!E136*$D$3","v":1.6491921534127383},{"$f":"Raw_data!F136*$D$3","v":1.6491921534127383},{"$f":"Raw_data!G136*$D$3","v":1.6396341308869582},{"$f":"Raw_data!H136*$D$3","v":1.507684731934575},{"$f":"Raw_data!I136*$D$3","v":1.5085786060730209},{"$f":"Raw_data!J136*$D$3","v":1.5055806489126358},{"$f":"Raw_data!K136*$D$3","v":1.9133633487207662},{"$f":"Raw_data!L136*$D$3","v":1.9635224546930168},{"$f":"Raw_data!M136*$D$3","v":1.9425613466054197},{"$f":"Raw_data!N136*$D$3","v":1.6491921534127383},{"$f":"Raw_data!O136*$D$3","v":1.6444061977280695},{"$f":"Raw_data!P136*$D$3","v":1.6459999710910242},{"$f":"Raw_data!Q136*$D$3","v":1.507684731934575},{"$f":"Raw_data!R136*$D$3","v":1.5055806489126358},{"$f":"Raw_data!S136*$D$3","v":1.5066323231172665},{"$f":"Raw_data!T136*$D$3","v":1.9382806554263108},{"$f":"Raw_data!U136*$D$3","v":1.9530137796949731},{"$f":"Raw_data!V136*$D$3","v":1.9397065033393015}]
[null,null,"Entire operation (large round), $/bale",{"$f":"Raw_data!D137*$D$3","v":20.604321141154362},{"$f":"Raw_data!E137*$D$3","v":26.463353899297264},{"$f":"Raw_data!F137*$D$3","v":26.579186104498334},{"$f":"Raw_data!G137*$D$3","v":26.219042145374658},{"$f":"Raw_data!H137*$D$3","v":24.598567664381253},{"$f":"Raw_data!I137*$D$3","v":24.644855335770071},{"$f":"Raw_data!J137*$D$3","v":24.382152658010199},{"$f":"Raw_data!K137*$D$3","v":20.930647621058398},{"$f":"Raw_data!L137*$D$3","v":20.035278330756128},{"$f":"Raw_data!M137*$D$3","v":21.431252378631608},{"$f":"Raw_data!N137*$D$3","v":26.521206764372991},{"$f":"Raw_data!O137*$D$3","v":26.398499969952805},{"$f":"Raw_data!P137*$D$3","v":26.420100267362191},{"$f":"Raw_data!Q137*$D$3","v":24.598567664381253},{"$f":"Raw_data!R137*$D$3","v":24.382152658010199},{"$f":"Raw_data!S137*$D$3","v":24.490121109568591},{"$f":"Raw_data!T137*$D$3","v":20.478069995262821},{"$f":"Raw_data!U137*$D$3","v":20.721513129657396},{"$f":"Raw_data!V137*$D$3","v":20.790991408954763}]
[null,null,"Entire operation, $/ton",{"$f":"Raw_data!D138*$D$3","v":39.324661922442736},{"$f":"Raw_data!E138*$D$3","v":39.316736763302487},{"$f":"Raw_data!F138*$D$3","v":39.316736763302487},{"$f":"Raw_data!G138*$D$3","v":39.316736763302487},{"$f":"Raw_data!H138*$D$3","v":39.316736763302487},{"$f":"Raw_data!I138*$D$3","v":39.316736763300547},{"$f":"Raw_data!J138*$D$3","v":39.316736763302487},{"$f":"Raw_data!K138*$D$3","v":39.316736763302487},{"$f":"Raw_data!L138*$D$3","v":39.316736763302487},{"$f":"Raw_data!M138*$D$3","v":39.316736763302487},{"$f":"Raw_data!N138*$D$3","v":39.316736763302487},{"$f":"Raw_data!O138*$D$3","v":39.316736763302487},{"$f":"Raw_data!P138*$D$3","v":39.316736763302487},{"$f":"Raw_data!Q138*$D$3","v":39.316736763302487},{"$f":"Raw_data!R138*$D$3","v":39.316736763302487},{"$f":"Raw_data!S138*$D$3","v":39.316736763302487},{"$f":"Raw_data!T138*$D$3","v":39.316736763302487},{"$f":"Raw_data!U138*$D$3","v":39.316736763302487},{"$f":"Raw_data!V138*$D$3","v":39.316736763302487}]

{"sheet":"Raw_data","index":2,"n_rows":142,"n_cols":121,"rows_kept":142,"cut":false,"hidden":true,"merged":[[118,1,137,1],[76,1,81,1],[82,1,89,1],[90,1,101,1],[102,1,112,1],[113,1,117,1]]}
[]
[]
[]
[]
[null,null,null,"State","State","State","State","State","State","CRD - Northwest","CRD - Northwest","CRD - Northwest","CRD - Northwest","CRD - Northwest","CRD - Northwest","CRD - West central","CRD - West central","CRD - West central","CRD - West central","CRD - West central","CRD - West central","CRD - Southwest","CRD - Southwest","CRD - Southwest","CRD - Southwest","CRD - Southwest","CRD - Southwest","CRD - North central","CRD - North central","CRD - North central","CRD - North central","CRD - North central","CRD - North central","CRD - Central","CRD - Central","CRD - Central","CRD - Central","CRD - Central",null,"CRD - South central","CRD - South central","CRD - South central","CRD - South central","CRD - South central",null,"CRD - Northeast","CRD - Northeast","CRD - Northeast","CRD - Northeast","CRD - Northeast","CRD - Northeast","CRD - East central","CRD - East central","CRD - East central","CRD - East central","CRD - East central","CRD - East central","CRD - Southeast","CRD - Southeast","CRD - Southeast","CRD - Southeast","CRD - Southeast","CRD - Southeast","Northwest","Northwest","Northwest","Northwest","Northwest","Northwest","Southwest","Southwest","Southwest","Southwest","Southwest","Southwest","West","West","West","West","West","West","North central","North central","North central","North central","North central","North central","South central","South central","South central","South central","South central","South central","Central","Central","Central","Central","Central","Central","Northeast","Northeast","Northeast","Northeast","Northeast","Northeast","Southeast","Southeast","Southeast","Southeast","Southeast","Southeast","East","East","East","East","East","East"]
[null,null,null,"Intercept","PPI","fuel","Adjustment factor","RMSE","LN adjustment","Intercept","PPI","fuel","Adjustment factor","RMSE","LN adjustment","Intercept","PPI","fuel","Adjustment factor","RMSE","LN adjustment","Intercept","PPI","fuel","Adjustment factor","RMSE","LN adjustment","Intercept","PPI","fuel","Adjustment factor","RMSE","LN adjustment","Intercept","PPI","fuel","Adjustment factor","RMSE","LN adjustment","Intercept","PPI","fuel","Adjustment factor","RMSE","LN adjustment","Intercept","PPI","fuel","Adjustment factor","RMSE","LN adjustment","Intercept","PPI","fuel","Adjustment factor","RMSE","LN adjustment","Intercept","PPI","fuel","Adjustment factor","RMSE","LN adjustment","Intercept","PPI","fuel","Adjustment factor","RMSE","LN adjustment","Intercept","PPI","fuel","Adjustment factor","RMSE","LN adjustment","Intercept","PPI","fuel","Adjustment factor","RMSE","LN adjustment","Intercept","PPI","fuel","Adjustment factor","RMSE","LN adjustment","Intercept","PPI","fuel","Adjustment factor","RMSE","LN adjustment","Intercept","PPI","fuel","Adjustment factor","RMSE","LN adjustment","Intercept","PPI","fuel","Adjustment factor","RMSE","LN adjustment","Intercept","PPI","fuel","Adjustment factor","RMSE","LN adjustment","Intercept","PPI","fuel","Adjustment factor","RMSE","LN adjustment"]
[null,"Operation",null,"State:Intercept","State:PPI","State:fuel","State:Adjustment factor","State:RMSE","State:LN adjustment","CRD - Northwest:Intercept","CRD - Northwest:PPI","CRD - Northwest:fuel","CRD - Northwest:Adjustment factor","CRD - Northwest:RMSE","CRD - Northwest:LN adjustment","CRD - West central:Intercept","CRD - West central:PPI","CRD - West central:fuel","CRD - West central:Adjustment factor","CRD - West central:RMSE","CRD - West central:LN adjustment","CRD - Southwest:Intercept","CRD - Southwest:PPI","CRD - Southwest:fuel","CRD - Southwest:Adjustment factor","CRD - Southwest:RMSE","CRD - Southwest:LN adjustment","CRD - North central:Intercept","CRD - North central:PPI","CRD - North central:fuel","CRD - North central:Adjustment factor","CRD - North central:RMSE","CRD - North central:LN adjustment","CRD - Central:Intercept","CRD - Central:PPI","CRD - Central:fuel","CRD - Central:Adjustment factor","CRD - Central:RMSE","CRD - Central:LN adjustment","CRD - South central:Intercept","CRD - South central:PPI","CRD - South central:fuel","CRD - South central:Adjustment factor","CRD - South central:RMSE","CRD - South central:LN adjustment","CRD - Northeast:Intercept","CRD - Northeast:PPI","CRD - Northeast:fuel","CRD - Northeast:Adjustment factor","CRD - Northeast:RMSE","CRD - Northeast:LN adjustment","CRD - East central:Intercept","CRD - East central:PPI","CRD - East central:fuel","CRD - East central:Adjustment factor","CRD - East central:RMSE","CRD - East central:LN adjustment","CRD - Southeast:Intercept","CRD - Southeast:PPI","CRD - Southeast:fuel","CRD - Southeast:Adjustment factor","CRD - Southeast:RMSE","CRD - Southeast:LN adjustment","Northwest:Intercept","Northwest:PPI","Northwest:fuel","Northwest:Adjustment factor","Northwest:RMSE","Northwest:LN adjustment","Southwest:Intercept","Southwest:PPI","Southwest:fuel","Southwest:Adjustment factor","Southwest:RMSE","Southwest:LN adjustment","West:Intercept","West:PPI","West:fuel","West:Adjustment factor","West:RMSE","West:LN adjustment","North central:Intercept","North central:PPI","North central:fuel","North central:Adjustment factor","North central:RMSE","North central:LN adjustment","South central:Intercept","South central:PPI","South central:fuel","South central:Adjustment factor","South central:RMSE","South central:LN adjustment","Central:Intercept","Central:PPI","Central:fuel","Central:Adjustment factor","Central:RMSE","Central:LN adjustment","Northeast:Intercept","Northeast:PPI","Northeast:fuel","Northeast:Adjustment factor","Northeast:RMSE","Northeast:LN adjustment","Southeast:Intercept","Southeast:PPI","Southeast:fuel","Southeast:Adjustment factor","Southeast:RMSE","Southeast:LN adjustment","East:Intercept","East:PPI","East:fuel","East:Adjustment factor","East:RMSE","East:LN adjustment"]
[null,"Tillage","Disk",1.16374109985052,9.6260272284200005E-3,4.0981758205590003E-2,null,2.3989951697029999E-2,1.00028780029777,1.0947577138195901,1.003557870883E-2,3.7446988610720003E-2,-0.10941765293516,7.1660413222390001E-2,1.00257090653853,1.0947577138195901,1.003557870883E-2,3.7446988610720003E-2,-0.1247139313766,7.1660413222390001E-2,1.00257090653853,1.0947577138195901,1.003557870883E-2,3.7446988610720003E-2,-2.5976254607400001E-3,7.1660413222390001E-2,1.00257090653853,1.0947577138195901,1.003557870883E-2,3.7446988610720003E-2,6.7077940469460001E-2,7.1660413222390001E-2,1.00257090653853,1.0947577138195901,1.003557870883E-2,3.7446988610720003E-2,null,7.1660413222390001E-2,1.00257090653853,1.0947577138195901,1.003557870883E-2,3.7446988610720003E-2,6.4038303080440007E-2,7.1660413222390001E-2,1.00257090653853,1.0947577138195901,1.003557870883E-2,3.7446988610720003E-2,0.21328624279924999,7.1660413222390001E-2,1.00257090653853,1.0947577138195901,1.003557870883E-2,3.7446988610720003E-2,0.11842865116386,7.1660413222390001E-2,1.00257090653853,1.0947577138195901,1.003557870883E-2,3.7446988610720003E-2,0.10340250620203,7.1660413222390001E-2,1.00257090653853,1.0947577138195901,1.003557870883E-2,3.7446988610720003E-2,-0.11706579215588001,7.1660413222390001E-2,1.00257090653853,1.0947577138195901,1.003557870883E-2,3.7446988610720003E-2,-6.3655778418669998E-2,7.1660413222390001E-2,1.00257090653853,1.0947577138195901,1.003557870883E-2,3.7446988610720003E-2,-7.8909736590830004E-2,7.1660413222390001E-2,1.00257090653853,1.0947577138195901,1.003557870883E-2,3.7446988610720003E-2,6.7077940469460001E-2,7.1660413222390001E-2,1.00257090653853,1.0947577138195901,1.003557870883E-2,3.7446988610720003E-2,6.4038303080440007E-2,7.1660413222390001E-2,1.00257090653853,1.0947577138195901,1.003557870883E-2,3.7446988610720003E-2,6.5558121774950004E-2,7.1660413222390001E-2,1.00257090653853,1.0947577138195901,1.003557870883E-2,3.7446988610720003E-2,0.16585744698155999,7.1660413222390001E-2,1.00257090653853,1.0947577138195901,1.003557870883E-2,3.7446988610720003E-2,0.11091557868295,7.1660413222390001E-2,1.00257090653853,1.0947577138195901,1.003557870883E-2,3.7446988610720003E-2,0.14503913338838001,7.1660413222390001E-2,1.00257090653853]
[null,"Tillage","Offset disk",1.32082496203128,7.9433976225599997E-3,5.1489460823670001E-2,null,2.637550261517E-2,1.00034789407021,1.2523631219862501,8.6693266571099999E-3,2.41503641386E-2,-5.761677683231E-2,9.9618710228160004E-2,1.0049742745429899,1.2523631219862501,8.6693266571099999E-3,2.41503641386E-2,-7.2424392672430005E-2,9.9618710228160004E-2,1.0049742745429899,1.2523631219862501,8.6693266571099999E-3,2.41503641386E-2,-4.9610059436399996E-3,9.9618710228160004E-2,1.0049742745429899,1.2523631219862501,8.6693266571099999E-3,2.41503641386E-2,9.7479638394409998E-2,9.9618710228160004E-2,1.0049742745429899,1.2523631219862501,8.6693266571099999E-3,2.41503641386E-2,null,9.9618710228160004E-2,1.0049742745429899,1.2523631219862501,8.6693266571099999E-3,2.41503641386E-2,6.9814306683480001E-2,9.9618710228160004E-2,1.0049742745429899,1.2523631219862501,8.6693266571099999E-3,2.41503641386E-2,0.25149991692941998,9.9618710228160004E-2,1.0049742745429899,1.2523631219862501,8.6693266571099999E-3,2.41503641386E-2,0.19237230910452,9.9618710228160004E-2,1.0049742745429899,1.2523631219862501,8.6693266571099999E-3,2.41503641386E-2,0.24339838064145999,9.9618710228160004E-2,1.0049742745429899,1.2523631219862501,8.6693266571099999E-3,2.41503641386E-2,-6.5020584752370006E-2,9.9618710228160004E-2,1.0049742745429899,1.2523631219862501,8.6693266571099999E-3,2.41503641386E-2,-3.869269930804E-2,9.9618710228160004E-2,1.0049742745429899,1.2523631219862501,8.6693266571099999E-3,2.41503641386E-2,-4.5000725149459998E-2,9.9618710228160004E-2,1.0049742745429899,1.2523631219862501,8.6693266571099999E-3,2.41503641386E-2,9.7479638394409998E-2,9.9618710228160004E-2,1.0049742745429899,1.2523631219862501,8.6693266571099999E-3,2.41503641386E-2,6.9814306683480001E-2,9.9618710228160004E-2,1.0049742745429899,1.2523631219862501,8.6693266571099999E-3,2.41503641386E-2,8.3646972538949996E-2,9.9618710228160004E-2,1.0049742745429899,1.2523631219862501,8.6693266571099999E-3,2.41503641386E-2,0.22193611301697,9.9618710228160004E-2,1.0049742745429899,1.2523631219862501,8.6693266571099999E-3,2.41503641386E-2,0.21788534487298999,9.9618710228160004E-2,1.0049742745429899,1.2523631219862501,8.6693266571099999E-3,2.41503641386E-2,0.22909020222512999,9.9618710228160004E-2,1.0049742745429899]
[null,"Tillage","Chisel 4-12 in",1.45904658751029,7.2672394557100001E-3,6.5769350038460003E-2,null,2.7302163763279999E-2,1.0003727735358701,1.3973843479935599,7.8796467350599995E-3,5.7645065628450003E-2,-0.13715573341854001,9.1022225017790004E-2,1.00415111483109,1.3973843479935599,7.8796467350599995E-3,5.7645065628450003E-2,-0.20295103048509,9.1022225017790004E-2,1.00415111483109,1.3973843479935599,7.8796467350599995E-3,5.7645065628450003E-2,-0.13938452802783999,9.1022225017790004E-2,1.00415111483109,1.3973843479935599,7.8796467350599995E-3,5.7645065628450003E-2,1.7920207210420001E-2,9.1022225017790004E-2,1.00415111483109,1.3973843479935599,7.8796467350599995E-3,5.7645065628450003E-2,null,9.1022225017790004E-2,1.00415111483109,1.3973843479935599,7.8796467350599995E-3,5.7645065628450003E-2,1.73108815532E-2,9.1022225017790004E-2,1.00415111483109,1.3973843479935599,7.8796467350599995E-3,5.7645065628450003E-2,0.22418585022022999,9.1022225017790004E-2,1.00415111483109,1.3973843479935599,7.8796467350599995E-3,5.7645065628450003E-2,0.17900337697388,9.1022225017790004E-2,1.00415111483109,1.3973843479935599,7.8796467350599995E-3,5.7645065628450003E-2,0.13922456629353,9.1022225017790004E-2,1.00415111483109,1.3973843479935599,7.8796467350599995E-3,5.7645065628450003E-2,-0.17005338195181999,9.1022225017790004E-2,1.00415111483109,1.3973843479935599,7.8796467350599995E-3,5.7645065628450003E-2,-0.17116777925647,9.1022225017790004E-2,1.00415111483109,1.3973843479935599,7.8796467350599995E-3,5.7645065628450003E-2,-0.15983043064381999,9.1022225017790004E-2,1.00415111483109,1.3973843479935599,7.8796467350599995E-3,5.7645065628450003E-2,1.7920207210420001E-2,9.1022225017790004E-2,1.00415111483109,1.3973843479935599,7.8796467350599995E-3,5.7645065628450003E-2,1.73108815532E-2,9.1022225017790004E-2,1.00415111483109,1.3973843479935599,7.8796467350599995E-3,5.7645065628450003E-2,1.7615544381810001E-2,9.1022225017790004E-2,1.00415111483109,1.3973843479935599,7.8796467350599995E-3,5.7645065628450003E-2,0.20159461359705999,9.1022225017790004E-2,1.00415111483109,1.3973843479935599,7.8796467350599995E-3,5.7645065628450003E-2,0.15911397163370999,9.1022225017790004E-2,1.00415111483109,1.3973843479935599,7.8796467350599995E-3,5.7645065628450003E-2,0.18080459782920999,9.1022225017790004E-2,1.00415111483109]
[null,"Tillage","Springtooth harrow",0.90598709518846998,1.065434413174E-2,3.8038561422853103E-5,null,9.0343448978420005E-2,1.0040893078814099,0.95799015241623997,9.48256272868E-3,6.49104048809756E-4,-2.9989762311699998E-3,9.2307895424620007E-2,1.00426946207316,0.95799015241623997,9.48256272868E-3,6.49104048809756E-4,-2.3511263267299999E-2,9.2307895424620007E-2,1.00426946207316,0.95799015241623997,9.48256272868E-3,6.49104048809756E-4,-4.0894338147960001E-2,9.2307895424620007E-2,1.00426946207316,0.95799015241623997,9.48256272868E-3,6.49104048809756E-4,2.907021804802E-2,9.2307895424620007E-2,1.00426946207316,0.95799015241623997,9.48256272868E-3,6.49104048809756E-4,null,9.2307895424620007E-2,1.00426946207316,0.95799015241623997,9.48256272868E-3,6.49104048809756E-4,2.322357444924E-2,9.2307895424620007E-2,1.00426946207316,0.95799015241623997,9.48256272868E-3,6.49104048809756E-4,0.16428286132559999,9.2307895424620007E-2,1.00426946207316,0.95799015241623997,9.48256272868E-3,6.49104048809756E-4,0.17312150447923,9.2307895424620007E-2,1.00426946207316,0.95799015241623997,9.48256272868E-3,6.49104048809756E-4,0.17285709462949,9.2307895424620007E-2,1.00426946207316,0.95799015241623997,9.48256272868E-3,6.49104048809756E-4,-1.3255119749239999E-2,9.2307895424620007E-2,1.00426946207316,0.95799015241623997,9.48256272868E-3,6.49104048809756E-4,-3.220280070763E-2,9.2307895424620007E-2,1.00426946207316,0.95799015241623997,9.48256272868E-3,6.49104048809756E-4,-2.2468192548809999E-2,9.2307895424620007E-2,1.00426946207316,0.95799015241623997,9.48256272868E-3,6.49104048809756E-4,2.907021804802E-2,9.2307895424620007E-2,1.00426946207316,0.95799015241623997,9.48256272868E-3,6.49104048809756E-4,2.322357444924E-2,9.2307895424620007E-2,1.00426946207316,0.95799015241623997,9.48256272868E-3,6.49104048809756E-4,2.6146896248630001E-2,9.2307895424620007E-2,1.00426946207316,0.95799015241623997,9.48256272868E-3,6.49104048809756E-4,0.16870218290240999,9.2307895424620007E-2,1.00426946207316,0.95799015241623997,9.48256272868E-3,6.49104048809756E-4,0.17298929955435999,9.2307895424620007E-2,1.00426946207316,0.95799015241623997,9.48256272868E-3,6.49104048809756E-4,0.17008715347809999,9.2307895424620007E-2,1.00426946207316,null,null,"State","Intercept"]
[null,"Tillage","Field cultivate",1.1253082236895999,9.2175442681300002E-3,4.7994007564249999E-2,null,2.550590985304E-2,1.0003253286266001,1.00084326421341,1.011415649388E-2,2.5553938028120001E-2,2.141861889673E-2,8.3838922960960002E-2,1.0035206655365201,1.00084326421341,1.011415649388E-2,2.5553938028120001E-2,-5.60942220927E-3,8.3838922960960002E-2,1.0035206655365201,1.00084326421341,1.011415649388E-2,2.5553938028120001E-2,7.565117346769E-2,8.3838922960960002E-2,1.0035206655365201,1.00084326421341,1.011415649388E-2,2.5553938028120001E-2,0.11795224550071,8.3838922960960002E-2,1.0035206655365201,1.00084326421341,1.011415649388E-2,2.5553938028120001E-2,null,8.3838922960960002E-2,1.0035206655365201,1.00084326421341,1.011415649388E-2,2.5553938028120001E-2,6.6693857250669994E-2,8.3838922960960002E-2,1.0035206655365201,1.00084326421341,1.011415649388E-2,2.5553938028120001E-2,0.26317987142270999,8.3838922960960002E-2,1.0035206655365201,1.00084326421341,1.011415649388E-2,2.5553938028120001E-2,0.18750736363608,8.3838922960960002E-2,1.0035206655365201,1.00084326421341,1.011415649388E-2,2.5553938028120001E-2,0.12660584673551001,8.3838922960960002E-2,1.0035206655365201,1.00084326421341,1.011415649388E-2,2.5553938028120001E-2,7.9045983437299999E-3,8.3838922960960002E-2,1.0035206655365201,1.00084326421341,1.011415649388E-2,2.5553938028120001E-2,3.5020875629210003E-2,8.3838922960960002E-2,1.0035206655365201,1.00084326421341,1.011415649388E-2,2.5553938028120001E-2,3.0486790051710001E-2,8.3838922960960002E-2,1.0035206655365201,1.00084326421341,1.011415649388E-2,2.5553938028120001E-2,0.11795224550071,8.3838922960960002E-2,1.0035206655365201,1.00084326421341,1.011415649388E-2,2.5553938028120001E-2,6.6693857250669994E-2,8.3838922960960002E-2,1.0035206655365201,1.00084326421341,1.011415649388E-2,2.5553938028120001E-2,9.2323051375689996E-2,8.3838922960960002E-2,1.0035206655365201,1.00084326421341,1.011415649388E-2,2.5553938028120001E-2,0.22534361752939999,8.3838922960960002E-2,1.0035206655365201,1.00084326421341,1.011415649388E-2,2.5553938028120001E-2,0.1570566051858,8.3838922960960002E-2,1.0035206655365201,1.00084326421341,1.011415649388E-2,2.5553938028120001E-2,0.19243102726476999,8.3838922960960002E-2,1.0035206655365201,null,null,"State","PPI"]
[null,"Tillage","V-blade",1.16406259827579,7.0288865181400003E-3,5.6812344138070001E-2,null,2.468959477645E-2,1.0003048344977099,1.27429044078666,7.4774859491700003E-3,1.027896319035E-2,-9.9680761801790002E-2,9.0822265156990004E-2,1.00413285872699,1.27429044078666,7.4774859491700003E-3,1.027896319035E-2,-0.17171899722302,9.0822265156990004E-2,1.00413285872699,1.27429044078666,7.4774859491700003E-3,1.027896319035E-2,-6.1503904704210001E-2,9.0822265156990004E-2,1.00413285872699,1.27429044078666,7.4774859491700003E-3,1.027896319035E-2,7.3036762520519993E-2,9.0822265156990004E-2,1.00413285872699,1.27429044078666,7.4774859491700003E-3,1.027896319035E-2,null,9.0822265156990004E-2,1.00413285872699,1.27429044078666,7.4774859491700003E-3,1.027896319035E-2,4.952843925534E-2,9.0822265156990004E-2,1.00413285872699,1.27429044078666,7.4774859491700003E-3,1.027896319035E-2,-9.1405335212099995E-2,9.0822265156990004E-2,1.00413285872699,1.27429044078666,7.4774859491700003E-3,1.027896319035E-2,-9.1405335212099995E-2,9.0822265156990004E-2,1.00413285872699,1.27429044078666,7.4774859491700003E-3,1.027896319035E-2,-9.0883731472420001E-2,9.0822265156990004E-2,1.00413285872699,1.27429044078666,7.4774859491700003E-3,1.027896319035E-2,-0.13569987951240001,9.0822265156990004E-2,1.00413285872699,1.27429044078666,7.4774859491700003E-3,1.027896319035E-2,-0.11661145096361,9.0822265156990004E-2,1.00413285872699,1.27429044078666,7.4774859491700003E-3,1.027896319035E-2,-0.11096788790966999,9.0822265156990004E-2,1.00413285872699,1.27429044078666,7.4774859491700003E-3,1.027896319035E-2,7.3036762520519993E-2,9.0822265156990004E-2,1.00413285872699,1.27429044078666,7.4774859491700003E-3,1.027896319035E-2,4.952843925534E-2,9.0822265156990004E-2,1.00413285872699,1.27429044078666,7.4774859491700003E-3,1.027896319035E-2,6.128260088793E-2,9.0822265156990004E-2,1.00413285872699,1.27429044078666,7.4774859491700003E-3,1.027896319035E-2,-9.1405335212099995E-2,9.0822265156990004E-2,1.00413285872699,1.27429044078666,7.4774859491700003E-3,1.027896319035E-2,-9.1144533342259998E-2,9.0822265156990004E-2,1.00413285872699,1.27429044078666,7.4774859491700003E-3,1.027896319035E-2,-9.1231467298880001E-2,9.0822265156990004E-2,1.00413285872699,null,null,"State","fuel"]
[null,"Fertillizer application","Row crop cultivation with fertilizer",1.31564937816148,8.0067426981000004E-3,1.8244842280039999E-2,null,6.9064883178530004E-2,1.0023878253691101,1.15454902363889,8.7604754127200007E-3,5.6179558113429999E-2,0.11173445461881,0.17313133387943,1.0151001010808101,1.15454902363889,8.7604754127200007E-3,5.6179558113429999E-2,0.11173445461881,0.17313133387943,1.0151001010808101,1.15454902363889,8.7604754127200007E-3,5.6179558113429999E-2,0.11173445461881,0.17313133387943,1.0151001010808101,1.15454902363889,8.7604754127200007E-3,5.6179558113429999E-2,5.3488944772982901E-16,0.17313133387943,1.0151001010808101,1.15454902363889,8.7604754127200007E-3,5.6179558113429999E-2,null,0.17313133387943,1.0151001010808101,1.15454902363889,8.7604754127200007E-3,5.6179558113429999E-2,5.3835889468178301E-16,0.17313133387943,1.0151001010808101,1.15454902363889,8.7604754127200007E-3,5.6179558113429999E-2,3.80983445123E-2,0.17313133387943,1.0151001010808101,1.15454902363889,8.7604754127200007E-3,5.6179558113429999E-2,3.80983445123E-2,0.17313133387943,1.0151001010808101,1.15454902363889,8.7604754127200007E-3,5.6179558113429999E-2,3.80983445123E-2,0.17313133387943,1.0151001010808101,1.15454902363889,8.7604754127200007E-3,5.6179558113429999E-2,0.11173445461881,0.17313133387943,1.0151001010808101,1.15454902363889,8.7604754127200007E-3,5.6179558113429999E-2,0.11173445461881,0.17313133387943,1.0151001010808101,1.15454902363889,8.7604754127200007E-3,5.6179558113429999E-2,0.11173445461881,0.17313133387943,1.0151001010808101,1.15454902363889,8.7604754127200007E-3,5.6179558113429999E-2,5.3488944772982901E-16,0.17313133387943,1.0151001010808101,1.15454902363889,8.7604754127200007E-3,5.6179558113429999E-2,5.3835889468178301E-16,0.17313133387943,1.0151001010808101,1.15454902363889,8.7604754127200007E-3,5.6179558113429999E-2,5.3662417120580601E-16,0.17313133387943,1.0151001010808101,1.15454902363889,8.7604754127200007E-3,5.6179558113429999E-2,3.80983445123E-2,0.17313133387943,1.0151001010808101,1.15454902363889,8.7604754127200007E-3,5.6179558113429999E-2,3.80983445123E-2,0.17313133387943,1.0151001010808101,1.15454902363889,8.7604754127200007E-3,5.6179558113429999E-2,3.80983445123E-2,0.17313133387943,1.0151001010808101,null,null,"State","Adjustment factor"]
[null,"Fertillizer application","Dry fertilizer",0.59995436086477005,8.9944697687200006E-3,3.3245772356029997E-2,null,4.068660759039E-2,1.0008280426567899,0.57142339880380999,8.5298019169899996E-3,3.7774759814220002E-2,6.6838055507370001E-2,5.8915734084180001E-2,1.0017370387683999,0.57142339880380999,8.5298019169899996E-3,3.7774759814220002E-2,0.10788790691418999,5.8915734084180001E-2,1.0017370387683999,0.57142339880380999,8.5298019169899996E-3,3.7774759814220002E-2,8.0617648666479996E-2,5.8915734084180001E-2,1.0017370387683999,0.57142339880380999,8.5298019169899996E-3,3.7774759814220002E-2,8.1481124013309994E-2,5.8915734084180001E-2,1.0017370387683999,0.57142339880380999,8.5298019169899996E-3,3.7774759814220002E-2,null,5.8915734084180001E-2,1.0017370387683999,0.57142339880380999,8.5298019169899996E-3,3.7774759814220002E-2,-2.296822019266E-2,5.8915734084180001E-2,1.0017370387683999,0.57142339880380999,8.5298019169899996E-3,3.7774759814220002E-2,0.15112171795507001,5.8915734084180001E-2,1.0017370387683999,0.57142339880380999,8.5298019169899996E-3,3.7774759814220002E-2,9.5456209823159999E-2,5.8915734084180001E-2,1.0017370387683999,0.57142339880380999,8.5298019169899996E-3,3.7774759814220002E-2,-2.0548267446459999E-2,5.8915734084180001E-2,1.0017370387683999,0.57142339880380999,8.5298019169899996E-3,3.7774759814220002E-2,8.7362981210779997E-2,5.8915734084180001E-2,1.0017370387683999,0.57142339880380999,8.5298019169899996E-3,3.7774759814220002E-2,9.4252777790339998E-2,5.8915734084180001E-2,1.0017370387683999,0.57142339880380999,8.5298019169899996E-3,3.7774759814220002E-2,8.5114537029349999E-2,5.8915734084180001E-2,1.0017370387683999,0.57142339880380999,8.5298019169899996E-3,3.7774759814220002E-2,8.1481124013309994E-2,5.8915734084180001E-2,1.0017370387683999,0.57142339880380999,8.5298019169899996E-3,3.7774759814220002E-2,-2.296822019266E-2,5.8915734084180001E-2,1.0017370387683999,0.57142339880380999,8.5298019169899996E-3,3.7774759814220002E-2,2.9256451910330002E-2,5.8915734084180001E-2,1.0017370387683999,0.57142339880380999,8.5298019169899996E-3,3.7774759814220002E-2,0.12328896388912,5.8915734084180001E-2,1.0017370387683999,0.57142339880380999,8.5298019169899996E-3,3.7774759814220002E-2,3.7453971188349998E-2,5.8915734084180001E-2,1.0017370387683999,0.57142339880380999,8.5298019169899996E-3,3.7774759814220002E-2,7.5343220110589998E-2,5.8915734084180001E-2,1.0017370387683999,null,null,"State","RMSE"]
[null,"Fertillizer application","Liquid fertilizer",0.66354583633623998,8.6405758915900008E-3,3.4983282205609999E-2,null,2.760280069736E-2,1.00038102987662,0.58041015130272999,8.5787186273900001E-3,3.6400427110710003E-2,0.13778049427166,5.3186599155060001E-2,1.0014154079104201,0.58041015130272999,8.5787186273900001E-3,3.6400427110710003E-2,9.3646099764249993E-2,5.3186599155060001E-2,1.0014154079104201,0.58041015130272999,8.5787186273900001E-3,3.6400427110710003E-2,0.16158984210751001,5.3186599155060001E-2,1.0014154079104201,0.58041015130272999,8.5787186273900001E-3,3.6400427110710003E-2,8.0563562495820001E-2,5.3186599155060001E-2,1.0014154079104201,0.58041015130272999,8.5787186273900001E-3,3.6400427110710003E-2,null,5.3186599155060001E-2,1.0014154079104201,0.58041015130272999,8.5787186273900001E-3,3.6400427110710003E-2,-5.4057445320800004E-3,5.3186599155060001E-2,1.0014154079104201,0.58041015130272999,8.5787186273900001E-3,3.6400427110710003E-2,0.18428721423186001,5.3186599155060001E-2,1.0014154079104201,0.58041015130272999,8.5787186273900001E-3,3.6400427110710003E-2,0.16447487076066999,5.3186599155060001E-2,1.0014154079104201,0.58041015130272999,8.5787186273900001E-3,3.6400427110710003E-2,4.9807225296349997E-2,5.3186599155060001E-2,1.0014154079104201,0.58041015130272999,8.5787186273900001E-3,3.6400427110710003E-2,0.11571329701795,5.3186599155060001E-2,1.0014154079104201,0.58041015130272999,8.5787186273900001E-3,3.6400427110710003E-2,0.12761797093588001,5.3186599155060001E-2,1.0014154079104201,0.58041015130272999,8.5787186273900001E-3,3.6400427110710003E-2,0.13100547871446999,5.3186599155060001E-2,1.0014154079104201,0.58041015130272999,8.5787186273900001E-3,3.6400427110710003E-2,8.0563562495820001E-2,5.3186599155060001E-2,1.0014154079104201,0.58041015130272999,8.5787186273900001E-3,3.6400427110710003E-2,-5.4057445320800004E-3,5.3186599155060001E-2,1.0014154079104201,0.58041015130272999,8.5787186273900001E-3,3.6400427110710003E-2,3.7578908981870003E-2,5.3186599155060001E-2,1.0014154079104201,0.58041015130272999,8.5787186273900001E-3,3.6400427110710003E-2,0.17438104249625999,5.3186599155060001E-2,1.0014154079104201,0.58041015130272999,8.5787186273900001E-3,3.6400427110710003E-2,0.10714104802851,5.3186599155060001E-2,1.0014154079104201,0.58041015130272999,8.5787186273900001E-3,3.6400427110710003E-2,0.13285643676296,5.3186599155060001E-2,1.0014154079104201,null,null,"State","LN adjustment"]
[null,"Fertillizer application","NH3 application",0.88116500877231996,1.3471609829450001E-2,3.6029964259250001E-2,null,5.0324999542520003E-2,1.00126710488939,0.84389789899095002,1.188358991333E-2,5.7675813490319999E-2,7.8160667971490003E-2,0.12821924024966999,1.0082539644606701,0.84389789899095002,1.188358991333E-2,5.7675813490319999E-2,-3.0103342749729999E-2,0.12821924024966999,1.0082539644606701,0.84389789899095002,1.188358991333E-2,5.7675813490319999E-2,0.11409048837000001,0.12821924024966999,1.0082539644606701,0.84389789899095002,1.188358991333E-2,5.7675813490319999E-2,7.2765245921829994E-2,0.12821924024966999,1.0082539644606701,0.84389789899095002,1.188358991333E-2,5.7675813490319999E-2,null,0.12821924024966999,1.0082539644606701,0.84389789899095002,1.188358991333E-2,5.7675813490319999E-2,-0.13796293266656001,0.12821924024966999,1.0082539644606701,0.84389789899095002,1.188358991333E-2,5.7675813490319999E-2,0.30090599317406003,0.12821924024966999,1.0082539644606701,0.84389789899095002,1.188358991333E-2,5.7675813490319999E-2,0.16090017366393,0.12821924024966999,1.0082539644606701,0.84389789899095002,1.188358991333E-2,5.7675813490319999E-2,2.5037732048599999E-2,0.12821924024966999,1.0082539644606701,0.84389789899095002,1.188358991333E-2,5.7675813490319999E-2,2.4028662610879999E-2,0.12821924024966999,1.0082539644606701,0.84389789899095002,1.188358991333E-2,5.7675813490319999E-2,4.1993572810129998E-2,0.12821924024966999,1.0082539644606701,0.84389789899095002,1.188358991333E-2,5.7675813490319999E-2,5.4049271197249997E-2,0.12821924024966999,1.0082539644606701,0.84389789899095002,1.188358991333E-2,5.7675813490319999E-2,7.2765245921829994E-2,0.12821924024966999,1.0082539644606701,0.84389789899095002,1.188358991333E-2,5.7675813490319999E-2,-0.13796293266656001,0.12821924024966999,1.0082539644606701,0.84389789899095002,1.188358991333E-2,5.7675813490319999E-2,-3.2598843372369998E-2,0.12821924024966999,1.0082539644606701,0.84389789899095002,1.188358991333E-2,5.7675813490319999E-2,0.23090308341900001,0.12821924024966999,1.0082539644606701,0.84389789899095002,1.188358991333E-2,5.7675813490319999E-2,9.2968952856270007E-2,0.12821924024966999,1.0082539644606701,0.84389789899095002,1.188358991333E-2,5.7675813490319999E-2,0.16228129962886001,0.12821924024966999,1.0082539644606701,null,null,"CRD - Northwest","Intercept"]
[null,"Fertillizer application","Ground herbicide",0.74695731143267996,7.9928621042299995E-3,2.8200594166030001E-2,null,3.0312134678560001E-2,1.00045951830059,0.68053650023884005,7.8253892324500005E-3,2.711304629768E-2,6.5322110560130001E-2,4.4870102131690001E-2,1.0010071698879499,0.68053650023884005,7.8253892324500005E-3,2.711304629768E-2,3.853773662605E-2,4.4870102131690001E-2,1.0010071698879499,0.68053650023884005,7.8253892324500005E-3,2.711304629768E-2,9.1188328318979994E-2,4.4870102131690001E-2,1.0010071698879499,0.68053650023884005,7.8253892324500005E-3,2.711304629768E-2,6.0841249666599997E-2,4.4870102131690001E-2,1.0010071698879499,0.68053650023884005,7.8253892324500005E-3,2.711304629768E-2,null,4.4870102131690001E-2,1.0010071698879499,0.68053650023884005,7.8253892324500005E-3,2.711304629768E-2,1.0087540316120001E-2,4.4870102131690001E-2,1.0010071698879499,0.68053650023884005,7.8253892324500005E-3,2.711304629768E-2,0.19039407601340999,4.4870102131690001E-2,1.0010071698879499,0.68053650023884005,7.8253892324500005E-3,2.711304629768E-2,0.17589456857753,4.4870102131690001E-2,1.0010071698879499,0.68053650023884005,7.8253892324500005E-3,2.711304629768E-2,7.298568755333E-2,4.4870102131690001E-2,1.0010071698879499,0.68053650023884005,7.8253892324500005E-3,2.711304629768E-2,5.1929923593089997E-2,4.4870102131690001E-2,1.0010071698879499,0.68053650023884005,7.8253892324500005E-3,2.711304629768E-2,6.4863032472510004E-2,4.4870102131690001E-2,1.0010071698879499,0.68053650023884005,7.8253892324500005E-3,2.711304629768E-2,6.501605850172E-2,4.4870102131690001E-2,1.0010071698879499,0.68053650023884005,7.8253892324500005E-3,2.711304629768E-2,6.0841249666599997E-2,4.4870102131690001E-2,1.0010071698879499,0.68053650023884005,7.8253892324500005E-3,2.711304629768E-2,1.0087540316120001E-2,4.4870102131690001E-2,1.0010071698879499,0.68053650023884005,7.8253892324500005E-3,2.711304629768E-2,3.5464394991359997E-2,4.4870102131690001E-2,1.0010071698879499,0.68053650023884005,7.8253892324500005E-3,2.711304629768E-2,0.18314432229547001,4.4870102131690001E-2,1.0010071698879499,0.68053650023884005,7.8253892324500005E-3,2.711304629768E-2,0.12444012806543001,4.4870102131690001E-2,1.0010071698879499,0.68053650023884005,7.8253892324500005E-3,2.711304629768E-2,0.14642477738142001,4.4870102131690001E-2,1.0010071698879499,null,null,"CRD - Northwest","PPI"]
[null,"Fertillizer application","Aerial herbicide",0.93597179225860005,7.9233535095000005E-3,3.2871737663429997E-2,null,9.0487062742700006E-2,1.0041023459404601,0.99068234488455997,5.8593546185199998E-3,4.2544160884870001E-2,6.2057670468769997E-2,0.12980478345304,1.0084602280569499,0.99068234488455997,5.8593546185199998E-3,4.2544160884870001E-2,6.7644354486400002E-3,0.12980478345304,1.0084602280569499,0.99068234488455997,5.8593546185199998E-3,4.2544160884870001E-2,1.2501338847569999E-2,0.12980478345304,1.0084602280569499,0.99068234488455997,5.8593546185199998E-3,4.2544160884870001E-2,5.178190592174E-2,0.12980478345304,1.0084602280569499,0.99068234488455997,5.8593546185199998E-3,4.2544160884870001E-2,null,0.12980478345304,1.0084602280569499,0.99068234488455997,5.8593546185199998E-3,4.2544160884870001E-2,8.143304433437E-2,0.12980478345304,1.0084602280569499,0.99068234488455997,5.8593546185199998E-3,4.2544160884870001E-2,0.20839007087957001,0.12980478345304,1.0084602280569499,0.99068234488455997,5.8593546185199998E-3,4.2544160884870001E-2,0.23315148224241999,0.12980478345304,1.0084602280569499,0.99068234488455997,5.8593546185199998E-3,4.2544160884870001E-2,0.25671819430484,0.12980478345304,1.0084602280569499,0.99068234488455997,5.8593546185199998E-3,4.2544160884870001E-2,3.4411052958699999E-2,0.12980478345304,1.0084602280569499,0.99068234488455997,5.8593546185199998E-3,4.2544160884870001E-2,9.6328871481099997E-3,0.12980478345304,1.0084602280569499,0.99068234488455997,5.8593546185199998E-3,4.2544160884870001E-2,2.7107814921659999E-2,0.12980478345304,1.0084602280569499,0.99068234488455997,5.8593546185199998E-3,4.2544160884870001E-2,5.178190592174E-2,0.12980478345304,1.0084602280569499,0.99068234488455997,5.8593546185199998E-3,4.2544160884870001E-2,8.143304433437E-2,0.12980478345304,1.0084602280569499,0.99068234488455997,5.8593546185199998E-3,4.2544160884870001E-2,6.660747512805E-2,0.12980478345304,1.0084602280569499,0.99068234488455997,5.8593546185199998E-3,4.2544160884870001E-2,0.220770776561,0.12980478345304,1.0084602280569499,0.99068234488455997,5.8593546185199998E-3,4.2544160884870001E-2,0.24493483827363,0.12980478345304,1.0084602280569499,0.99068234488455997,5.8593546185199998E-3,4.2544160884870001E-2,0.23275324914227999,0.12980478345304,1.0084602280569499,null,null,"CRD - Northwest","fuel"]
[null,"Fertillizer application","Ground insecticide",0.75440937947414,7.9583346316599995E-3,2.945396982377E-2,null,3.592271256922E-2,1.00064542883878,0.68802537424085997,7.8891208071700004E-3,2.6434263062370001E-2,7.5282241265560004E-2,5.0401220339329998E-2,1.00127094847719,0.68802537424085997,7.8891208071700004E-3,2.6434263062370001E-2,3.2851384541409998E-2,5.0401220339329998E-2,1.00127094847719,0.68802537424085997,7.8891208071700004E-3,2.6434263062370001E-2,7.7105591659569997E-2,5.0401220339329998E-2,1.00127094847719,0.68802537424085997,7.8891208071700004E-3,2.6434263062370001E-2,6.112236906488E-2,5.0401220339329998E-2,1.00127094847719,0.68802537424085997,7.8891208071700004E-3,2.6434263062370001E-2,null,5.0401220339329998E-2,1.00127094847719,0.68802537424085997,7.8891208071700004E-3,2.6434263062370001E-2,5.1437182355E-3,5.0401220339329998E-2,1.00127094847719,0.68802537424085997,7.8891208071700004E-3,2.6434263062370001E-2,0.18168115201196999,5.0401220339329998E-2,1.00127094847719,0.68802537424085997,7.8891208071700004E-3,2.6434263062370001E-2,0.20237449523122,5.0401220339329998E-2,1.00127094847719,0.68802537424085997,7.8891208071700004E-3,2.6434263062370001E-2,6.1074402255549998E-2,5.0401220339329998E-2,1.00127094847719,0.68802537424085997,7.8891208071700004E-3,2.6434263062370001E-2,5.4066812903479998E-2,5.0401220339329998E-2,1.00127094847719,0.68802537424085997,7.8891208071700004E-3,2.6434263062370001E-2,5.4978488100489997E-2,5.0401220339329998E-2,1.00127094847719,0.68802537424085997,7.8891208071700004E-3,2.6434263062370001E-2,6.1746405822180002E-2,5.0401220339329998E-2,1.00127094847719,0.68802537424085997,7.8891208071700004E-3,2.6434263062370001E-2,6.112236906488E-2,5.0401220339329998E-2,1.00127094847719,0.68802537424085997,7.8891208071700004E-3,2.6434263062370001E-2,5.1437182355E-3,5.0401220339329998E-2,1.00127094847719,0.68802537424085997,7.8891208071700004E-3,2.6434263062370001E-2,3.313304365019E-2,5.0401220339329998E-2,1.00127094847719,0.68802537424085997,7.8891208071700004E-3,2.6434263062370001E-2,0.19202782362160001,5.0401220339329998E-2,1.00127094847719,0.68802537424085997,7.8891208071700004E-3,2.6434263062370001E-2,0.13172444874339001,5.0401220339329998E-2,1.00127094847719,0.68802537424085997,7.8891208071700004E-3,2.6434263062370001E-2,0.14837668316625,5.0401220339329998E-2,1.00127094847719,null,null,"CRD - Northwest","Adjustment factor"]
[null,"Fertillizer application","Aerial insecticide",0.93613188946106995,8.1692159798699999E-3,3.2887079564549997E-2,null,6.2681400029340001E-2,1.0019664098077701,0.90037322149446997,7.6057198208699999E-3,4.3124878804820001E-2,5.5106760645140002E-2,0.11682424419086,1.0068472882274699,0.90037322149446997,7.6057198208699999E-3,4.3124878804820001E-2,-2.982921854241E-2,0.11682424419086,1.0068472882274699,0.90037322149446997,7.6057198208699999E-3,4.3124878804820001E-2,-2.789358323851E-2,0.11682424419086,1.0068472882274699,0.90037322149446997,7.6057198208699999E-3,4.3124878804820001E-2,2.6419432947629998E-2,0.11682424419086,1.0068472882274699,0.90037322149446997,7.6057198208699999E-3,4.3124878804820001E-2,null,0.11682424419086,1.0068472882274699,0.90037322149446997,7.6057198208699999E-3,4.3124878804820001E-2,5.2185955071860003E-2,0.11682424419086,1.0068472882274699,0.90037322149446997,7.6057198208699999E-3,4.3124878804820001E-2,0.18549524343932999,0.11682424419086,1.0068472882274699,0.90037322149446997,7.6057198208699999E-3,4.3124878804820001E-2,0.20757154649953,0.11682424419086,1.0068472882274699,0.90037322149446997,7.6057198208699999E-3,4.3124878804820001E-2,0.23729255316400999,0.11682424419086,1.0068472882274699,0.90037322149446997,7.6057198208699999E-3,4.3124878804820001E-2,1.263877105136E-2,0.11682424419086,1.0068472882274699,0.90037322149446997,7.6057198208699999E-3,4.3124878804820001E-2,-2.886140089046E-2,0.11682424419086,1.0068472882274699,0.90037322149446997,7.6057198208699999E-3,4.3124878804820001E-2,-8.7201371192744998E-4,0.11682424419086,1.0068472882274699,0.90037322149446997,7.6057198208699999E-3,4.3124878804820001E-2,2.6419432947629998E-2,0.11682424419086,1.0068472882274699,0.90037322149446997,7.6057198208699999E-3,4.3124878804820001E-2,5.2185955071860003E-2,0.11682424419086,1.0068472882274699,0.90037322149446997,7.6057198208699999E-3,4.3124878804820001E-2,3.9302694009749999E-2,0.11682424419086,1.0068472882274699,0.90037322149446997,7.6057198208699999E-3,4.3124878804820001E-2,0.19653339496943001,0.11682424419086,1.0068472882274699,0.90037322149446997,7.6057198208699999E-3,4.3124878804820001E-2,0.22243204983177001,0.11682424419086,1.0068472882274699,0.90037322149446997,7.6057198208699999E-3,4.3124878804820001E-2,0.21011978103428999,0.11682424419086,1.0068472882274699,null,null,"CRD - Northwest","RMSE"]
[null,"Planting","Wheat, reg-till planting",1.0130894240231501,1.304615150942E-2,4.128882149239E-2,null,3.506283987771E-2,1.0006148903377501,1.0091166103270199,1.32495577138E-2,3.4133190588189997E-2,-6.4918775979859997E-2,7.0473399066140002E-2,1.00248633580698,1.0091166103270199,1.32495577138E-2,3.4133190588189997E-2,-0.12911674511422,7.0473399066140002E-2,1.00248633580698,1.0091166103270199,1.32495577138E-2,3.4133190588189997E-2,-4.6508431392069997E-2,7.0473399066140002E-2,1.00248633580698,1.0091166103270199,1.32495577138E-2,3.4133190588189997E-2,0.10029544986987,7.0473399066140002E-2,1.00248633580698,1.0091166103270199,1.32495577138E-2,3.4133190588189997E-2,null,7.0473399066140002E-2,1.00248633580698,1.0091166103270199,1.32495577138E-2,3.4133190588189997E-2,1.6459498437719999E-2,7.0473399066140002E-2,1.00248633580698,1.0091166103270199,1.32495577138E-2,3.4133190588189997E-2,0.16143007956145,7.0473399066140002E-2,1.00248633580698,1.0091166103270199,1.32495577138E-2,3.4133190588189997E-2,0.12351247400487,7.0473399066140002E-2,1.00248633580698,1.0091166103270199,1.32495577138E-2,3.4133190588189997E-2,5.2984816704800004E-3,7.0473399066140002E-2,1.00248633580698,1.0091166103270199,1.32495577138E-2,3.4133190588189997E-2,-9.7017760547040005E-2,7.0473399066140002E-2,1.00248633580698,1.0091166103270199,1.32495577138E-2,3.4133190588189997E-2,-8.7812588253140006E-2,7.0473399066140002E-2,1.00248633580698,1.0091166103270199,1.32495577138E-2,3.4133190588189997E-2,-8.0181317495380003E-2,7.0473399066140002E-2,1.00248633580698,1.0091166103270199,1.32495577138E-2,3.4133190588189997E-2,0.10029544986987,7.0473399066140002E-2,1.00248633580698,1.0091166103270199,1.32495577138E-2,3.4133190588189997E-2,1.6459498437719999E-2,7.0473399066140002E-2,1.00248633580698,1.0091166103270199,1.32495577138E-2,3.4133190588189997E-2,5.8377474153799999E-2,7.0473399066140002E-2,1.00248633580698,1.0091166103270199,1.32495577138E-2,3.4133190588189997E-2,0.14247127678315999,7.0473399066140002E-2,1.00248633580698,1.0091166103270199,1.32495577138E-2,3.4133190588189997E-2,6.4405477837679997E-2,7.0473399066140002E-2,1.00248633580698,1.0091166103270199,1.32495577138E-2,3.4133190588189997E-2,9.6747011745600006E-2,7.0473399066140002E-2,1.00248633580698,null,null,"CRD - Northwest","LN adjustment"]
[null,"Planting","Milo, reg-till planting",1.1660840095799501,1.32554920643E-2,2.2445007217690001E-2,null,3.7489341147170001E-2,1.0007029723191301,1.1776110440957801,1.3684887014489999E-2,7.7020214558400002E-3,-3.096369509375E-2,7.2284738739290005E-2,1.00261595738831,1.1776110440957801,1.3684887014489999E-2,7.7020214558400002E-3,-7.2031733300799997E-2,7.2284738739290005E-2,1.00261595738831,1.1776110440957801,1.3684887014489999E-2,7.7020214558400002E-3,-6.9597596693979996E-2,7.2284738739290005E-2,1.00261595738831,1.1776110440957801,1.3684887014489999E-2,7.7020214558400002E-3,-9.1013946016600001E-3,7.2284738739290005E-2,1.00261595738831,1.1776110440957801,1.3684887014489999E-2,7.7020214558400002E-3,null,7.2284738739290005E-2,1.00261595738831,1.1776110440957801,1.3684887014489999E-2,7.7020214558400002E-3,3.7920265707920002E-2,7.2284738739290005E-2,1.00261595738831,1.1776110440957801,1.3684887014489999E-2,7.7020214558400002E-3,4.3693309679899997E-2,7.2284738739290005E-2,1.00261595738831,1.1776110440957801,1.3684887014489999E-2,7.7020214558400002E-3,-1.8621884864319999E-2,7.2284738739290005E-2,1.00261595738831,1.1776110440957801,1.3684887014489999E-2,7.7020214558400002E-3,-0.11678168821991,7.2284738739290005E-2,1.00261595738831,1.1776110440957801,1.3684887014489999E-2,7.7020214558400002E-3,-5.1497714197269999E-2,7.2284738739290005E-2,1.00261595738831,1.1776110440957801,1.3684887014489999E-2,7.7020214558400002E-3,-7.0814664997390003E-2,7.2284738739290005E-2,1.00261595738831,1.1776110440957801,1.3684887014489999E-2,7.7020214558400002E-3,-5.7531008362840003E-2,7.2284738739290005E-2,1.00261595738831,1.1776110440957801,1.3684887014489999E-2,7.7020214558400002E-3,-9.1013946016600001E-3,7.2284738739290005E-2,1.00261595738831,1.1776110440957801,1.3684887014489999E-2,7.7020214558400002E-3,3.7920265707920002E-2,7.2284738739290005E-2,1.00261595738831,1.1776110440957801,1.3684887014489999E-2,7.7020214558400002E-3,1.440943555313E-2,7.2284738739290005E-2,1.00261595738831,1.1776110440957801,1.3684887014489999E-2,7.7020214558400002E-3,1.2535712407790001E-2,7.2284738739290005E-2,1.00261595738831,1.1776110440957801,1.3684887014489999E-2,7.7020214558400002E-3,-6.7701786542120002E-2,7.2284738739290005E-2,1.00261595738831,1.1776110440957801,1.3684887014489999E-2,7.7020214558400002E-3,-3.057008780144E-2,7.2284738739290005E-2,1.00261595738831,null,null,"CRD - West central","Intercept"]
[null,"Planting","Corn, reg-till planting",1.26016440921407,1.256049998942E-2,2.1339872765339999E-2,null,3.841368444808E-2,1.0007380778219199,1.3109559458553499,1.2792001522860001E-2,1.428594798187E-2,-9.489629528837E-2,7.6540908568419996E-2,1.00293354980284,1.3109559458553499,1.2792001522860001E-2,1.428594798187E-2,-0.10487373511601,7.6540908568419996E-2,1.00293354980284,1.3109559458553499,1.2792001522860001E-2,1.428594798187E-2,-7.1839866944809996E-2,7.6540908568419996E-2,1.00293354980284,1.3109559458553499,1.2792001522860001E-2,1.428594798187E-2,-5.289789559573E-2,7.6540908568419996E-2,1.00293354980284,1.3109559458553499,1.2792001522860001E-2,1.428594798187E-2,null,7.6540908568419996E-2,1.00293354980284,1.3109559458553499,1.2792001522860001E-2,1.428594798187E-2,-1.9254558119099999E-3,7.6540908568419996E-2,1.00293354980284,1.3109559458553499,1.2792001522860001E-2,1.428594798187E-2,-4.1437746409999998E-3,7.6540908568419996E-2,1.00293354980284,1.3109559458553499,1.2792001522860001E-2,1.428594798187E-2,-0.10951435219825,7.6540908568419996E-2,1.00293354980284,1.3109559458553499,1.2792001522860001E-2,1.428594798187E-2,-0.15672925082024,7.6540908568419996E-2,1.00293354980284,1.3109559458553499,1.2792001522860001E-2,1.428594798187E-2,-9.9885015202189995E-2,7.6540908568419996E-2,1.00293354980284,1.3109559458553499,1.2792001522860001E-2,1.428594798187E-2,-8.8356801030410007E-2,7.6540908568419996E-2,1.00293354980284,1.3109559458553499,1.2792001522860001E-2,1.428594798187E-2,-9.0536632449729995E-2,7.6540908568419996E-2,1.00293354980284,1.3109559458553499,1.2792001522860001E-2,1.428594798187E-2,-5.289789559573E-2,7.6540908568419996E-2,1.00293354980284,1.3109559458553499,1.2792001522860001E-2,1.428594798187E-2,-1.9254558119099999E-3,7.6540908568419996E-2,1.00293354980284,1.3109559458553499,1.2792001522860001E-2,1.428594798187E-2,-2.7411675703819999E-2,7.6540908568419996E-2,1.00293354980284,1.3109559458553499,1.2792001522860001E-2,1.428594798187E-2,-5.6829063419619998E-2,7.6540908568419996E-2,1.00293354980284,1.3109559458553499,1.2792001522860001E-2,1.428594798187E-2,-0.13312180150924,7.6540908568419996E-2,1.00293354980284,1.3109559458553499,1.2792001522860001E-2,1.428594798187E-2,-9.0129125886489997E-2,7.6540908568419996E-2,1.00293354980284,null,null,"CRD - West central","PPI"]
[null,"Planting","Soybeans, reg-till planting",1.23445358929903,1.267348419382E-2,2.8157235914179998E-2,null,4.879640357534E-2,1.00119125348038,1.26616186442517,1.2519954803320001E-2,2.5606388219069999E-2,-2.5844815211570001E-2,7.8609535424539995E-2,1.0030945076639,1.26616186442517,1.2519954803320001E-2,2.5606388219069999E-2,-5.4887716767229998E-2,7.8609535424539995E-2,1.0030945076639,1.26616186442517,1.2519954803320001E-2,2.5606388219069999E-2,-4.3498191759809998E-2,7.8609535424539995E-2,1.0030945076639,1.26616186442517,1.2519954803320001E-2,2.5606388219069999E-2,-7.5449352714499996E-3,7.8609535424539995E-2,1.0030945076639,1.26616186442517,1.2519954803320001E-2,2.5606388219069999E-2,null,7.8609535424539995E-2,1.0030945076639,1.26616186442517,1.2519954803320001E-2,2.5606388219069999E-2,1.7756206025659999E-2,7.8609535424539995E-2,1.0030945076639,1.26616186442517,1.2519954803320001E-2,2.5606388219069999E-2,4.0679153502430003E-2,7.8609535424539995E-2,1.0030945076639,1.26616186442517,1.2519954803320001E-2,2.5606388219069999E-2,-4.8991230045689997E-2,7.8609535424539995E-2,1.0030945076639,1.26616186442517,1.2519954803320001E-2,2.5606388219069999E-2,-0.12763472200010001,7.8609535424539995E-2,1.0030945076639,1.26616186442517,1.2519954803320001E-2,2.5606388219069999E-2,-4.0366265989399998E-2,7.8609535424539995E-2,1.0030945076639,1.26616186442517,1.2519954803320001E-2,2.5606388219069999E-2,-4.9192954263520002E-2,7.8609535424539995E-2,1.0030945076639,1.26616186442517,1.2519954803320001E-2,2.5606388219069999E-2,-4.1410241246199998E-2,7.8609535424539995E-2,1.0030945076639,1.26616186442517,1.2519954803320001E-2,2.5606388219069999E-2,-7.5449352714499996E-3,7.8609535424539995E-2,1.0030945076639,1.26616186442517,1.2519954803320001E-2,2.5606388219069999E-2,1.7756206025659999E-2,7.8609535424539995E-2,1.0030945076639,1.26616186442517,1.2519954803320001E-2,2.5606388219069999E-2,5.1056353771100002E-3,7.8609535424539995E-2,1.0030945076639,1.26616186442517,1.2519954803320001E-2,2.5606388219069999E-2,-4.1560382716299997E-3,7.8609535424539995E-2,1.0030945076639,1.26616186442517,1.2519954803320001E-2,2.5606388219069999E-2,-8.8312976022889997E-2,7.8609535424539995E-2,1.0030945076639,1.26616186442517,1.2519954803320001E-2,2.5606388219069999E-2,-4.5315599514450002E-2,7.8609535424539995E-2,1.0030945076639,null,null,"CRD - West central","fuel"]
[null,"Planting","Grass seeding, reg-till",1.4781666326140801,1.043912793965E-2,5.031882783115E-2,null,6.1145388806280003E-2,1.00187112766488,1.47907744712042,1.1000849091969999E-2,3.3629490329799998E-2,-5.846267825478E-2,9.879243177133E-2,1.0048918987447799,1.47907744712042,1.1000849091969999E-2,3.3629490329799998E-2,-0.10673684664662,9.879243177133E-2,1.0048918987447799,1.47907744712042,1.1000849091969999E-2,3.3629490329799998E-2,-5.0585768464489998E-2,9.879243177133E-2,1.0048918987447799,1.47907744712042,1.1000849091969999E-2,3.3629490329799998E-2,-2.3849823126720002E-2,9.879243177133E-2,1.0048918987447799,1.47907744712042,1.1000849091969999E-2,3.3629490329799998E-2,null,9.879243177133E-2,1.0048918987447799,1.47907744712042,1.1000849091969999E-2,3.3629490329799998E-2,-8.3616238404469995E-2,9.879243177133E-2,1.0048918987447799,1.47907744712042,1.1000849091969999E-2,3.3629490329799998E-2,7.9763101106050005E-2,9.879243177133E-2,1.0048918987447799,1.47907744712042,1.1000849091969999E-2,3.3629490329799998E-2,0.13355124049469999,9.879243177133E-2,1.0048918987447799,1.47907744712042,1.1000849091969999E-2,3.3629490329799998E-2,2.6282398935629999E-2,9.879243177133E-2,1.0048918987447799,1.47907744712042,1.1000849091969999E-2,3.3629490329799998E-2,-8.2599762450699998E-2,9.879243177133E-2,1.0048918987447799,1.47907744712042,1.1000849091969999E-2,3.3629490329799998E-2,-7.8661307555560001E-2,9.879243177133E-2,1.0048918987447799,1.47907744712042,1.1000849091969999E-2,3.3629490329799998E-2,-7.1928431121970005E-2,9.879243177133E-2,1.0048918987447799,1.47907744712042,1.1000849091969999E-2,3.3629490329799998E-2,-2.3849823126720002E-2,9.879243177133E-2,1.0048918987447799,1.47907744712042,1.1000849091969999E-2,3.3629490329799998E-2,-8.3616238404469995E-2,9.879243177133E-2,1.0048918987447799,1.47907744712042,1.1000849091969999E-2,3.3629490329799998E-2,-5.3733030765600001E-2,9.879243177133E-2,1.0048918987447799,1.47907744712042,1.1000849091969999E-2,3.3629490329799998E-2,0.10665717080037,9.879243177133E-2,1.0048918987447799,1.47907744712042,1.1000849091969999E-2,3.3629490329799998E-2,7.9916819715170007E-2,9.879243177133E-2,1.0048918987447799,1.47907744712042,1.1000849091969999E-2,3.3629490329799998E-2,7.9865580178790002E-2,9.879243177133E-2,1.0048918987447799,null,null,"CRD - West central","Adjustment factor"]
[null,"Planting","Alfalfa seeding, reg-till",1.30965841371306,1.207367606388E-2,3.6262284620749999E-2,null,7.5959103443449999E-2,1.0028890580054299,1.27368767359091,1.286875392069E-2,4.5357545555600003E-3,5.4402854295420001E-2,0.13704074607495001,1.0094343081897099,1.27368767359091,1.286875392069E-2,4.5357545555600003E-3,1.456067695962E-2,0.13704074607495001,1.0094343081897099,1.27368767359091,1.286875392069E-2,4.5357545555600003E-3,-5.8023372483200003E-3,0.13704074607495001,1.0094343081897099,1.27368767359091,1.286875392069E-2,4.5357545555600003E-3,5.4283594496309998E-2,0.13704074607495001,1.0094343081897099,1.27368767359091,1.286875392069E-2,4.5357545555600003E-3,null,0.13704074607495001,1.0094343081897099,1.27368767359091,1.286875392069E-2,4.5357545555600003E-3,-5.038563744611E-2,0.13704074607495001,1.0094343081897099,1.27368767359091,1.286875392069E-2,4.5357545555600003E-3,9.8887443211349998E-2,0.13704074607495001,1.0094343081897099,1.27368767359091,1.286875392069E-2,4.5357545555600003E-3,0.17641301419109001,0.13704074607495001,1.0094343081897099,1.27368767359091,1.286875392069E-2,4.5357545555600003E-3,1.4171661040540001E-2,0.13704074607495001,1.0094343081897099,1.27368767359091,1.286875392069E-2,4.5357545555600003E-3,3.4481765627519999E-2,0.13704074607495001,1.0094343081897099,1.27368767359091,1.286875392069E-2,4.5357545555600003E-3,4.3791698556500001E-3,0.13704074607495001,1.0094343081897099,1.27368767359091,1.286875392069E-2,4.5357545555600003E-3,2.1053731335570001E-2,0.13704074607495001,1.0094343081897099,1.27368767359091,1.286875392069E-2,4.5357545555600003E-3,5.4283594496309998E-2,0.13704074607495001,1.0094343081897099,1.27368767359091,1.286875392069E-2,4.5357545555600003E-3,-5.038563744611E-2,0.13704074607495001,1.0094343081897099,1.27368767359091,1.286875392069E-2,4.5357545555600003E-3,1.9489785251E-3,0.13704074607495001,1.0094343081897099,1.27368767359091,1.286875392069E-2,4.5357545555600003E-3,0.13765022870122001,0.13704074607495001,1.0094343081897099,1.27368767359091,1.286875392069E-2,4.5357545555600003E-3,9.5292337615810005E-2,0.13704074607495001,1.0094343081897099,1.27368767359091,1.286875392069E-2,4.5357545555600003E-3,9.6490706147660005E-2,0.13704074607495001,1.0094343081897099,null,null,"CRD - West central","RMSE"]
[null,"Planting","Sunflowers, reg-till planting",1.2202340026976799,1.282982541585E-2,2.3980705299069999E-2,0,4.1566476390200002E-2,1.0008774345404801,1.2515762847920999,1.299894778022E-2,1.586478588559E-2,-5.0568268531229997E-2,7.5811727577419996E-2,1.0028813382850099,1.2515762847920999,1.299894778022E-2,1.586478588559E-2,-7.7264395061349994E-2,7.5811727577419996E-2,1.0028813382850099,1.2515762847920999,1.299894778022E-2,1.586478588559E-2,-6.1645218466199997E-2,7.5811727577419996E-2,1.0028813382850099,1.2515762847920999,1.299894778022E-2,1.586478588559E-2,-2.3181408489609999E-2,7.5811727577419996E-2,1.0028813382850099,1.2515762847920999,1.299894778022E-2,1.586478588559E-2,0,7.5811727577419996E-2,1.0028813382850099,1.2515762847920999,1.299894778022E-2,1.586478588559E-2,1.7917005307230002E-2,7.5811727577419996E-2,1.0028813382850099,1.2515762847920999,1.299894778022E-2,1.586478588559E-2,2.6742896180439998E-2,7.5811727577419996E-2,1.0028813382850099,1.2515762847920999,1.299894778022E-2,1.586478588559E-2,-5.9042489036079997E-2,7.5811727577419996E-2,1.0028813382850099,1.2515762847920999,1.299894778022E-2,1.586478588559E-2,-0.13371522034675001,7.5811727577419996E-2,1.0028813382850099,1.2515762847920999,1.299894778022E-2,1.586478588559E-2,-6.3916331796289999E-2,7.5811727577419996E-2,1.0028813382850099,1.2515762847920999,1.299894778022E-2,1.586478588559E-2,-6.945480676377E-2,7.5811727577419996E-2,1.0028813382850099,1.2515762847920999,1.299894778022E-2,1.586478588559E-2,-6.3159294019590001E-2,7.5811727577419996E-2,1.0028813382850099,1.2515762847920999,1.299894778022E-2,1.586478588559E-2,-1.1590704244810001E-2,7.5811727577419996E-2,1.0028813382850099,1.2515762847920999,1.299894778022E-2,1.586478588559E-2,8.9585026536099996E-3,7.5811727577419996E-2,1.0028813382850099,1.2515762847920999,1.299894778022E-2,1.586478588559E-2,-1.7548010608000001E-3,7.5811727577419996E-2,1.0028813382850099,1.2515762847920999,1.299894778022E-2,1.586478588559E-2,-1.6149796427819999E-2,7.5811727577419996E-2,1.0028813382850099,1.2515762847920999,1.299894778022E-2,1.586478588559E-2,-9.6378854691420004E-2,7.5811727577419996E-2,1.0028813382850099,1.2515762847920999,1.299894778022E-2,1.586478588559E-2,-5.5338271067459997E-2,7.5811727577419996E-2,1.0028813382850099,null,null,"CRD - West central","LN adjustment"]
[null,"Planting","Wheat, min-till planting",1.5476134921209901,1.117700966126E-2,3.1415939263599998E-3,null,5.7503969711470003E-2,1.0016547208083699,1.4390351694574901,1.333325047382E-2,-1.2647102110890001E-2,-0.12622414486328001,0.13019715124567,1.0085116691024401,1.4390351694574901,1.333325047382E-2,-1.2647102110890001E-2,-0.16693274272462999,0.13019715124567,1.0085116691024401,1.4390351694574901,1.333325047382E-2,-1.2647102110890001E-2,-0.14560580625339001,0.13019715124567,1.0085116691024401,1.4390351694574901,1.333325047382E-2,-1.2647102110890001E-2,-1.4869570603940001E-2,0.13019715124567,1.0085116691024401,1.4390351694574901,1.333325047382E-2,-1.2647102110890001E-2,null,0.13019715124567,1.0085116691024401,1.4390351694574901,1.333325047382E-2,-1.2647102110890001E-2,-8.9056160193410006E-2,0.13019715124567,1.0085116691024401,1.4390351694574901,1.333325047382E-2,-1.2647102110890001E-2,9.4091902364599994E-2,0.13019715124567,1.0085116691024401,1.4390351694574901,1.333325047382E-2,-1.2647102110890001E-2,5.2320260748280001E-2,0.13019715124567,1.0085116691024401,1.4390351694574901,1.333325047382E-2,-1.2647102110890001E-2,4.3209778407900003E-3,0.13019715124567,1.0085116691024401,1.4390351694574901,1.333325047382E-2,-1.2647102110890001E-2,-0.14657844379394999,0.13019715124567,1.0085116691024401,1.4390351694574901,1.333325047382E-2,-1.2647102110890001E-2,-0.15626927448901001,0.13019715124567,1.0085116691024401,1.4390351694574901,1.333325047382E-2,-1.2647102110890001E-2,-0.14625423128043,0.13019715124567,1.0085116691024401,1.4390351694574901,1.333325047382E-2,-1.2647102110890001E-2,-1.4869570603940001E-2,0.13019715124567,1.0085116691024401,1.4390351694574901,1.333325047382E-2,-1.2647102110890001E-2,-8.9056160193410006E-2,0.13019715124567,1.0085116691024401,1.4390351694574901,1.333325047382E-2,-1.2647102110890001E-2,-5.1962865398669997E-2,0.13019715124567,1.0085116691024401,1.4390351694574901,1.333325047382E-2,-1.2647102110890001E-2,7.3206081556439997E-2,0.13019715124567,1.0085116691024401,1.4390351694574901,1.333325047382E-2,-1.2647102110890001E-2,2.8320619294529999E-2,0.13019715124567,1.0085116691024401,1.4390351694574901,1.333325047382E-2,-1.2647102110890001E-2,5.0244380317889997E-2,0.13019715124567,1.0085116691024401,null,null,"CRD - Southwest","Intercept"]
[null,"Planting","Milo, minimum till",1.4113684623781599,1.2727408818979999E-2,-3.61574759045E-3,null,5.4398168038150001E-2,1.00148067546199,1.41558992867054,1.30535282775E-2,-4.6364697731100003E-3,-9.8023221655709994E-2,9.3730084387580001E-2,1.0044023262517101,1.41558992867054,1.30535282775E-2,-4.6364697731100003E-3,-0.13883400923497999,9.3730084387580001E-2,1.0044023262517101,1.41558992867054,1.30535282775E-2,-4.6364697731100003E-3,-0.13284679203454,9.3730084387580001E-2,1.0044023262517101,1.41558992867054,1.30535282775E-2,-4.6364697731100003E-3,-4.232894997225E-2,9.3730084387580001E-2,1.0044023262517101,1.41558992867054,1.30535282775E-2,-4.6364697731100003E-3,null,9.3730084387580001E-2,1.0044023262517101,1.41558992867054,1.30535282775E-2,-4.6364697731100003E-3,-1.61657701402739E-4,9.3730084387580001E-2,1.0044023262517101,1.41558992867054,1.30535282775E-2,-4.6364697731100003E-3,9.8957589738700003E-2,9.3730084387580001E-2,1.0044023262517101,1.41558992867054,1.30535282775E-2,-4.6364697731100003E-3,4.1755534275630002E-2,9.3730084387580001E-2,1.0044023262517101,1.41558992867054,1.30535282775E-2,-4.6364697731100003E-3,8.8275001279499998E-3,9.3730084387580001E-2,1.0044023262517101,1.41558992867054,1.30535282775E-2,-4.6364697731100003E-3,-0.11842861544534999,9.3730084387580001E-2,1.0044023262517101,1.41558992867054,1.30535282775E-2,-4.6364697731100003E-3,-0.13584040063475999,9.3730084387580001E-2,1.0044023262517101,1.41558992867054,1.30535282775E-2,-4.6364697731100003E-3,-0.12323467430840999,9.3730084387580001E-2,1.0044023262517101,1.41558992867054,1.30535282775E-2,-4.6364697731100003E-3,-4.232894997225E-2,9.3730084387580001E-2,1.0044023262517101,1.41558992867054,1.30535282775E-2,-4.6364697731100003E-3,-1.61657701402739E-4,9.3730084387580001E-2,1.0044023262517101,1.41558992867054,1.30535282775E-2,-4.6364697731100003E-3,-2.1245303836830001E-2,9.3730084387580001E-2,1.0044023262517101,1.41558992867054,1.30535282775E-2,-4.6364697731100003E-3,7.0356562007169998E-2,9.3730084387580001E-2,1.0044023262517101,1.41558992867054,1.30535282775E-2,-4.6364697731100003E-3,2.5291517201790001E-2,9.3730084387580001E-2,1.0044023262517101,1.41558992867054,1.30535282775E-2,-4.6364697731100003E-3,4.9846874714090002E-2,9.3730084387580001E-2,1.0044023262517101,null,null,"CRD - Southwest","PPI"]
[null,"Planting","Corn, minimum till",1.4709888619568099,1.2208071801980001E-2,-2.6935382802E-3,null,4.6181609018579997E-2,1.0010669392809599,1.4641987502681799,1.295051564003E-2,-1.027154946245E-2,-9.8925966542949995E-2,9.2314405613789993E-2,1.0042700656021799,1.4641987502681799,1.295051564003E-2,-1.027154946245E-2,-0.13454664358085999,9.2314405613789993E-2,1.0042700656021799,1.4641987502681799,1.295051564003E-2,-1.027154946245E-2,-7.6948416594969996E-2,9.2314405613789993E-2,1.0042700656021799,1.4641987502681799,1.295051564003E-2,-1.027154946245E-2,-5.3874248118129998E-2,9.2314405613789993E-2,1.0042700656021799,1.4641987502681799,1.295051564003E-2,-1.027154946245E-2,null,9.2314405613789993E-2,1.0042700656021799,1.4641987502681799,1.295051564003E-2,-1.027154946245E-2,-1.0490197708210001E-2,9.2314405613789993E-2,1.0042700656021799,1.4641987502681799,1.295051564003E-2,-1.027154946245E-2,5.142010530827E-2,9.2314405613789993E-2,1.0042700656021799,1.4641987502681799,1.295051564003E-2,-1.027154946245E-2,7.5170606089120103E-4,9.2314405613789993E-2,1.0042700656021799,1.4641987502681799,1.295051564003E-2,-1.027154946245E-2,-5.2266489576969999E-2,9.2314405613789993E-2,1.0042700656021799,1.4641987502681799,1.295051564003E-2,-1.027154946245E-2,-0.1167363050619,9.2314405613789993E-2,1.0042700656021799,1.4641987502681799,1.295051564003E-2,-1.027154946245E-2,-0.10574753008791,9.2314405613789993E-2,1.0042700656021799,1.4641987502681799,1.295051564003E-2,-1.027154946245E-2,-0.10347367557292,9.2314405613789993E-2,1.0042700656021799,1.4641987502681799,1.295051564003E-2,-1.027154946245E-2,-5.3874248118129998E-2,9.2314405613789993E-2,1.0042700656021799,1.4641987502681799,1.295051564003E-2,-1.027154946245E-2,-1.0490197708210001E-2,9.2314405613789993E-2,1.0042700656021799,1.4641987502681799,1.295051564003E-2,-1.027154946245E-2,-3.2182222913170001E-2,9.2314405613789993E-2,1.0042700656021799,1.4641987502681799,1.295051564003E-2,-1.027154946245E-2,2.608590568458E-2,9.2314405613789993E-2,1.0042700656021799,1.4641987502681799,1.295051564003E-2,-1.027154946245E-2,-2.575739175804E-2,9.2314405613789993E-2,1.0042700656021799,1.4641987502681799,1.295051564003E-2,-1.027154946245E-2,-3.1559402604054703E-5,9.2314405613789993E-2,1.0042700656021799,null,null,"CRD - Southwest","fuel"]
[null,"Planting","Soybeans, minimum till",1.53584242680154,1.1834859039079999E-2,-4.7457719744699997E-3,null,6.0376020509210003E-2,1.00182429392942,1.4584100325416101,1.3236782639379999E-2,-9.7290175532099999E-3,-8.849881056976E-2,0.10854733090174,1.0059086491323299,1.4584100325416101,1.3236782639379999E-2,-9.7290175532099999E-3,-0.12286583113014,0.10854733090174,1.0059086491323299,1.4584100325416101,1.3236782639379999E-2,-9.7290175532099999E-3,-6.4846575882579999E-2,0.10854733090174,1.0059086491323299,1.4584100325416101,1.3236782639379999E-2,-9.7290175532099999E-3,-6.3449952479180005E-2,0.10854733090174,1.0059086491323299,1.4584100325416101,1.3236782639379999E-2,-9.7290175532099999E-3,null,0.10854733090174,1.0059086491323299,1.4584100325416101,1.3236782639379999E-2,-9.7290175532099999E-3,-2.9626444520729999E-2,0.10854733090174,1.0059086491323299,1.4584100325416101,1.3236782639379999E-2,-9.7290175532099999E-3,6.8149118709739998E-2,0.10854733090174,1.0059086491323299,1.4584100325416101,1.3236782639379999E-2,-9.7290175532099999E-3,-2.093859165989E-2,0.10854733090174,1.0059086491323299,1.4584100325416101,1.3236782639379999E-2,-9.7290175532099999E-3,-2.4812688350739999E-2,0.10854733090174,1.0059086491323299,1.4584100325416101,1.3236782639379999E-2,-9.7290175532099999E-3,-0.10568232084995,0.10854733090174,1.0059086491323299,1.4584100325416101,1.3236782639379999E-2,-9.7290175532099999E-3,-9.3856203506359995E-2,0.10854733090174,1.0059086491323299,1.4584100325416101,1.3236782639379999E-2,-9.7290175532099999E-3,-9.2070405860829999E-2,0.10854733090174,1.0059086491323299,1.4584100325416101,1.3236782639379999E-2,-9.7290175532099999E-3,-6.3449952479180005E-2,0.10854733090174,1.0059086491323299,1.4584100325416101,1.3236782639379999E-2,-9.7290175532099999E-3,-2.9626444520729999E-2,0.10854733090174,1.0059086491323299,1.4584100325416101,1.3236782639379999E-2,-9.7290175532099999E-3,-4.6538198499950001E-2,0.10854733090174,1.0059086491323299,1.4584100325416101,1.3236782639379999E-2,-9.7290175532099999E-3,2.360526352493E-2,0.10854733090174,1.0059086491323299,1.4584100325416101,1.3236782639379999E-2,-9.7290175532099999E-3,-2.2875640005320001E-2,0.10854733090174,1.0059086491323299,1.4584100325416101,1.3236782639379999E-2,-9.7290175532099999E-3,7.4659462330399998E-3,0.10854733090174,1.0059086491323299,null,null,"CRD - Southwest","Adjustment factor"]
[null,"Planting","Sunflowers, minimum till",1.47273325037884,1.2256779886679999E-2,-3.6850192817099998E-3,0,5.365193252198E-2,1.00145730289079,1.4460662371601101,1.308027551897E-2,-8.2123455962600008E-3,-9.5149332922809998E-2,9.8197273634370003E-2,1.0048603469954001,1.4460662371601101,1.308027551897E-2,-8.2123455962600008E-3,-0.13208216131532999,9.8197273634370003E-2,1.0048603469954001,1.4460662371601101,1.308027551897E-2,-8.2123455962600008E-3,-9.1547261504030003E-2,9.8197273634370003E-2,1.0048603469954001,1.4460662371601101,1.308027551897E-2,-8.2123455962600008E-3,-5.3217716856519999E-2,9.8197273634370003E-2,1.0048603469954001,1.4460662371601101,1.308027551897E-2,-8.2123455962600008E-3,0,9.8197273634370003E-2,1.0048603469954001,1.4460662371601101,1.308027551897E-2,-8.2123455962600008E-3,-1.3426099976779999E-2,9.8197273634370003E-2,1.0048603469954001,1.4460662371601101,1.308027551897E-2,-8.2123455962600008E-3,7.2842271252240007E-2,9.8197273634370003E-2,1.0048603469954001,1.4460662371601101,1.308027551897E-2,-8.2123455962600008E-3,7.1895495588800004E-3,9.8197273634370003E-2,1.0048603469954001,1.4460662371601101,1.308027551897E-2,-8.2123455962600008E-3,-2.275055926659E-2,9.8197273634370003E-2,1.0048603469954001,1.4460662371601101,1.308027551897E-2,-8.2123455962600008E-3,-0.11361574711907001,9.8197273634370003E-2,1.0048603469954001,1.4460662371601101,1.308027551897E-2,-8.2123455962600008E-3,-0.11181471140968,9.8197273634370003E-2,1.0048603469954001,1.4460662371601101,1.308027551897E-2,-8.2123455962600008E-3,-0.10625958524739,9.8197273634370003E-2,1.0048603469954001,1.4460662371601101,1.308027551897E-2,-8.2123455962600008E-3,-2.660885842826E-2,9.8197273634370003E-2,1.0048603469954001,1.4460662371601101,1.308027551897E-2,-8.2123455962600008E-3,-6.7130499883899996E-3,9.8197273634370003E-2,1.0048603469954001,1.4460662371601101,1.308027551897E-2,-8.2123455962600008E-3,-2.2214605611099999E-2,9.8197273634370003E-2,1.0048603469954001,1.4460662371601101,1.308027551897E-2,-8.2123455962600008E-3,4.0015910405559997E-2,9.8197273634370003E-2,1.0048603469954001,1.4460662371601101,1.308027551897E-2,-8.2123455962600008E-3,-7.7805048538599998E-3,9.8197273634370003E-2,1.0048603469954001,1.4460662371601101,1.308027551897E-2,-8.2123455962600008E-3,1.909375384818E-2,9.8197273634370003E-2,1.0048603469954001,null,null,"CRD - Southwest","RMSE"]
[null,"Harvesting","Wheat (base)",2.1650659164551702,6.1173281253799998E-3,6.9942595204069993E-2,null,4.8940112510790001E-2,1.0011982846763501,2.1290541956728299,6.1635800977599998E-3,6.5812219546380002E-2,-2.5505340892400001E-3,5.034612029215E-2,1.0012681693618,2.1290541956728299,6.1635800977599998E-3,6.5812219546380002E-2,-1.281019443044E-2,5.034612029215E-2,1.0012681693618,2.1290541956728299,6.1635800977599998E-3,6.5812219546380002E-2,-2.4283603007059999E-2,5.034612029215E-2,1.0012681693618,2.1290541956728299,6.1635800977599998E-3,6.5812219546380002E-2,2.5900944217100001E-3,5.034612029215E-2,1.0012681693618,2.1290541956728299,6.1635800977599998E-3,6.5812219546380002E-2,null,5.034612029215E-2,1.0012681693618,2.1290541956728299,6.1635800977599998E-3,6.5812219546380002E-2,1.5995871076100001E-3,5.034612029215E-2,1.0012681693618,2.1290541956728299,6.1635800977599998E-3,6.5812219546380002E-2,0.19604362317442001,5.034612029215E-2,1.0012681693618,2.1290541956728299,6.1635800977599998E-3,6.5812219546380002E-2,0.23382136535374001,5.034612029215E-2,1.0012681693618,2.1290541956728299,6.1635800977599998E-3,6.5812219546380002E-2,0.13336354140174,5.034612029215E-2,1.0012681693618,2.1290541956728299,6.1635800977599998E-3,6.5812219546380002E-2,-7.6803642598399996E-3,5.034612029215E-2,1.0012681693618,2.1290541956728299,6.1635800977599998E-3,6.5812219546380002E-2,-1.854689871875E-2,5.034612029215E-2,1.0012681693618,2.1290541956728299,6.1635800977599998E-3,6.5812219546380002E-2,-1.3214777175580001E-2,5.034612029215E-2,1.0012681693618,2.1290541956728299,6.1635800977599998E-3,6.5812219546380002E-2,2.5900944217100001E-3,5.034612029215E-2,1.0012681693618,2.1290541956728299,6.1635800977599998E-3,6.5812219546380002E-2,1.5995871076100001E-3,5.034612029215E-2,1.0012681693618,2.1290541956728299,6.1635800977599998E-3,6.5812219546380002E-2,2.09484076466E-3,5.034612029215E-2,1.0012681693618,2.1290541956728299,6.1635800977599998E-3,6.5812219546380002E-2,0.21493249426408001,5.034612029215E-2,1.0012681693618,2.1290541956728299,6.1635800977599998E-3,6.5812219546380002E-2,0.18359245337773999,5.034612029215E-2,1.0012681693618,2.1290541956728299,6.1635800977599998E-3,6.5812219546380002E-2,0.18774284330995999,5.034612029215E-2,1.0012681693618,null,null,"CRD - Southwest","LN adjustment"]
[null,"Harvesting","Wheat (extra charge for high yield) - $/bu",2.0764290305250901,6.5740483828300002E-3,7.0416454059459996E-2,null,4.9426445630870001E-2,1.0012222330826499,2.0875141077080599,6.1757693804700003E-3,7.7075858495130004E-2,3.6510274511689998E-2,6.5760647023270002E-2,1.0021645706564,2.0875141077080599,6.1757693804700003E-3,7.7075858495130004E-2,-2.6018407077600001E-3,6.5760647023270002E-2,1.0021645706564,2.0875141077080599,6.1757693804700003E-3,7.7075858495130004E-2,-9.1377378002499999E-3,6.5760647023270002E-2,1.0021645706564,2.0875141077080599,6.1757693804700003E-3,7.7075858495130004E-2,2.3394285357599999E-3,6.5760647023270002E-2,1.0021645706564,2.0875141077080599,6.1757693804700003E-3,7.7075858495130004E-2,null,6.5760647023270002E-2,1.0021645706564,2.0875141077080599,6.1757693804700003E-3,7.7075858495130004E-2,8.5972546501500002E-3,6.5760647023270002E-2,1.0021645706564,2.0875141077080599,6.1757693804700003E-3,7.7075858495130004E-2,1.967441790449E-2,6.5760647023270002E-2,1.0021645706564,2.0875141077080599,6.1757693804700003E-3,7.7075858495130004E-2,-1.369599271652E-2,6.5760647023270002E-2,1.0021645706564,2.0875141077080599,6.1757693804700003E-3,7.7075858495130004E-2,-1.799367425732E-2,6.5760647023270002E-2,1.0021645706564,2.0875141077080599,6.1757693804700003E-3,7.7075858495130004E-2,1.695421690197E-2,6.5760647023270002E-2,1.0021645706564,2.0875141077080599,6.1757693804700003E-3,7.7075858495130004E-2,-5.8697892540000001E-3,6.5760647023270002E-2,1.0021645706564,2.0875141077080599,6.1757693804700003E-3,7.7075858495130004E-2,8.2568986678900006E-3,6.5760647023270002E-2,1.0021645706564,2.0875141077080599,6.1757693804700003E-3,7.7075858495130004E-2,2.3394285357599999E-3,6.5760647023270002E-2,1.0021645706564,2.0875141077080599,6.1757693804700003E-3,7.7075858495130004E-2,8.5972546501500002E-3,6.5760647023270002E-2,1.0021645706564,2.0875141077080599,6.1757693804700003E-3,7.7075858495130004E-2,5.4683415929600004E-3,6.5760647023270002E-2,1.0021645706564,2.0875141077080599,6.1757693804700003E-3,7.7075858495130004E-2,2.9892125939900002E-3,6.5760647023270002E-2,1.0021645706564,2.0875141077080599,6.1757693804700003E-3,7.7075858495130004E-2,-1.584483348692E-2,6.5760647023270002E-2,1.0021645706564,2.0875141077080599,6.1757693804700003E-3,7.7075858495130004E-2,-4.0050830231200003E-3,6.5760647023270002E-2,1.0021645706564,null,null,"CRD - North central","Intercept"]
[null,"Harvesting","Milo (base)",2.29273019540847,5.2386995776799996E-3,7.0192168443960007E-2,null,5.7083364083539999E-2,1.0016305831849399,2.17325210883345,6.1526530828600002E-3,6.2503308083280001E-2,1.218995439726E-2,6.3890876282540005E-2,1.00204310633935,2.17325210883345,6.1526530828600002E-3,6.2503308083280001E-2,-6.0888717010100001E-3,6.3890876282540005E-2,1.00204310633935,2.17325210883345,6.1526530828600002E-3,6.2503308083280001E-2,-1.150461951093E-2,6.3890876282540005E-2,1.00204310633935,2.17325210883345,6.1526530828600002E-3,6.2503308083280001E-2,2.3298953979220001E-2,6.3890876282540005E-2,1.00204310633935,2.17325210883345,6.1526530828600002E-3,6.2503308083280001E-2,null,6.3890876282540005E-2,1.00204310633935,2.17325210883345,6.1526530828600002E-3,6.2503308083280001E-2,2.5874743889850001E-2,6.3890876282540005E-2,1.00204310633935,2.17325210883345,6.1526530828600002E-3,6.2503308083280001E-2,0.24523920089313,6.3890876282540005E-2,1.00204310633935,2.17325210883345,6.1526530828600002E-3,6.2503308083280001E-2,0.25629056248325,6.3890876282540005E-2,1.00204310633935,2.17325210883345,6.1526530828600002E-3,6.2503308083280001E-2,0.14760838694027001,6.3890876282540005E-2,1.00204310633935,2.17325210883345,6.1526530828600002E-3,6.2503308083280001E-2,3.05054134813E-3,6.3890876282540005E-2,1.00204310633935,2.17325210883345,6.1526530828600002E-3,6.2503308083280001E-2,-8.7967456059699998E-3,6.3890876282540005E-2,1.00204310633935,2.17325210883345,6.1526530828600002E-3,6.2503308083280001E-2,-1.80117893822E-3,6.3890876282540005E-2,1.00204310633935,2.17325210883345,6.1526530828600002E-3,6.2503308083280001E-2,2.3298953979220001E-2,6.3890876282540005E-2,1.00204310633935,2.17325210883345,6.1526530828600002E-3,6.2503308083280001E-2,2.5874743889850001E-2,6.3890876282540005E-2,1.00204310633935,2.17325210883345,6.1526530828600002E-3,6.2503308083280001E-2,2.458684893453E-2,6.3890876282540005E-2,1.00204310633935,2.17325210883345,6.1526530828600002E-3,6.2503308083280001E-2,0.25076488168819,6.3890876282540005E-2,1.00204310633935,2.17325210883345,6.1526530828600002E-3,6.2503308083280001E-2,0.20194947471176,6.3890876282540005E-2,1.00204310633935,2.17325210883345,6.1526530828600002E-3,6.2503308083280001E-2,0.21637938343888,6.3890876282540005E-2,1.00204310633935,null,null,"CRD - North central","PPI"]
[null,"Harvesting","Milo (extra charge for high yield) - $/bu",2.0413293992869499,6.9558499349299998E-3,7.3492861573369997E-2,null,5.3484692523550002E-2,1.00143132954289,2.0322235543246099,7.13717563372E-3,7.1205898557280004E-2,1.6241930075890001E-2,8.0364316350779993E-2,1.00323443119207,2.0322235543246099,7.13717563372E-3,7.1205898557280004E-2,4.3334179221899997E-3,8.0364316350779993E-2,1.00323443119207,2.0322235543246099,7.13717563372E-3,7.1205898557280004E-2,6.5856889530699998E-3,8.0364316350779993E-2,1.00323443119207,2.0322235543246099,7.13717563372E-3,7.1205898557280004E-2,7.3784549402599996E-3,8.0364316350779993E-2,1.00323443119207,2.0322235543246099,7.13717563372E-3,7.1205898557280004E-2,null,8.0364316350779993E-2,1.00323443119207,2.0322235543246099,7.13717563372E-3,7.1205898557280004E-2,-9.5906792334758402E-4,8.0364316350779993E-2,1.00323443119207,2.0322235543246099,7.13717563372E-3,7.1205898557280004E-2,-3.4284246991559998E-2,8.0364316350779993E-2,1.00323443119207,2.0322235543246099,7.13717563372E-3,7.1205898557280004E-2,-3.7028928610839999E-2,8.0364316350779993E-2,1.00323443119207,2.0322235543246099,7.13717563372E-3,7.1205898557280004E-2,-3.7878741324120002E-2,8.0364316350779993E-2,1.00323443119207,2.0322235543246099,7.13717563372E-3,7.1205898557280004E-2,1.0287673999040001E-2,8.0364316350779993E-2,1.00323443119207,2.0322235543246099,7.13717563372E-3,7.1205898557280004E-2,5.4595534376299997E-3,8.0364316350779993E-2,1.00323443119207,2.0322235543246099,7.13717563372E-3,7.1205898557280004E-2,9.0536789837200003E-3,8.0364316350779993E-2,1.00323443119207,2.0322235543246099,7.13717563372E-3,7.1205898557280004E-2,7.3784549402599996E-3,8.0364316350779993E-2,1.00323443119207,2.0322235543246099,7.13717563372E-3,7.1205898557280004E-2,-9.5906792334758402E-4,8.0364316350779993E-2,1.00323443119207,2.0322235543246099,7.13717563372E-3,7.1205898557280004E-2,3.20969350845E-3,8.0364316350779993E-2,1.00323443119207,2.0322235543246099,7.13717563372E-3,7.1205898557280004E-2,-3.5656587801199999E-2,8.0364316350779993E-2,1.00323443119207,2.0322235543246099,7.13717563372E-3,7.1205898557280004E-2,-3.7453834967479997E-2,8.0364316350779993E-2,1.00323443119207,2.0322235543246099,7.13717563372E-3,7.1205898557280004E-2,-3.6397305642170003E-2,8.0364316350779993E-2,1.00323443119207,null,null,"CRD - North central","fuel"]
[null,"Harvesting","Corn (base)",2.5871226381846801,5.2755617448699997E-3,4.4002708621429999E-2,null,3.4622197815799997E-2,1.0005995279358699,2.5117788159510601,5.5218605585799999E-3,4.8078303308629999E-2,-1.143855164789E-2,8.3276547882919993E-2,1.00347351041763,2.5117788159510601,5.5218605585799999E-3,4.8078303308629999E-2,-1.411801278701E-2,8.3276547882919993E-2,1.00347351041763,2.5117788159510601,5.5218605585799999E-3,4.8078303308629999E-2,-1.425946799856E-2,8.3276547882919993E-2,1.00347351041763,2.5117788159510601,5.5218605585799999E-3,4.8078303308629999E-2,4.0342585733429998E-2,8.3276547882919993E-2,1.00347351041763,2.5117788159510601,5.5218605585799999E-3,4.8078303308629999E-2,null,8.3276547882919993E-2,1.00347351041763,2.5117788159510601,5.5218605585799999E-3,4.8078303308629999E-2,6.1965396876910002E-2,8.3276547882919993E-2,1.00347351041763,2.5117788159510601,5.5218605585799999E-3,4.8078303308629999E-2,9.9066508558409996E-2,8.3276547882919993E-2,1.00347351041763,2.5117788159510601,5.5218605585799999E-3,4.8078303308629999E-2,5.6530974798560001E-2,8.3276547882919993E-2,1.00347351041763,2.5117788159510601,5.5218605585799999E-3,4.8078303308629999E-2,1.3444764146089999E-2,8.3276547882919993E-2,1.00347351041763,2.5117788159510601,5.5218605585799999E-3,4.8078303308629999E-2,-1.2778282217449999E-2,8.3276547882919993E-2,1.00347351041763,2.5117788159510601,5.5218605585799999E-3,4.8078303308629999E-2,-1.418874039279E-2,8.3276547882919993E-2,1.00347351041763,2.5117788159510601,5.5218605585799999E-3,4.8078303308629999E-2,-1.327201081115E-2,8.3276547882919993E-2,1.00347351041763,2.5117788159510601,5.5218605585799999E-3,4.8078303308629999E-2,4.0342585733429998E-2,8.3276547882919993E-2,1.00347351041763,2.5117788159510601,5.5218605585799999E-3,4.8078303308629999E-2,6.1965396876910002E-2,8.3276547882919993E-2,1.00347351041763,2.5117788159510601,5.5218605585799999E-3,4.8078303308629999E-2,5.1153991305170003E-2,8.3276547882919993E-2,1.00347351041763,2.5117788159510601,5.5218605585799999E-3,4.8078303308629999E-2,7.7798741678490005E-2,8.3276547882919993E-2,1.00347351041763,2.5117788159510601,5.5218605585799999E-3,4.8078303308629999E-2,3.498786947232E-2,8.3276547882919993E-2,1.00347351041763,2.5117788159510601,5.5218605585799999E-3,4.8078303308629999E-2,5.6347415834349997E-2,8.3276547882919993E-2,1.00347351041763,null,null,"CRD - North central","Adjustment factor"]
[null,"Harvesting","Corn  (extra charge for high yield) - $/bu",1.95059263357044,9.3810878833800009E-3,2.7464847010779999E-2,null,8.1787160578759996E-2,1.0033501691320901,2.1132941551439699,7.1287939333299997E-3,3.7845102962770001E-2,6.227110333317E-2,0.15696027295734,1.01239444594286,2.1132941551439699,7.1287939333299997E-3,3.7845102962770001E-2,6.3402685108410003E-2,0.15696027295734,1.01239444594286,2.1132941551439699,7.1287939333299997E-3,3.7845102962770001E-2,4.9878865115620001E-2,0.15696027295734,1.01239444594286,2.1132941551439699,7.1287939333299997E-3,3.7845102962770001E-2,4.2631770762940002E-2,0.15696027295734,1.01239444594286,2.1132941551439699,7.1287939333299997E-3,3.7845102962770001E-2,null,0.15696027295734,1.01239444594286,2.1132941551439699,7.1287939333299997E-3,3.7845102962770001E-2,5.6482566508450002E-2,0.15696027295734,1.01239444594286,2.1132941551439699,7.1287939333299997E-3,3.7845102962770001E-2,-0.13740758622136001,0.15696027295734,1.01239444594286,2.1132941551439699,7.1287939333299997E-3,3.7845102962770001E-2,-0.28952153729065,0.15696027295734,1.01239444594286,2.1132941551439699,7.1287939333299997E-3,3.7845102962770001E-2,-0.14290357173036,0.15696027295734,1.01239444594286,2.1132941551439699,7.1287939333299997E-3,3.7845102962770001E-2,6.2836894220790002E-2,0.15696027295734,1.01239444594286,2.1132941551439699,7.1287939333299997E-3,3.7845102962770001E-2,5.6640775112010003E-2,0.15696027295734,1.01239444594286,2.1132941551439699,7.1287939333299997E-3,3.7845102962770001E-2,5.8517551185730002E-2,0.15696027295734,1.01239444594286,2.1132941551439699,7.1287939333299997E-3,3.7845102962770001E-2,4.2631770762940002E-2,0.15696027295734,1.01239444594286,2.1132941551439699,7.1287939333299997E-3,3.7845102962770001E-2,5.6482566508450002E-2,0.15696027295734,1.01239444594286,2.1132941551439699,7.1287939333299997E-3,3.7845102962770001E-2,4.9557168635689999E-2,0.15696027295734,1.01239444594286,2.1132941551439699,7.1287939333299997E-3,3.7845102962770001E-2,-0.21346456175601,0.15696027295734,1.01239444594286,2.1132941551439699,7.1287939333299997E-3,3.7845102962770001E-2,-0.21621255451051,0.15696027295734,1.01239444594286,2.1132941551439699,7.1287939333299997E-3,3.7845102962770001E-2,-0.18994423174746,0.15696027295734,1.01239444594286,null,null,"CRD - North central","RMSE"]
[null,"Harvesting","Soybeans (base)",2.6051425688905199,4.6171467928300004E-3,5.3978931416279997E-2,null,2.737936233188E-2,1.0003748849926699,2.56183701615823,4.5184119103000003E-3,5.9966007823940001E-2,4.6622246834240003E-2,5.9948675127110003E-2,1.0017985372562299,2.56183701615823,4.5184119103000003E-3,5.9966007823940001E-2,5.2752811284920001E-2,5.9948675127110003E-2,1.0017985372562299,2.56183701615823,4.5184119103000003E-3,5.9966007823940001E-2,0.10845133319699,5.9948675127110003E-2,1.0017985372562299,2.56183701615823,4.5184119103000003E-3,5.9966007823940001E-2,6.2439558203319999E-2,5.9948675127110003E-2,1.0017985372562299,2.56183701615823,4.5184119103000003E-3,5.9966007823940001E-2,null,5.9948675127110003E-2,1.0017985372562299,2.56183701615823,4.5184119103000003E-3,5.9966007823940001E-2,5.7094184992499998E-2,5.9948675127110003E-2,1.0017985372562299,2.56183701615823,4.5184119103000003E-3,5.9966007823940001E-2,7.9428629234220005E-2,5.9948675127110003E-2,1.0017985372562299,2.56183701615823,4.5184119103000003E-3,5.9966007823940001E-2,1.0115691834310001E-2,5.9948675127110003E-2,1.0017985372562299,2.56183701615823,4.5184119103000003E-3,5.9966007823940001E-2,-7.5978436882100001E-2,5.9948675127110003E-2,1.0017985372562299,2.56183701615823,4.5184119103000003E-3,5.9966007823940001E-2,4.9687529059580002E-2,5.9948675127110003E-2,1.0017985372562299,2.56183701615823,4.5184119103000003E-3,5.9966007823940001E-2,8.0602072240959999E-2,5.9948675127110003E-2,1.0017985372562299,2.56183701615823,4.5184119103000003E-3,5.9966007823940001E-2,6.9275463772050003E-2,5.9948675127110003E-2,1.0017985372562299,2.56183701615823,4.5184119103000003E-3,5.9966007823940001E-2,6.2439558203319999E-2,5.9948675127110003E-2,1.0017985372562299,2.56183701615823,4.5184119103000003E-3,5.9966007823940001E-2,5.7094184992499998E-2,5.9948675127110003E-2,1.0017985372562299,2.56183701615823,4.5184119103000003E-3,5.9966007823940001E-2,5.9766871597909998E-2,5.9948675127110003E-2,1.0017985372562299,2.56183701615823,4.5184119103000003E-3,5.9966007823940001E-2,4.4772160534270002E-2,5.9948675127110003E-2,1.0017985372562299,2.56183701615823,4.5184119103000003E-3,5.9966007823940001E-2,-3.29313725239E-2,5.9948675127110003E-2,1.0017985372562299,2.56183701615823,4.5184119103000003E-3,5.9966007823940001E-2,4.52196139548E-3,5.9948675127110003E-2,1.0017985372562299,null,null,"CRD - North central","LN adjustment"]
[null,"Harvesting","Soybeans  (extra charge for high yield) - $/bu",2.1365844440816,5.3319292712300003E-3,8.9936380330679994E-2,null,5.7220633431380001E-2,1.0016384412256401,2.0883548091574902,5.7917335471900002E-3,8.7353827361959999E-2,8.11810800236E-3,0.10733482815883,1.00577700557496,2.0883548091574902,5.7917335471900002E-3,8.7353827361959999E-2,1.3989355642239999E-2,0.10733482815883,1.00577700557496,2.0883548091574902,5.7917335471900002E-3,8.7353827361959999E-2,1.912350929132E-2,0.10733482815883,1.00577700557496,2.0883548091574902,5.7917335471900002E-3,8.7353827361959999E-2,5.1368493187040003E-2,0.10733482815883,1.00577700557496,2.0883548091574902,5.7917335471900002E-3,8.7353827361959999E-2,null,0.10733482815883,1.00577700557496,2.0883548091574902,5.7917335471900002E-3,8.7353827361959999E-2,2.5846525979000001E-2,0.10733482815883,1.00577700557496,2.0883548091574902,5.7917335471900002E-3,8.7353827361959999E-2,4.6438513007810003E-2,0.10733482815883,1.00577700557496,2.0883548091574902,5.7917335471900002E-3,8.7353827361959999E-2,3.0946998897399998E-3,0.10733482815883,1.00577700557496,2.0883548091574902,5.7917335471900002E-3,8.7353827361959999E-2,5.9910032630500001E-2,0.10733482815883,1.00577700557496,2.0883548091574902,5.7917335471900002E-3,8.7353827361959999E-2,1.10537318223E-2,0.10733482815883,1.00577700557496,2.0883548091574902,5.7917335471900002E-3,8.7353827361959999E-2,1.6556432466779999E-2,0.10733482815883,1.00577700557496,2.0883548091574902,5.7917335471900002E-3,8.7353827361959999E-2,1.3743657645309999E-2,0.10733482815883,1.00577700557496,2.0883548091574902,5.7917335471900002E-3,8.7353827361959999E-2,5.1368493187040003E-2,0.10733482815883,1.00577700557496,2.0883548091574902,5.7917335471900002E-3,8.7353827361959999E-2,2.5846525979000001E-2,0.10733482815883,1.00577700557496,2.0883548091574902,5.7917335471900002E-3,8.7353827361959999E-2,3.8607509583019999E-2,0.10733482815883,1.00577700557496,2.0883548091574902,5.7917335471900002E-3,8.7353827361959999E-2,2.4766606448779999E-2,0.10733482815883,1.00577700557496,2.0883548091574902,5.7917335471900002E-3,8.7353827361959999E-2,3.1502366260119999E-2,0.10733482815883,1.00577700557496,2.0883548091574902,5.7917335471900002E-3,8.7353827361959999E-2,3.6481081842680001E-2,0.10733482815883,1.00577700557496,null,null,"CRD - Central","Intercept"]
[null,"Harvesting","Sunflower (base)",2.3519340193179898,8.2382519998E-3,2.409649274352E-2,null,4.9227910994510002E-2,1.0012124280077399,2.3938043222056802,8.3675017818200005E-3,-4.9037182888099998E-3,-1.5059724178549999E-2,8.5534888692299998E-2,1.0036648076371599,2.3938043222056802,8.3675017818200005E-3,-4.9037182888099998E-3,-1.992756303696E-2,8.5534888692299998E-2,1.0036648076371599,2.3938043222056802,8.3675017818200005E-3,-4.9037182888099998E-3,-2.2221756721749999E-2,8.5534888692299998E-2,1.0036648076371599,2.3938043222056802,8.3675017818200005E-3,-4.9037182888099998E-3,5.1023928728799999E-3,8.5534888692299998E-2,1.0036648076371599,2.3938043222056802,8.3675017818200005E-3,-4.9037182888099998E-3,null,8.5534888692299998E-2,1.0036648076371599,2.3938043222056802,8.3675017818200005E-3,-4.9037182888099998E-3,2.1747297225250001E-2,8.5534888692299998E-2,1.0036648076371599,2.3938043222056802,8.3675017818200005E-3,-4.9037182888099998E-3,1.3779737065239999E-2,8.5534888692299998E-2,1.0036648076371599,2.3938043222056802,8.3675017818200005E-3,-4.9037182888099998E-3,1.7512693557260001E-2,8.5534888692299998E-2,1.0036648076371599,2.3938043222056802,8.3675017818200005E-3,-4.9037182888099998E-3,-1.6578067210600001E-3,8.5534888692299998E-2,1.0036648076371599,2.3938043222056802,8.3675017818200005E-3,-4.9037182888099998E-3,-1.7493643607759998E-2,8.5534888692299998E-2,1.0036648076371599,2.3938043222056802,8.3675017818200005E-3,-4.9037182888099998E-3,-2.1074659879360001E-2,8.5534888692299998E-2,1.0036648076371599,2.3938043222056802,8.3675017818200005E-3,-4.9037182888099998E-3,-1.9069681312420001E-2,8.5534888692299998E-2,1.0036648076371599,2.3938043222056802,8.3675017818200005E-3,-4.9037182888099998E-3,5.1023928728799999E-3,8.5534888692299998E-2,1.0036648076371599,2.3938043222056802,8.3675017818200005E-3,-4.9037182888099998E-3,2.1747297225250001E-2,8.5534888692299998E-2,1.0036648076371599,2.3938043222056802,8.3675017818200005E-3,-4.9037182888099998E-3,1.3424845049069999E-2,8.5534888692299998E-2,1.0036648076371599,2.3938043222056802,8.3675017818200005E-3,-4.9037182888099998E-3,1.564621531125E-2,8.5534888692299998E-2,1.0036648076371599,2.3938043222056802,8.3675017818200005E-3,-4.9037182888099998E-3,7.9274434181000001E-3,8.5534888692299998E-2,1.0036648076371599,2.3938043222056802,8.3675017818200005E-3,-4.9037182888099998E-3,9.8782079671500007E-3,8.5534888692299998E-2,1.0036648076371599,null,null,"CRD - Central","PPI"]
[null,"Harvesting","Sunflower  (extra charge for high yield) - $/bu",1.84390444554802,9.5053624597899993E-3,0.13015916890928,null,0.11803796083251999,1.0069908024688601,1.8213873234948701,9.9540253613800006E-3,0.12491866038993001,-3.3889931883E-3,0.11187179270819,1.00627726899104,1.8213873234948701,9.9540253613800006E-3,0.12491866038993001,-1.32064085345E-3,0.11187179270819,1.00627726899104,1.8213873234948701,9.9540253613800006E-3,0.12491866038993001,-1.32064085345E-3,0.11187179270819,1.00627726899104,1.8213873234948701,9.9540253613800006E-3,0.12491866038993001,6.0717657655052E-14,0.11187179270819,1.00627726899104,1.8213873234948701,9.9540253613800006E-3,0.12491866038993001,null,0.11187179270819,1.00627726899104,1.8213873234948701,9.9540253613800006E-3,0.12491866038993001,6.0717657655052E-14,0.11187179270819,1.00627726899104,1.8213873234948701,9.9540253613800006E-3,0.12491866038993001,6.0717657655052E-14,0.11187179270819,1.00627726899104,1.8213873234948701,9.9540253613800006E-3,0.12491866038993001,6.0717657655052E-14,0.11187179270819,1.00627726899104,1.8213873234948701,9.9540253613800006E-3,0.12491866038993001,6.0717657655052E-14,0.11187179270819,1.00627726899104,1.8213873234948701,9.9540253613800006E-3,0.12491866038993001,-2.3548170208799999E-3,0.11187179270819,1.00627726899104,1.8213873234948701,9.9540253613800006E-3,0.12491866038993001,-1.32064085345E-3,0.11187179270819,1.00627726899104,1.8213873234948701,9.9540253613800006E-3,0.12491866038993001,-2.0100916317300002E-3,0.11187179270819,1.00627726899104,1.8213873234948701,9.9540253613800006E-3,0.12491866038993001,6.0717657655052E-14,0.11187179270819,1.00627726899104,1.8213873234948701,9.9540253613800006E-3,0.12491866038993001,6.0717657655052E-14,0.11187179270819,1.00627726899104,1.8213873234948701,9.9540253613800006E-3,0.12491866038993001,6.0717657655052E-14,0.11187179270819,1.00627726899104,1.8213873234948701,9.9540253613800006E-3,0.12491866038993001,6.0717657655052E-14,0.11187179270819,1.00627726899104,1.8213873234948701,9.9540253613800006E-3,0.12491866038993001,6.0717657655052E-14,0.11187179270819,1.00627726899104,1.8213873234948701,9.9540253613800006E-3,0.12491866038993001,6.0717657655052E-14,0.11187179270819,1.00627726899104,null,null,"CRD - Central","fuel"]
[null,"Harvesting","Silage (base)",1.3019965769864299,4.2035657929000003E-3,9.6181460753280004E-2,null,5.1069685658430002E-2,1.0013049070478901,1.28817855793479,5.1892820798800001E-3,5.9771130278160001E-2,-2.1288125646300001E-2,8.8935946152869996E-2,1.0039626318049,1.28817855793479,5.1892820798800001E-3,5.9771130278160001E-2,-2.0141837249100002E-3,8.8935946152869996E-2,1.0039626318049,1.28817855793479,5.1892820798800001E-3,5.9771130278160001E-2,-1.0675603839899999E-3,8.8935946152869996E-2,1.0039626318049,1.28817855793479,5.1892820798800001E-3,5.9771130278160001E-2,-3.2244357699859998E-2,8.8935946152869996E-2,1.0039626318049,1.28817855793479,5.1892820798800001E-3,5.9771130278160001E-2,null,8.8935946152869996E-2,1.0039626318049,1.28817855793479,5.1892820798800001E-3,5.9771130278160001E-2,4.90231393778E-2,8.8935946152869996E-2,1.0039626318049,1.28817855793479,5.1892820798800001E-3,5.9771130278160001E-2,2.4387871946529999E-2,8.8935946152869996E-2,1.0039626318049,1.28817855793479,5.1892820798800001E-3,5.9771130278160001E-2,-2.622383852471E-2,8.8935946152869996E-2,1.0039626318049,1.28817855793479,5.1892820798800001E-3,5.9771130278160001E-2,1.4987739631360001E-2,8.8935946152869996E-2,1.0039626318049,1.28817855793479,5.1892820798800001E-3,5.9771130278160001E-2,-1.165115468561E-2,8.8935946152869996E-2,1.0039626318049,1.28817855793479,5.1892820798800001E-3,5.9771130278160001E-2,-1.5408720544500001E-3,8.8935946152869996E-2,1.0039626318049,1.28817855793479,5.1892820798800001E-3,5.9771130278160001E-2,-8.1232899184000007E-3,8.8935946152869996E-2,1.0039626318049,1.28817855793479,5.1892820798800001E-3,5.9771130278160001E-2,-3.2244357699859998E-2,8.8935946152869996E-2,1.0039626318049,1.28817855793479,5.1892820798800001E-3,5.9771130278160001E-2,4.90231393778E-2,8.8935946152869996E-2,1.0039626318049,1.28817855793479,5.1892820798800001E-3,5.9771130278160001E-2,8.3893908389699994E-3,8.8935946152869996E-2,1.0039626318049,1.28817855793479,5.1892820798800001E-3,5.9771130278160001E-2,-9.1798328909093601E-4,8.8935946152869996E-2,1.0039626318049,1.28817855793479,5.1892820798800001E-3,5.9771130278160001E-2,-5.6180494466800002E-3,8.8935946152869996E-2,1.0039626318049,1.28817855793479,5.1892820798800001E-3,5.9771130278160001E-2,4.3839243510599996E-3,8.8935946152869996E-2,1.0039626318049,null,null,"CRD - Central","Adjustment factor"]
[null,"Hauling","Wheat - hauling - $/bu",2.09918142689913,6.1977682350899998E-3,5.7142102167620001E-2,null,4.5494286059419999E-2,1.0010354006896101,2.1002792555821701,6.2435908187899996E-3,5.5288893136889998E-2,1.403844942238E-2,7.0033528040900003E-2,1.0024553569887,2.1002792555821701,6.2435908187899996E-3,5.5288893136889998E-2,1.719382102276E-2,7.0033528040900003E-2,1.0024553569887,2.1002792555821701,6.2435908187899996E-3,5.5288893136889998E-2,3.0508921281200002E-3,7.0033528040900003E-2,1.0024553569887,2.1002792555821701,6.2435908187899996E-3,5.5288893136889998E-2,4.78102046764E-3,7.0033528040900003E-2,1.0024553569887,2.1002792555821701,6.2435908187899996E-3,5.5288893136889998E-2,null,7.0033528040900003E-2,1.0024553569887,2.1002792555821701,6.2435908187899996E-3,5.5288893136889998E-2,4.0173263290800001E-3,7.0033528040900003E-2,1.0024553569887,2.1002792555821701,6.2435908187899996E-3,5.5288893136889998E-2,1.4184772164789999E-2,7.0033528040900003E-2,1.0024553569887,2.1002792555821701,6.2435908187899996E-3,5.5288893136889998E-2,-0.10375426887380999,7.0033528040900003E-2,1.0024553569887,2.1002792555821701,6.2435908187899996E-3,5.5288893136889998E-2,-2.1721219964430001E-2,7.0033528040900003E-2,1.0024553569887,2.1002792555821701,6.2435908187899996E-3,5.5288893136889998E-2,1.561613522257E-2,7.0033528040900003E-2,1.0024553569887,2.1002792555821701,6.2435908187899996E-3,5.5288893136889998E-2,1.012235657544E-2,7.0033528040900003E-2,1.0024553569887,2.1002792555821701,6.2435908187899996E-3,5.5288893136889998E-2,1.142772085775E-2,7.0033528040900003E-2,1.0024553569887,2.1002792555821701,6.2435908187899996E-3,5.5288893136889998E-2,4.78102046764E-3,7.0033528040900003E-2,1.0024553569887,2.1002792555821701,6.2435908187899996E-3,5.5288893136889998E-2,4.0173263290800001E-3,7.0033528040900003E-2,1.0024553569887,2.1002792555821701,6.2435908187899996E-3,5.5288893136889998E-2,4.3991733983599996E-3,7.0033528040900003E-2,1.0024553569887,2.1002792555821701,6.2435908187899996E-3,5.5288893136889998E-2,-4.4784748354509997E-2,7.0033528040900003E-2,1.0024553569887,2.1002792555821701,6.2435908187899996E-3,5.5288893136889998E-2,-6.2737744419120001E-2,7.0033528040900003E-2,1.0024553569887,2.1002792555821701,6.2435908187899996E-3,5.5288893136889998E-2,-3.7096905557819998E-2,7.0033528040900003E-2,1.0024553569887,null,null,"CRD - Central","LN adjustment"]
[null,"Hauling","Milo - hauling - $/bu",2.0568216554215399,6.3150641523799997E-3,6.5517371798789997E-2,null,4.6680474361929999E-2,1.0010901271004,2.0624948835532102,6.3437566330299998E-3,6.3202881517229997E-2,1.7138142708720001E-2,6.8629225436889998E-2,1.0023577604479501,2.0624948835532102,6.3437566330299998E-3,6.3202881517229997E-2,2.8926725914219999E-2,6.8629225436889998E-2,1.0023577604479501,2.0624948835532102,6.3437566330299998E-3,6.3202881517229997E-2,-1.1710318007109999E-2,6.8629225436889998E-2,1.0023577604479501,2.0624948835532102,6.3437566330299998E-3,6.3202881517229997E-2,3.4868396050600002E-3,6.8629225436889998E-2,1.0023577604479501,2.0624948835532102,6.3437566330299998E-3,6.3202881517229997E-2,null,6.8629225436889998E-2,1.0023577604479501,2.0624948835532102,6.3437566330299998E-3,6.3202881517229997E-2,1.9357545578640001E-2,6.8629225436889998E-2,1.0023577604479501,2.0624948835532102,6.3437566330299998E-3,6.3202881517229997E-2,-5.3088769198899998E-3,6.8629225436889998E-2,1.0023577604479501,2.0624948835532102,6.3437566330299998E-3,6.3202881517229997E-2,-9.5429614726350004E-2,6.8629225436889998E-2,1.0023577604479501,2.0624948835532102,6.3437566330299998E-3,6.3202881517229997E-2,-3.493697058689E-2,6.8629225436889998E-2,1.0023577604479501,2.0624948835532102,6.3437566330299998E-3,6.3202881517229997E-2,2.303243431147E-2,6.8629225436889998E-2,1.0023577604479501,2.0624948835532102,6.3437566330299998E-3,6.3202881517229997E-2,8.6082039535600001E-3,6.8629225436889998E-2,1.0023577604479501,2.0624948835532102,6.3437566330299998E-3,6.3202881517229997E-2,1.145151687195E-2,6.8629225436889998E-2,1.0023577604479501,2.0624948835532102,6.3437566330299998E-3,6.3202881517229997E-2,3.4868396050600002E-3,6.8629225436889998E-2,1.0023577604479501,2.0624948835532102,6.3437566330299998E-3,6.3202881517229997E-2,1.9357545578640001E-2,6.8629225436889998E-2,1.0023577604479501,2.0624948835532102,6.3437566330299998E-3,6.3202881517229997E-2,1.1422192591850001E-2,6.8629225436889998E-2,1.0023577604479501,2.0624948835532102,6.3437566330299998E-3,6.3202881517229997E-2,-5.0369245823120003E-2,6.8629225436889998E-2,1.0023577604479501,2.0624948835532102,6.3437566330299998E-3,6.3202881517229997E-2,-6.5183292656619998E-2,6.8629225436889998E-2,1.0023577604479501,2.0624948835532102,6.3437566330299998E-3,6.3202881517229997E-2,-4.5225154077710002E-2,6.8629225436889998E-2,1.0023577604479501,null,null,"CRD - South central","Intercept"]
[null,"Hauling","Corn - hauling - $/bu",2.0345991071271601,4.8564061880599996E-3,8.8345153339230001E-2,null,5.1099749182220003E-2,1.00130644483975,2.0409881648505799,4.4851034362500004E-3,0.10255789967617,-2.1383113449930002E-2,9.0782356742589998E-2,1.0041292199807701,2.0409881648505799,4.4851034362500004E-3,0.10255789967617,3.812827467886E-2,9.0782356742589998E-2,1.0041292199807701,2.0409881648505799,4.4851034362500004E-3,0.10255789967617,-5.4565316811560002E-2,9.0782356742589998E-2,1.0041292199807701,2.0409881648505799,4.4851034362500004E-3,0.10255789967617,1.550566565994E-2,9.0782356742589998E-2,1.0041292199807701,2.0409881648505799,4.4851034362500004E-3,0.10255789967617,null,9.0782356742589998E-2,1.0041292199807701,2.0409881648505799,4.4851034362500004E-3,0.10255789967617,-8.5387476223049999E-2,9.0782356742589998E-2,1.0041292199807701,2.0409881648505799,4.4851034362500004E-3,0.10255789967617,3.2366895473209999E-2,9.0782356742589998E-2,1.0041292199807701,2.0409881648505799,4.4851034362500004E-3,0.10255789967617,-4.3202933756059998E-2,9.0782356742589998E-2,1.0041292199807701,2.0409881648505799,4.4851034362500004E-3,0.10255789967617,-3.1504847330340001E-2,9.0782356742589998E-2,1.0041292199807701,2.0409881648505799,4.4851034362500004E-3,0.10255789967617,8.3725806144599995E-3,9.0782356742589998E-2,1.0041292199807701,2.0409881648505799,4.4851034362500004E-3,0.10255789967617,-8.2185210663499996E-3,9.0782356742589998E-2,1.0041292199807701,2.0409881648505799,4.4851034362500004E-3,0.10255789967617,-1.260671852755E-2,9.0782356742589998E-2,1.0041292199807701,2.0409881648505799,4.4851034362500004E-3,0.10255789967617,1.550566565994E-2,9.0782356742589998E-2,1.0041292199807701,2.0409881648505799,4.4851034362500004E-3,0.10255789967617,-8.5387476223049999E-2,9.0782356742589998E-2,1.0041292199807701,2.0409881648505799,4.4851034362500004E-3,0.10255789967617,-3.494090528155E-2,9.0782356742589998E-2,1.0041292199807701,2.0409881648505799,4.4851034362500004E-3,0.10255789967617,-5.4180191414300001E-3,9.0782356742589998E-2,1.0041292199807701,2.0409881648505799,4.4851034362500004E-3,0.10255789967617,-3.73538905432E-2,9.0782356742589998E-2,1.0041292199807701,2.0409881648505799,4.4851034362500004E-3,0.10255789967617,-1.4113628537730001E-2,9.0782356742589998E-2,1.0041292199807701,null,null,"CRD - South central","PPI"]
[null,"Hauling","Soybeans - hauling - $/bu",2.0918157200120802,5.2340040278200002E-3,6.7814118932379999E-2,null,4.7658011077789997E-2,1.0011362880966399,2.0889742670353799,5.4974723393199998E-3,6.5577760729589998E-2,-1.5917467383219999E-2,7.2556819931280006E-2,1.0026357134606101,2.0889742670353799,5.4974723393199998E-3,6.5577760729589998E-2,-3.9154943161700002E-3,7.2556819931280006E-2,1.0026357134606101,2.0889742670353799,5.4974723393199998E-3,6.5577760729589998E-2,-2.7680377448460001E-2,7.2556819931280006E-2,1.0026357134606101,2.0889742670353799,5.4974723393199998E-3,6.5577760729589998E-2,-2.24017067203547E-4,7.2556819931280006E-2,1.0026357134606101,2.0889742670353799,5.4974723393199998E-3,6.5577760729589998E-2,null,7.2556819931280006E-2,1.0026357134606101,2.0889742670353799,5.4974723393199998E-3,6.5577760729589998E-2,1.303246482934E-2,7.2556819931280006E-2,1.0026357134606101,2.0889742670353799,5.4974723393199998E-3,6.5577760729589998E-2,-1.3877999296022899E-4,7.2556819931280006E-2,1.0026357134606101,2.0889742670353799,5.4974723393199998E-3,6.5577760729589998E-2,-7.0316975553749994E-2,7.2556819931280006E-2,1.0026357134606101,2.0889742670353799,5.4974723393199998E-3,6.5577760729589998E-2,-9.3999053734098305E-4,7.2556819931280006E-2,1.0026357134606101,2.0889742670353799,5.4974723393199998E-3,6.5577760729589998E-2,-9.9164808496999997E-3,7.2556819931280006E-2,1.0026357134606101,2.0889742670353799,5.4974723393199998E-3,6.5577760729589998E-2,-1.5797935882320001E-2,7.2556819931280006E-2,1.0026357134606101,2.0889742670353799,5.4974723393199998E-3,6.5577760729589998E-2,-1.583777971595E-2,7.2556819931280006E-2,1.0026357134606101,2.0889742670353799,5.4974723393199998E-3,6.5577760729589998E-2,-2.24017067203547E-4,7.2556819931280006E-2,1.0026357134606101,2.0889742670353799,5.4974723393199998E-3,6.5577760729589998E-2,1.303246482934E-2,7.2556819931280006E-2,1.0026357134606101,2.0889742670353799,5.4974723393199998E-3,6.5577760729589998E-2,6.4042238810699996E-3,7.2556819931280006E-2,1.0026357134606101,2.0889742670353799,5.4974723393199998E-3,6.5577760729589998E-2,-3.5227877773359999E-2,7.2556819931280006E-2,1.0026357134606101,2.0889742670353799,5.4974723393199998E-3,6.5577760729589998E-2,-3.5628483045549997E-2,7.2556819931280006E-2,1.0026357134606101,2.0889742670353799,5.4974723393199998E-3,6.5577760729589998E-2,-2.3798582028020002E-2,7.2556819931280006E-2,1.0026357134606101,null,null,"CRD - South central","fuel"]
[null,"Hauling","Sunflower - hauling - $/bu",2.5850077493191201,4.4260537224000002E-3,0.10943280637629001,null,9.4301278831029997E-2,1.00445626534528,1.81562194809635,1.38955163361E-2,6.0237345828440002E-2,7.9751903664779994E-2,0.19466397847938999,1.01912766629719,1.81562194809635,1.38955163361E-2,6.0237345828440002E-2,7.9751903664779994E-2,0.19466397847938999,1.01912766629719,1.81562194809635,1.38955163361E-2,6.0237345828440002E-2,8.7535049446470004E-2,0.19466397847938999,1.01912766629719,1.81562194809635,1.38955163361E-2,6.0237345828440002E-2,-2.2845359501713601E-15,0.19466397847938999,1.01912766629719,1.81562194809635,1.38955163361E-2,6.0237345828440002E-2,null,0.19466397847938999,1.01912766629719,1.81562194809635,1.38955163361E-2,6.0237345828440002E-2,-2.2845359501713601E-15,0.19466397847938999,1.01912766629719,1.81562194809635,1.38955163361E-2,6.0237345828440002E-2,-0.28179746966730002,0.19466397847938999,1.01912766629719,1.81562194809635,1.38955163361E-2,6.0237345828440002E-2,-0.28179746966730002,0.19466397847938999,1.01912766629719,1.81562194809635,1.38955163361E-2,6.0237345828440002E-2,-0.28179746966730002,0.19466397847938999,1.01912766629719,1.81562194809635,1.38955163361E-2,6.0237345828440002E-2,7.9751903664779994E-2,0.19466397847938999,1.01912766629719,1.81562194809635,1.38955163361E-2,6.0237345828440002E-2,8.3643476555629995E-2,0.19466397847938999,1.01912766629719,1.81562194809635,1.38955163361E-2,6.0237345828440002E-2,8.2346285592010002E-2,0.19466397847938999,1.01912766629719,1.81562194809635,1.38955163361E-2,6.0237345828440002E-2,-2.2845359501713601E-15,0.19466397847938999,1.01912766629719,1.81562194809635,1.38955163361E-2,6.0237345828440002E-2,-2.2845359501713601E-15,0.19466397847938999,1.01912766629719,1.81562194809635,1.38955163361E-2,6.0237345828440002E-2,-2.2845359501713601E-15,0.19466397847938999,1.01912766629719,1.81562194809635,1.38955163361E-2,6.0237345828440002E-2,-0.28179746966730002,0.19466397847938999,1.01912766629719,1.81562194809635,1.38955163361E-2,6.0237345828440002E-2,-0.28179746966730002,0.19466397847938999,1.01912766629719,1.81562194809635,1.38955163361E-2,6.0237345828440002E-2,-0.28179746966730002,0.19466397847938999,1.01912766629719,null,null,"CRD - South central","Adjustment factor"]
[null,"Hay","Rotary mow, $/acre",1.393208459,8.6861330000000004E-3,8.4685468E-2,null,3.9452981999999998E-2,1.00077857182416,1.377598576,8.7321580000000003E-3,5.1904178000000002E-2,3.8306787000000002E-2,0.105398045,1.0055698280793,1.377598576,8.7321580000000003E-3,5.1904178000000002E-2,2.6280008000000001E-2,0.105398045,1.0055698280793,1.377598576,8.7321580000000003E-3,5.1904178000000002E-2,7.2075249999999993E-2,0.105398045,1.0055698280793,1.377598576,8.7321580000000003E-3,5.1904178000000002E-2,1.2093244E-2,0.105398045,1.0055698280793,1.377598576,8.7321580000000003E-3,5.1904178000000002E-2,null,0.105398045,1.0055698280793,1.377598576,8.7321580000000003E-3,5.1904178000000002E-2,2.6670769999999999E-3,0.105398045,1.0055698280793,1.377598576,8.7321580000000003E-3,5.1904178000000002E-2,4.7431894000000002E-2,0.105398045,1.0055698280793,1.377598576,8.7321580000000003E-3,5.1904178000000002E-2,0.15338028500000001,0.105398045,1.0055698280793,1.377598576,8.7321580000000003E-3,5.1904178000000002E-2,2.5101618999999999E-2,0.105398045,1.0055698280793,1.377598576,8.7321580000000003E-3,5.1904178000000002E-2,3.2293397500000001E-2,0.105398045,1.0055698280793,1.377598576,8.7321580000000003E-3,5.1904178000000002E-2,4.9177629E-2,0.105398045,1.0055698280793,1.377598576,8.7321580000000003E-3,5.1904178000000002E-2,4.5554015000000003E-2,0.105398045,1.0055698280793,1.377598576,8.7321580000000003E-3,5.1904178000000002E-2,1.2093244E-2,0.105398045,1.0055698280793,1.377598576,8.7321580000000003E-3,5.1904178000000002E-2,2.6670769999999999E-3,0.105398045,1.0055698280793,1.377598576,8.7321580000000003E-3,5.1904178000000002E-2,7.3801604999999999E-3,0.105398045,1.0055698280793,1.377598576,8.7321580000000003E-3,5.1904178000000002E-2,0.1004060895,0.105398045,1.0055698280793,1.377598576,8.7321580000000003E-3,5.1904178000000002E-2,8.9240951999999998E-2,0.105398045,1.0055698280793,1.377598576,8.7321580000000003E-3,5.1904178000000002E-2,7.5304599333330002E-2,0.105398045,1.0055698280793,null,null,"CRD - South central","LN adjustment"]
[null,"Hay","Rotary mow, $/hour",2.5908067539999999,1.9026731000000002E-2,-1.6064663E-2,null,9.8764395000000005E-2,1.0048891157730799,2.7056969820000001,1.8319753000000001E-2,-7.0163456999999999E-2,0.184978324,0.16983204499999999,1.01452595273399,2.7056969820000001,1.8319753000000001E-2,-7.0163456999999999E-2,0.18418754500000001,0.16983204499999999,1.01452595273399,2.7056969820000001,1.8319753000000001E-2,-7.0163456999999999E-2,0.175546971,0.16983204499999999,1.01452595273399,2.7056969820000001,1.8319753000000001E-2,-7.0163456999999999E-2,5.3073434000000003E-2,0.16983204499999999,1.01452595273399,2.7056969820000001,1.8319753000000001E-2,-7.0163456999999999E-2,null,0.16983204499999999,1.01452595273399,2.7056969820000001,1.8319753000000001E-2,-7.0163456999999999E-2,6.7630329000000003E-2,0.16983204499999999,1.01452595273399,2.7056969820000001,1.8319753000000001E-2,-7.0163456999999999E-2,4.4798640000000001E-2,0.16983204499999999,1.01452595273399,2.7056969820000001,1.8319753000000001E-2,-7.0163456999999999E-2,5.3686184999999997E-2,0.16983204499999999,1.01452595273399,2.7056969820000001,1.8319753000000001E-2,-7.0163456999999999E-2,-2.7075048000000001E-2,0.16983204499999999,1.01452595273399,2.7056969820000001,1.8319753000000001E-2,-7.0163456999999999E-2,0.18458293449999999,0.16983204499999999,1.01452595273399,2.7056969820000001,1.8319753000000001E-2,-7.0163456999999999E-2,0.179867258,0.16983204499999999,1.01452595273399,2.7056969820000001,1.8319753000000001E-2,-7.0163456999999999E-2,0.18157094666667001,0.16983204499999999,1.01452595273399,2.7056969820000001,1.8319753000000001E-2,-7.0163456999999999E-2,5.3073434000000003E-2,0.16983204499999999,1.01452595273399,2.7056969820000001,1.8319753000000001E-2,-7.0163456999999999E-2,6.7630329000000003E-2,0.16983204499999999,1.01452595273399,2.7056969820000001,1.8319753000000001E-2,-7.0163456999999999E-2,6.0351881500000003E-2,0.16983204499999999,1.01452595273399,2.7056969820000001,1.8319753000000001E-2,-7.0163456999999999E-2,4.9242412499999999E-2,0.16983204499999999,1.01452595273399,2.7056969820000001,1.8319753000000001E-2,-7.0163456999999999E-2,1.33055685E-2,0.16983204499999999,1.01452595273399,2.7056969820000001,1.8319753000000001E-2,-7.0163456999999999E-2,2.3803259E-2,0.16983204499999999,1.01452595273399]
[null,"Hay","Hay-mow/swath, $/acre",1.5514908709999999,7.9093419999999998E-3,3.7882428000000003E-2,null,2.1381346999999998E-2,1.0002286071263899,1.42515445,9.6384269999999998E-3,3.044061E-2,8.2855601000000001E-2,9.5750086999999998E-2,1.0045945623625001,1.42515445,9.6384269999999998E-3,3.044061E-2,8.0960912999999995E-2,9.5750086999999998E-2,1.0045945623625001,1.42515445,9.6384269999999998E-3,3.044061E-2,4.6087066000000003E-2,9.5750086999999998E-2,1.0045945623625001,1.42515445,9.6384269999999998E-3,3.044061E-2,-2.6659563000000001E-2,9.5750086999999998E-2,1.0045945623625001,1.42515445,9.6384269999999998E-3,3.044061E-2,null,9.5750086999999998E-2,1.0045945623625001,1.42515445,9.6384269999999998E-3,3.044061E-2,2.4162876E-2,9.5750086999999998E-2,1.0045945623625001,1.42515445,9.6384269999999998E-3,3.044061E-2,2.8501189999999999E-2,9.5750086999999998E-2,1.0045945623625001,1.42515445,9.6384269999999998E-3,3.044061E-2,-5.4979717999999997E-2,9.5750086999999998E-2,1.0045945623625001,1.42515445,9.6384269999999998E-3,3.044061E-2,-3.0798348999999999E-2,9.5750086999999998E-2,1.0045945623625001,1.42515445,9.6384269999999998E-3,3.044061E-2,8.1908256999999998E-2,9.5750086999999998E-2,1.0045945623625001,1.42515445,9.6384269999999998E-3,3.044061E-2,6.3523989500000003E-2,9.5750086999999998E-2,1.0045945623625001,1.42515445,9.6384269999999998E-3,3.044061E-2,6.9967860000000007E-2,9.5750086999999998E-2,1.0045945623625001,1.42515445,9.6384269999999998E-3,3.044061E-2,-2.6659563000000001E-2,9.5750086999999998E-2,1.0045945623625001,1.42515445,9.6384269999999998E-3,3.044061E-2,2.4162876E-2,9.5750086999999998E-2,1.0045945623625001,1.42515445,9.6384269999999998E-3,3.044061E-2,-1.2483435E-3,9.5750086999999998E-2,1.0045945623625001,1.42515445,9.6384269999999998E-3,3.044061E-2,-1.3239264000000001E-2,9.5750086999999998E-2,1.0045945623625001,1.42515445,9.6384269999999998E-3,3.044061E-2,-4.28890335E-2,9.5750086999999998E-2,1.0045945623625001,1.42515445,9.6384269999999998E-3,3.044061E-2,-1.9092292333329999E-2,9.5750086999999998E-2,1.0045945623625001]
[null,"Hay","Forage-mow/swath, $/acre",1.4673398339999999,1.1147861E-2,2.6881308999999999E-2,null,3.7107766E-2,1.0006887302145699,1.9148395490000001,4.1632570000000001E-3,6.4279761000000005E-2,8.8203438999999995E-2,6.1601553000000003E-2,1.0018991768221901,1.9148395490000001,4.1632570000000001E-3,6.4279761000000005E-2,4.2904105999999997E-2,6.1601553000000003E-2,1.0018991768221901,1.9148395490000001,4.1632570000000001E-3,6.4279761000000005E-2,4.9513962000000002E-2,6.1601553000000003E-2,1.0018991768221901,1.9148395490000001,4.1632570000000001E-3,6.4279761000000005E-2,1.1534511000000001E-2,6.1601553000000003E-2,1.0018991768221901,1.9148395490000001,4.1632570000000001E-3,6.4279761000000005E-2,null,6.1601553000000003E-2,1.0018991768221901,1.9148395490000001,4.1632570000000001E-3,6.4279761000000005E-2,6.2828789999999999E-3,6.1601553000000003E-2,1.0018991768221901,1.9148395490000001,4.1632570000000001E-3,6.4279761000000005E-2,-9.8201169000000005E-2,6.1601553000000003E-2,1.0018991768221901,1.9148395490000001,4.1632570000000001E-3,6.4279761000000005E-2,-0.112303376,6.1601553000000003E-2,1.0018991768221901,1.9148395490000001,4.1632570000000001E-3,6.4279761000000005E-2,-0.117082851,6.1601553000000003E-2,1.0018991768221901,1.9148395490000001,4.1632570000000001E-3,6.4279761000000005E-2,6.5553772499999996E-2,6.1601553000000003E-2,1.0018991768221901,1.9148395490000001,4.1632570000000001E-3,6.4279761000000005E-2,4.6209034000000003E-2,6.1601553000000003E-2,1.0018991768221901,1.9148395490000001,4.1632570000000001E-3,6.4279761000000005E-2,6.0207168999999998E-2,6.1601553000000003E-2,1.0018991768221901,1.9148395490000001,4.1632570000000001E-3,6.4279761000000005E-2,1.1534511000000001E-2,6.1601553000000003E-2,1.0018991768221901,1.9148395490000001,4.1632570000000001E-3,6.4279761000000005E-2,6.2828789999999999E-3,6.1601553000000003E-2,1.0018991768221901,1.9148395490000001,4.1632570000000001E-3,6.4279761000000005E-2,8.9086949999999995E-3,6.1601553000000003E-2,1.0018991768221901,1.9148395490000001,4.1632570000000001E-3,6.4279761000000005E-2,-0.10525227249999999,6.1601553000000003E-2,1.0018991768221901,1.9148395490000001,4.1632570000000001E-3,6.4279761000000005E-2,-0.1146931135,6.1601553000000003E-2,1.0018991768221901,1.9148395490000001,4.1632570000000001E-3,6.4279761000000005E-2,-0.10919579866666999,6.1601553000000003E-2,1.0018991768221901]
[null,"Hay","Swathing and condition, $/acre",1.3373425299999999,1.1677455999999999E-2,1.4713478E-2,null,3.4263253E-2,1.0005871575626299,1.4232234859999999,1.0200347E-2,1.7693154999999999E-2,9.2648848000000006E-2,0.12136573,1.0073920071990199,1.4232234859999999,1.0200347E-2,1.7693154999999999E-2,9.1293076000000001E-2,0.12136573,1.0073920071990199,1.4232234859999999,1.0200347E-2,1.7693154999999999E-2,4.997008E-2,0.12136573,1.0073920071990199,1.4232234859999999,1.0200347E-2,1.7693154999999999E-2,-2.3048303999999999E-2,0.12136573,1.0073920071990199,1.4232234859999999,1.0200347E-2,1.7693154999999999E-2,null,0.12136573,1.0073920071990199,1.4232234859999999,1.0200347E-2,1.7693154999999999E-2,2.7740726E-2,0.12136573,1.0073920071990199,1.4232234859999999,1.0200347E-2,1.7693154999999999E-2,4.5302793000000001E-2,0.12136573,1.0073920071990199,1.4232234859999999,1.0200347E-2,1.7693154999999999E-2,-2.5479015000000001E-2,0.12136573,1.0073920071990199,1.4232234859999999,1.0200347E-2,1.7693154999999999E-2,3.6853937000000003E-2,0.12136573,1.0073920071990199,1.4232234859999999,1.0200347E-2,1.7693154999999999E-2,9.1970962000000003E-2,0.12136573,1.0073920071990199,1.4232234859999999,1.0200347E-2,1.7693154999999999E-2,7.0631578E-2,0.12136573,1.0073920071990199,1.4232234859999999,1.0200347E-2,1.7693154999999999E-2,7.7970668000000007E-2,0.12136573,1.0073920071990199,1.4232234859999999,1.0200347E-2,1.7693154999999999E-2,-2.3048303999999999E-2,0.12136573,1.0073920071990199,1.4232234859999999,1.0200347E-2,1.7693154999999999E-2,2.7740726E-2,0.12136573,1.0073920071990199,1.4232234859999999,1.0200347E-2,1.7693154999999999E-2,2.346211E-3,0.12136573,1.0073920071990199,1.4232234859999999,1.0200347E-2,1.7693154999999999E-2,9.9118890000000001E-3,0.12136573,1.0073920071990199,1.4232234859999999,1.0200347E-2,1.7693154999999999E-2,5.6874610000000004E-3,0.12136573,1.0073920071990199,1.4232234859999999,1.0200347E-2,1.7693154999999999E-2,1.8892571666670001E-2,0.12136573,1.0073920071990199]
[null,"Hay","Sideraking hay, $/acre",0.64564833700000002,4.8220160000000001E-3,7.6865789000000004E-2,null,4.1371210999999998E-2,1.00085615484131,0.56280593400000001,5.779157E-3,6.0672759E-2,0.21015510800000001,0.14043345800000001,1.00990955573168,0.56280593400000001,5.779157E-3,6.0672759E-2,7.7088486999999997E-2,0.14043345800000001,1.00990955573168,0.56280593400000001,5.779157E-3,6.0672759E-2,9.0057586999999995E-2,0.14043345800000001,1.00990955573168,0.56280593400000001,5.779157E-3,6.0672759E-2,-4.0197283E-2,0.14043345800000001,1.00990955573168,0.56280593400000001,5.779157E-3,6.0672759E-2,null,0.14043345800000001,1.00990955573168,0.56280593400000001,5.779157E-3,6.0672759E-2,-2.3943559999999998E-3,0.14043345800000001,1.00990955573168,0.56280593400000001,5.779157E-3,6.0672759E-2,5.8696905000000001E-2,0.14043345800000001,1.00990955573168,0.56280593400000001,5.779157E-3,6.0672759E-2,4.3730733000000001E-2,0.14043345800000001,1.00990955573168,0.56280593400000001,5.779157E-3,6.0672759E-2,8.2838989000000002E-2,0.14043345800000001,1.00990955573168,0.56280593400000001,5.779157E-3,6.0672759E-2,0.14362179750000001,0.14043345800000001,1.00990955573168,0.56280593400000001,5.779157E-3,6.0672759E-2,8.3573037000000003E-2,0.14043345800000001,1.00990955573168,0.56280593400000001,5.779157E-3,6.0672759E-2,0.12576706066667001,0.14043345800000001,1.00990955573168,0.56280593400000001,5.779157E-3,6.0672759E-2,-4.0197283E-2,0.14043345800000001,1.00990955573168,0.56280593400000001,5.779157E-3,6.0672759E-2,-2.3943559999999998E-3,0.14043345800000001,1.00990955573168,0.56280593400000001,5.779157E-3,6.0672759E-2,-2.12958195E-2,0.14043345800000001,1.00990955573168,0.56280593400000001,5.779157E-3,6.0672759E-2,5.1213819000000001E-2,0.14043345800000001,1.00990955573168,0.56280593400000001,5.779157E-3,6.0672759E-2,6.3284860999999998E-2,0.14043345800000001,1.00990955573168,0.56280593400000001,5.779157E-3,6.0672759E-2,6.1755542333329999E-2,0.14043345800000001,1.00990955573168]
[null,"Hay","Small square with twine, $/bale",-1.665072318,1.7067702000000001E-2,-2.4766730000000001E-2,null,4.8217285999999998E-2,1.00116312924536,-1.485452242,1.4286933999999999E-2,1.0616398000000001E-2,-7.2371480000000002E-2,0.12050543599999999,1.0072872034289899,-1.485452242,1.4286933999999999E-2,1.0616398000000001E-2,-2.4928801E-2,0.12050543599999999,1.0072872034289899,-1.485452242,1.4286933999999999E-2,1.0616398000000001E-2,1.7879351000000002E-2,0.12050543599999999,1.0072872034289899,-1.485452242,1.4286933999999999E-2,1.0616398000000001E-2,-0.168402893,0.12050543599999999,1.0072872034289899,-1.485452242,1.4286933999999999E-2,1.0616398000000001E-2,null,0.12050543599999999,1.0072872034289899,-1.485452242,1.4286933999999999E-2,1.0616398000000001E-2,-0.17382572399999999,0.12050543599999999,1.0072872034289899,-1.485452242,1.4286933999999999E-2,1.0616398000000001E-2,-0.14090968800000001,0.12050543599999999,1.0072872034289899,-1.485452242,1.4286933999999999E-2,1.0616398000000001E-2,-2.9657856E-2,0.12050543599999999,1.0072872034289899,-1.485452242,1.4286933999999999E-2,1.0616398000000001E-2,-5.5619237000000002E-2,0.12050543599999999,1.0072872034289899,-1.485452242,1.4286933999999999E-2,1.0616398000000001E-2,-4.8650140500000001E-2,0.12050543599999999,1.0072872034289899,-1.485452242,1.4286933999999999E-2,1.0616398000000001E-2,-3.5247249999999998E-3,0.12050543599999999,1.0072872034289899,-1.485452242,1.4286933999999999E-2,1.0616398000000001E-2,-2.6473643333330001E-2,0.12050543599999999,1.0072872034289899,-1.485452242,1.4286933999999999E-2,1.0616398000000001E-2,-0.168402893,0.12050543599999999,1.0072872034289899,-1.485452242,1.4286933999999999E-2,1.0616398000000001E-2,-0.17382572399999999,0.12050543599999999,1.0072872034289899,-1.485452242,1.4286933999999999E-2,1.0616398000000001E-2,-0.17111430850000001,0.12050543599999999,1.0072872034289899,-1.485452242,1.4286933999999999E-2,1.0616398000000001E-2,-8.5283771999999994E-2,0.12050543599999999,1.0072872034289899,-1.485452242,1.4286933999999999E-2,1.0616398000000001E-2,-4.2638546499999999E-2,0.12050543599999999,1.0072872034289899,-1.485452242,1.4286933999999999E-2,1.0616398000000001E-2,-7.5395593666669994E-2,0.12050543599999999,1.0072872034289899]
[null,"Hay","Small square with wire, $/bale",-1.480428869,1.3224405E-2,4.6672458999999999E-2,null,4.0226027999999997E-2,1.0008093940470499,-1.4067958350000001,1.2962181999999999E-2,7.0052600000000001E-3,1.0296711E-2,0.13514881400000001,1.0091744304032,-1.4067958350000001,1.2962181999999999E-2,7.0052600000000001E-3,8.0606015000000003E-2,0.13514881400000001,1.0091744304032,-1.4067958350000001,1.2962181999999999E-2,7.0052600000000001E-3,7.0908657E-2,0.13514881400000001,1.0091744304032,-1.4067958350000001,1.2962181999999999E-2,7.0052600000000001E-3,0.152377494,0.13514881400000001,1.0091744304032,-1.4067958350000001,1.2962181999999999E-2,7.0052600000000001E-3,null,0.13514881400000001,1.0091744304032,-1.4067958350000001,1.2962181999999999E-2,7.0052600000000001E-3,-5.5462268000000002E-2,0.13514881400000001,1.0091744304032,-1.4067958350000001,1.2962181999999999E-2,7.0052600000000001E-3,-4.1768636999999997E-2,0.13514881400000001,1.0091744304032,-1.4067958350000001,1.2962181999999999E-2,7.0052600000000001E-3,-1.6454404999999998E-2,0.13514881400000001,1.0091744304032,-1.4067958350000001,1.2962181999999999E-2,7.0052600000000001E-3,-3.1995641999999998E-2,0.13514881400000001,1.0091744304032,-1.4067958350000001,1.2962181999999999E-2,7.0052600000000001E-3,4.5451363000000002E-2,0.13514881400000001,1.0091744304032,-1.4067958350000001,1.2962181999999999E-2,7.0052600000000001E-3,7.5757335999999995E-2,0.13514881400000001,1.0091744304032,-1.4067958350000001,1.2962181999999999E-2,7.0052600000000001E-3,5.3937127666669998E-2,0.13514881400000001,1.0091744304032,-1.4067958350000001,1.2962181999999999E-2,7.0052600000000001E-3,0.152377494,0.13514881400000001,1.0091744304032,-1.4067958350000001,1.2962181999999999E-2,7.0052600000000001E-3,-5.5462268000000002E-2,0.13514881400000001,1.0091744304032,-1.4067958350000001,1.2962181999999999E-2,7.0052600000000001E-3,4.8457612999999997E-2,0.13514881400000001,1.0091744304032,-1.4067958350000001,1.2962181999999999E-2,7.0052600000000001E-3,-2.9111521000000001E-2,0.13514881400000001,1.0091744304032,-1.4067958350000001,1.2962181999999999E-2,7.0052600000000001E-3,-2.4225023500000002E-2,0.13514881400000001,1.0091744304032,-1.4067958350000001,1.2962181999999999E-2,7.0052600000000001E-3,-3.007289466667E-2,0.13514881400000001,1.0091744304032]
[null,"Hay","Round (< 1500 lbs) w/o net, $/bale",1.400556243,9.1160500000000005E-3,1.3935444E-2,null,2.3621659999999999E-2,1.0002790303322999,1.386941674,8.860092E-3,1.9915173000000001E-2,-6.5436853000000003E-2,4.2489150000000003E-2,1.00090307145756,1.386941674,8.860092E-3,1.9915173000000001E-2,-3.2441085000000001E-2,4.2489150000000003E-2,1.00090307145756,1.386941674,8.860092E-3,1.9915173000000001E-2,0.19246222599999999,4.2489150000000003E-2,1.00090307145756,1.386941674,8.860092E-3,1.9915173000000001E-2,-5.5692199999999997E-2,4.2489150000000003E-2,1.00090307145756,1.386941674,8.860092E-3,1.9915173000000001E-2,null,4.2489150000000003E-2,1.00090307145756,1.386941674,8.860092E-3,1.9915173000000001E-2,2.6637385E-2,4.2489150000000003E-2,1.00090307145756,1.386941674,8.860092E-3,1.9915173000000001E-2,-8.7731649999999994E-3,4.2489150000000003E-2,1.00090307145756,1.386941674,8.860092E-3,1.9915173000000001E-2,2.7552818E-2,4.2489150000000003E-2,1.00090307145756,1.386941674,8.860092E-3,1.9915173000000001E-2,7.7523046999999998E-2,4.2489150000000003E-2,1.00090307145756,1.386941674,8.860092E-3,1.9915173000000001E-2,-4.8938968999999999E-2,4.2489150000000003E-2,1.00090307145756,1.386941674,8.860092E-3,1.9915173000000001E-2,8.0010570500000003E-2,4.2489150000000003E-2,1.00090307145756,1.386941674,8.860092E-3,1.9915173000000001E-2,3.1528095999999999E-2,4.2489150000000003E-2,1.00090307145756,1.386941674,8.860092E-3,1.9915173000000001E-2,-5.5692199999999997E-2,4.2489150000000003E-2,1.00090307145756,1.386941674,8.860092E-3,1.9915173000000001E-2,2.6637385E-2,4.2489150000000003E-2,1.00090307145756,1.386941674,8.860092E-3,1.9915173000000001E-2,-1.4527407500000001E-2,4.2489150000000003E-2,1.00090307145756,1.386941674,8.860092E-3,1.9915173000000001E-2,9.3898265000000002E-3,4.2489150000000003E-2,1.00090307145756,1.386941674,8.860092E-3,1.9915173000000001E-2,5.2537932500000002E-2,4.2489150000000003E-2,1.00090307145756,1.386941674,8.860092E-3,1.9915173000000001E-2,3.2100900000000002E-2,4.2489150000000003E-2,1.00090307145756]
[null,"Hay","Round (< 1500 lbs) w/ net, $/bale",1.561042839,7.3614120000000003E-3,3.2564118000000003E-2,null,1.693766E-2,1.0001434524514601,1.655598938,4.9264820000000003E-3,6.0507654000000001E-2,-5.8202295000000001E-2,6.4471965000000006E-2,1.0020804783335,1.655598938,4.9264820000000003E-3,6.0507654000000001E-2,-1.7988289000000001E-2,6.4471965000000006E-2,1.0020804783335,1.655598938,4.9264820000000003E-3,6.0507654000000001E-2,3.5877896999999999E-2,6.4471965000000006E-2,1.0020804783335,1.655598938,4.9264820000000003E-3,6.0507654000000001E-2,-1.5559028000000001E-2,6.4471965000000006E-2,1.0020804783335,1.655598938,4.9264820000000003E-3,6.0507654000000001E-2,null,6.4471965000000006E-2,1.0020804783335,1.655598938,4.9264820000000003E-3,6.0507654000000001E-2,2.2364582000000001E-2,6.4471965000000006E-2,1.0020804783335,1.655598938,4.9264820000000003E-3,6.0507654000000001E-2,2.1744685999999999E-2,6.4471965000000006E-2,1.0020804783335,1.655598938,4.9264820000000003E-3,6.0507654000000001E-2,9.6082827999999995E-2,6.4471965000000006E-2,1.0020804783335,1.655598938,4.9264820000000003E-3,6.0507654000000001E-2,9.0711781000000005E-2,6.4471965000000006E-2,1.0020804783335,1.655598938,4.9264820000000003E-3,6.0507654000000001E-2,-3.8095292000000003E-2,6.4471965000000006E-2,1.0020804783335,1.655598938,4.9264820000000003E-3,6.0507654000000001E-2,8.9448040000000006E-3,6.4471965000000006E-2,1.0020804783335,1.655598938,4.9264820000000003E-3,6.0507654000000001E-2,-1.3437562333329999E-2,6.4471965000000006E-2,1.0020804783335,1.655598938,4.9264820000000003E-3,6.0507654000000001E-2,-1.5559028000000001E-2,6.4471965000000006E-2,1.0020804783335,1.655598938,4.9264820000000003E-3,6.0507654000000001E-2,2.2364582000000001E-2,6.4471965000000006E-2,1.0020804783335,1.655598938,4.9264820000000003E-3,6.0507654000000001E-2,3.4027770000000001E-3,6.4471965000000006E-2,1.0020804783335,1.655598938,4.9264820000000003E-3,6.0507654000000001E-2,5.8913756999999997E-2,6.4471965000000006E-2,1.0020804783335,1.655598938,4.9264820000000003E-3,6.0507654000000001E-2,9.33973045E-2,6.4471965000000006E-2,1.0020804783335,1.655598938,4.9264820000000003E-3,6.0507654000000001E-2,6.9513098333329998E-2,6.4471965000000006E-2,1.0020804783335]
[null,"Hay","Round (> 1500 lbs) w/o net, $/bale",1.599487243,5.6013870000000002E-3,6.3429027999999998E-2,null,3.6831840999999997E-2,1.00067852234794,1.515760867,6.0077790000000004E-3,6.4479096999999999E-2,-2.8101437999999999E-2,7.5310977000000001E-2,1.0028398965160801,1.515760867,6.0077790000000004E-3,6.4479096999999999E-2,-1.5630155E-2,7.5310977000000001E-2,1.0028398965160801,1.515760867,6.0077790000000004E-3,6.4479096999999999E-2,0.21753552400000001,7.5310977000000001E-2,1.0028398965160801,1.515760867,6.0077790000000004E-3,6.4479096999999999E-2,1.4485899999999999E-2,7.5310977000000001E-2,1.0028398965160801,1.515760867,6.0077790000000004E-3,6.4479096999999999E-2,null,7.5310977000000001E-2,1.0028398965160801,1.515760867,6.0077790000000004E-3,6.4479096999999999E-2,5.8257824999999999E-2,7.5310977000000001E-2,1.0028398965160801,1.515760867,6.0077790000000004E-3,6.4479096999999999E-2,3.7004084E-2,7.5310977000000001E-2,1.0028398965160801,1.515760867,6.0077790000000004E-3,6.4479096999999999E-2,0.118285245,7.5310977000000001E-2,1.0028398965160801,1.515760867,6.0077790000000004E-3,6.4479096999999999E-2,0.16114888499999999,7.5310977000000001E-2,1.0028398965160801,1.515760867,6.0077790000000004E-3,6.4479096999999999E-2,-2.18657965E-2,7.5310977000000001E-2,1.0028398965160801,1.515760867,6.0077790000000004E-3,6.4479096999999999E-2,0.1009526845,7.5310977000000001E-2,1.0028398965160801,1.515760867,6.0077790000000004E-3,6.4479096999999999E-2,5.7934643666669998E-2,7.5310977000000001E-2,1.0028398965160801,1.515760867,6.0077790000000004E-3,6.4479096999999999E-2,1.4485899999999999E-2,7.5310977000000001E-2,1.0028398965160801,1.515760867,6.0077790000000004E-3,6.4479096999999999E-2,5.8257824999999999E-2,7.5310977000000001E-2,1.0028398965160801,1.515760867,6.0077790000000004E-3,6.4479096999999999E-2,3.6371862499999998E-2,7.5310977000000001E-2,1.0028398965160801,1.515760867,6.0077790000000004E-3,6.4479096999999999E-2,7.7644664500000002E-2,7.5310977000000001E-2,1.0028398965160801,1.515760867,6.0077790000000004E-3,6.4479096999999999E-2,0.139717065,7.5310977000000001E-2,1.0028398965160801,1.515760867,6.0077790000000004E-3,6.4479096999999999E-2,0.10547940466667,7.5310977000000001E-2,1.0028398965160801]
[null,"Hay","Round (> 1500 lbs) w/ net, $/bale",1.703490527,6.285578E-3,2.6636838999999999E-2,null,2.0626164999999998E-2,1.0002127419676701,1.843617528,2.6973069999999999E-3,6.2026825000000001E-2,4.3580759999999998E-3,7.0154253E-2,1.0024638398840899,1.843617528,2.6973069999999999E-3,6.2026825000000001E-2,5.5897137E-2,7.0154253E-2,1.0024638398840899,1.843617528,2.6973069999999999E-3,6.2026825000000001E-2,9.0888516000000003E-2,7.0154253E-2,1.0024638398840899,1.843617528,2.6973069999999999E-3,6.2026825000000001E-2,-1.2818102E-2,7.0154253E-2,1.0024638398840899,1.843617528,2.6973069999999999E-3,6.2026825000000001E-2,null,7.0154253E-2,1.0024638398840899,1.843617528,2.6973069999999999E-3,6.2026825000000001E-2,1.9004059E-2,7.0154253E-2,1.0024638398840899,1.843617528,2.6973069999999999E-3,6.2026825000000001E-2,0.116907911,7.0154253E-2,1.0024638398840899,1.843617528,2.6973069999999999E-3,6.2026825000000001E-2,0.197554852,7.0154253E-2,1.0024638398840899,1.843617528,2.6973069999999999E-3,6.2026825000000001E-2,0.226733927,7.0154253E-2,1.0024638398840899,1.843617528,2.6973069999999999E-3,6.2026825000000001E-2,3.0127606500000001E-2,7.0154253E-2,1.0024638398840899,1.843617528,2.6973069999999999E-3,6.2026825000000001E-2,7.3392826499999994E-2,7.0154253E-2,1.0024638398840899,1.843617528,2.6973069999999999E-3,6.2026825000000001E-2,5.0381242999999999E-2,7.0154253E-2,1.0024638398840899,1.843617528,2.6973069999999999E-3,6.2026825000000001E-2,-1.2818102E-2,7.0154253E-2,1.0024638398840899,1.843617528,2.6973069999999999E-3,6.2026825000000001E-2,1.9004059E-2,7.0154253E-2,1.0024638398840899,1.843617528,2.6973069999999999E-3,6.2026825000000001E-2,3.0929784999999999E-3,7.0154253E-2,1.0024638398840899,1.843617528,2.6973069999999999E-3,6.2026825000000001E-2,0.15723138149999999,7.0154253E-2,1.0024638398840899,1.843617528,2.6973069999999999E-3,6.2026825000000001E-2,0.2121443895,7.0154253E-2,1.0024638398840899,1.843617528,2.6973069999999999E-3,6.2026825000000001E-2,0.18039889666667,7.0154253E-2,1.0024638398840899]
[null,"Hay","Square (approx 1 ton), $/bale",2.4305719859999999,-8.3474999999999999E-4,7.598365E-2,null,4.1808866E-2,1.00087437267921,2.486756728,-1.3124600000000001E-3,7.2560187999999998E-2,2.9944302999999999E-2,0.112886634,1.00639203850564,2.486756728,-1.3124600000000001E-3,7.2560187999999998E-2,3.4086472999999999E-2,0.112886634,1.00639203850564,2.486756728,-1.3124600000000001E-3,7.2560187999999998E-2,6.2516176000000007E-2,0.112886634,1.00639203850564,2.486756728,-1.3124600000000001E-3,7.2560187999999998E-2,-9.7068341000000002E-2,0.112886634,1.00639203850564,2.486756728,-1.3124600000000001E-3,7.2560187999999998E-2,null,0.112886634,1.00639203850564,2.486756728,-1.3124600000000001E-3,7.2560187999999998E-2,-2.0195096999999999E-2,0.112886634,1.00639203850564,2.486756728,-1.3124600000000001E-3,7.2560187999999998E-2,-0.14738696900000001,0.112886634,1.00639203850564,2.486756728,-1.3124600000000001E-3,7.2560187999999998E-2,-0.117942458,0.112886634,1.00639203850564,2.486756728,-1.3124600000000001E-3,7.2560187999999998E-2,-9.4037713999999994E-2,0.112886634,1.00639203850564,2.486756728,-1.3124600000000001E-3,7.2560187999999998E-2,3.2015387999999999E-2,0.112886634,1.00639203850564,2.486756728,-1.3124600000000001E-3,7.2560187999999998E-2,4.8301324499999999E-2,0.112886634,1.00639203850564,2.486756728,-1.3124600000000001E-3,7.2560187999999998E-2,4.2182317333329999E-2,0.112886634,1.00639203850564,2.486756728,-1.3124600000000001E-3,7.2560187999999998E-2,-9.7068341000000002E-2,0.112886634,1.00639203850564,2.486756728,-1.3124600000000001E-3,7.2560187999999998E-2,-2.0195096999999999E-2,0.112886634,1.00639203850564,2.486756728,-1.3124600000000001E-3,7.2560187999999998E-2,-5.8631718999999999E-2,0.112886634,1.00639203850564,2.486756728,-1.3124600000000001E-3,7.2560187999999998E-2,-0.1326647135,0.112886634,1.00639203850564,2.486756728,-1.3124600000000001E-3,7.2560187999999998E-2,-0.105990086,0.112886634,1.00639203850564,2.486756728,-1.3124600000000001E-3,7.2560187999999998E-2,-0.119789047,0.112886634,1.00639203850564]
[null,"Hay","Stacking hay (4-6 tons), $",3.6006071820000001,4.7799239999999996E-3,1.2071866000000001E-2,null,5.8767584999999997E-2,1.00172830632613,3.6006071820000001,4.7799239999999996E-3,1.2071866000000001E-2,5.6370099999999998E-14,5.5916529999999999E-2,1.0015645517997001,3.6006071820000001,4.7799239999999996E-3,1.2071866000000001E-2,5.6370099999999998E-14,5.5916529999999999E-2,1.0015645517997001,3.6006071820000001,4.7799239999999996E-3,1.2071866000000001E-2,5.6370099999999998E-14,5.5916529999999999E-2,1.0015645517997001,3.6006071820000001,4.7799239999999996E-3,1.2071866000000001E-2,5.6370099999999998E-14,5.5916529999999999E-2,1.0015645517997001,3.6006071820000001,4.7799239999999996E-3,1.2071866000000001E-2,null,5.5916529999999999E-2,1.0015645517997001,3.6006071820000001,4.7799239999999996E-3,1.2071866000000001E-2,5.6370099999999998E-14,5.5916529999999999E-2,1.0015645517997001,3.6006071820000001,4.7799239999999996E-3,1.2071866000000001E-2,5.6370099999999998E-14,5.5916529999999999E-2,1.0015645517997001,3.6006071820000001,4.7799239999999996E-3,1.2071866000000001E-2,5.6370099999999998E-14,5.5916529999999999E-2,1.0015645517997001,3.6006071820000001,4.7799239999999996E-3,1.2071866000000001E-2,5.6370099999999998E-14,5.5916529999999999E-2,1.0015645517997001,3.6006071820000001,4.7799239999999996E-3,1.2071866000000001E-2,5.6370099999999998E-14,5.5916529999999999E-2,1.0015645517997001,3.6006071820000001,4.7799239999999996E-3,1.2071866000000001E-2,5.6370099999999998E-14,5.5916529999999999E-2,1.0015645517997001,3.6006071820000001,4.7799239999999996E-3,1.2071866000000001E-2,5.6370099999999998E-14,5.5916529999999999E-2,1.0015645517997001,3.6006071820000001,4.7799239999999996E-3,1.2071866000000001E-2,5.6370099999999998E-14,5.5916529999999999E-2,1.0015645517997001,3.6006071820000001,4.7799239999999996E-3,1.2071866000000001E-2,5.6370099999999998E-14,5.5916529999999999E-2,1.0015645517997001,3.6006071820000001,4.7799239999999996E-3,1.2071866000000001E-2,5.6370099999999998E-14,5.5916529999999999E-2,1.0015645517997001,3.6006071820000001,4.7799239999999996E-3,1.2071866000000001E-2,5.6370099999999998E-14,5.5916529999999999E-2,1.0015645517997001,3.6006071820000001,4.7799239999999996E-3,1.2071866000000001E-2,5.6370099999999998E-14,5.5916529999999999E-2,1.0015645517997001,3.6006071820000001,4.7799239999999996E-3,1.2071866000000001E-2,5.6370099999999998E-14,5.5916529999999999E-2,1.0015645517997001]
[null,"Hay","Hauling small squares, $/bale",-1.9499593470000001,1.6222433000000001E-2,5.9328314E-2,null,6.8033341999999997E-2,1.0023169477966001,-2.1642334970000001,2.1144383999999999E-2,-2.4565956E-2,-2.7377595000000001E-2,0.13624053999999999,1.0093239419973301,-2.1642334970000001,2.1144383999999999E-2,-2.4565956E-2,4.9846509999999997E-3,0.13624053999999999,1.0093239419973301,-2.1642334970000001,2.1144383999999999E-2,-2.4565956E-2,-5.4905278000000002E-2,0.13624053999999999,1.0093239419973301,-2.1642334970000001,2.1144383999999999E-2,-2.4565956E-2,4.1398562E-2,0.13624053999999999,1.0093239419973301,-2.1642334970000001,2.1144383999999999E-2,-2.4565956E-2,null,0.13624053999999999,1.0093239419973301,-2.1642334970000001,2.1144383999999999E-2,-2.4565956E-2,0.12738993100000001,0.13624053999999999,1.0093239419973301,-2.1642334970000001,2.1144383999999999E-2,-2.4565956E-2,4.2108857999999999E-2,0.13624053999999999,1.0093239419973301,-2.1642334970000001,2.1144383999999999E-2,-2.4565956E-2,5.8461999000000001E-2,0.13624053999999999,1.0093239419973301,-2.1642334970000001,2.1144383999999999E-2,-2.4565956E-2,9.3484345999999996E-2,0.13624053999999999,1.0093239419973301,-2.1642334970000001,2.1144383999999999E-2,-2.4565956E-2,-1.1196472000000001E-2,0.13624053999999999,1.0093239419973301,-2.1642334970000001,2.1144383999999999E-2,-2.4565956E-2,-2.4960313500000001E-2,0.13624053999999999,1.0093239419973301,-2.1642334970000001,2.1144383999999999E-2,-2.4565956E-2,-2.5766074E-2,0.13624053999999999,1.0093239419973301,-2.1642334970000001,2.1144383999999999E-2,-2.4565956E-2,4.1398562E-2,0.13624053999999999,1.0093239419973301,-2.1642334970000001,2.1144383999999999E-2,-2.4565956E-2,0.12738993100000001,0.13624053999999999,1.0093239419973301,-2.1642334970000001,2.1144383999999999E-2,-2.4565956E-2,8.4394246500000006E-2,0.13624053999999999,1.0093239419973301,-2.1642334970000001,2.1144383999999999E-2,-2.4565956E-2,5.02854285E-2,0.13624053999999999,1.0093239419973301,-2.1642334970000001,2.1144383999999999E-2,-2.4565956E-2,7.5973172500000005E-2,0.13624053999999999,1.0093239419973301,-2.1642334970000001,2.1144383999999999E-2,-2.4565956E-2,6.4685067666669996E-2,0.13624053999999999,1.0093239419973301]
[null,"Hay","Hauling large round, $/bale",0.52763321299999999,8.2778030000000002E-3,3.9464463999999998E-2,null,6.9719476000000002E-2,1.00243335848955,0.46794839100000002,8.3141510000000005E-3,5.7433663000000003E-2,1.5058648000000001E-2,0.204734733,1.02117931995263,0.46794839100000002,8.3141510000000005E-3,5.7433663000000003E-2,7.2746411999999996E-2,0.204734733,1.02117931995263,0.46794839100000002,8.3141510000000005E-3,5.7433663000000003E-2,-3.0863061000000001E-2,0.204734733,1.02117931995263,0.46794839100000002,8.3141510000000005E-3,5.7433663000000003E-2,-0.17019822000000001,0.204734733,1.02117931995263,0.46794839100000002,8.3141510000000005E-3,5.7433663000000003E-2,null,0.204734733,1.02117931995263,0.46794839100000002,8.3141510000000005E-3,5.7433663000000003E-2,-4.0716501000000002E-2,0.204734733,1.02117931995263,0.46794839100000002,8.3141510000000005E-3,5.7433663000000003E-2,6.0092365000000002E-2,0.204734733,1.02117931995263,0.46794839100000002,8.3141510000000005E-3,5.7433663000000003E-2,-1.2281176E-2,0.204734733,1.02117931995263,0.46794839100000002,8.3141510000000005E-3,5.7433663000000003E-2,0.119350384,0.204734733,1.02117931995263,0.46794839100000002,8.3141510000000005E-3,5.7433663000000003E-2,4.3902530000000002E-2,0.204734733,1.02117931995263,0.46794839100000002,8.3141510000000005E-3,5.7433663000000003E-2,2.09416755E-2,0.204734733,1.02117931995263,0.46794839100000002,8.3141510000000005E-3,5.7433663000000003E-2,1.8980666333329999E-2,0.204734733,1.02117931995263,0.46794839100000002,8.3141510000000005E-3,5.7433663000000003E-2,-0.17019822000000001,0.204734733,1.02117931995263,0.46794839100000002,8.3141510000000005E-3,5.7433663000000003E-2,-4.0716501000000002E-2,0.204734733,1.02117931995263,0.46794839100000002,8.3141510000000005E-3,5.7433663000000003E-2,-0.1054573605,0.204734733,1.02117931995263,0.46794839100000002,8.3141510000000005E-3,5.7433663000000003E-2,2.3905594499999998E-2,0.204734733,1.02117931995263,0.46794839100000002,8.3141510000000005E-3,5.7433663000000003E-2,5.3534604E-2,0.204734733,1.02117931995263,0.46794839100000002,8.3141510000000005E-3,5.7433663000000003E-2,5.5720524333330003E-2,0.204734733,1.02117931995263]
[null,"Hay","Hauling large round, $/ton",1.362467951,2.9848650000000002E-3,0.12876094900000001,null,0.16771800000000001,1.0141640364801101,2.0029873180000002,-6.0990899999999997E-3,5.9463914999999999E-2,-0.279325675,0.17092759099999999,1.0147153407357801,2.0029873180000002,-6.0990899999999997E-3,5.9463914999999999E-2,-0.28984094900000001,0.17092759099999999,1.0147153407357801,2.0029873180000002,-6.0990899999999997E-3,5.9463914999999999E-2,-0.29526842399999997,0.17092759099999999,1.0147153407357801,2.0029873180000002,-6.0990899999999997E-3,5.9463914999999999E-2,-5.4809565999999997E-2,0.17092759099999999,1.0147153407357801,2.0029873180000002,-6.0990899999999997E-3,5.9463914999999999E-2,null,0.17092759099999999,1.0147153407357801,2.0029873180000002,-6.0990899999999997E-3,5.9463914999999999E-2,-9.4325803999999999E-2,0.17092759099999999,1.0147153407357801,2.0029873180000002,-6.0990899999999997E-3,5.9463914999999999E-2,0.39359111000000002,0.17092759099999999,1.0147153407357801,2.0029873180000002,-6.0990899999999997E-3,5.9463914999999999E-2,0.389725661,0.17092759099999999,1.0147153407357801,2.0029873180000002,-6.0990899999999997E-3,5.9463914999999999E-2,0.37725402200000002,0.17092759099999999,1.0147153407357801,2.0029873180000002,-6.0990899999999997E-3,5.9463914999999999E-2,-0.28458331199999998,0.17092759099999999,1.0147153407357801,2.0029873180000002,-6.0990899999999997E-3,5.9463914999999999E-2,-0.29255468649999999,0.17092759099999999,1.0147153407357801,2.0029873180000002,-6.0990899999999997E-3,5.9463914999999999E-2,-0.28814501599999998,0.17092759099999999,1.0147153407357801,2.0029873180000002,-6.0990899999999997E-3,5.9463914999999999E-2,-5.4809565999999997E-2,0.17092759099999999,1.0147153407357801,2.0029873180000002,-6.0990899999999997E-3,5.9463914999999999E-2,-9.4325803999999999E-2,0.17092759099999999,1.0147153407357801,2.0029873180000002,-6.0990899999999997E-3,5.9463914999999999E-2,-7.4567684999999995E-2,0.17092759099999999,1.0147153407357801,2.0029873180000002,-6.0990899999999997E-3,5.9463914999999999E-2,0.39165838549999998,0.17092759099999999,1.0147153407357801,2.0029873180000002,-6.0990899999999997E-3,5.9463914999999999E-2,0.38348984149999998,0.17092759099999999,1.0147153407357801,2.0029873180000002,-6.0990899999999997E-3,5.9463914999999999E-2,0.38685693100000001,0.17092759099999999,1.0147153407357801]
[null,"Hay","Entire operation (small square), $/bale",-0.68979385199999999,1.4278453999999999E-2,-4.3997907000000003E-2,null,4.2873715999999999E-2,1.0009195002432101,-0.59770267399999999,8.0830269999999996E-3,-1.6582690000000001E-2,8.9117677000000006E-2,0.104213058,1.0054449508829999,-0.59770267399999999,8.0830269999999996E-3,-1.6582690000000001E-2,8.9117677000000006E-2,0.104213058,1.0054449508829999,-0.59770267399999999,8.0830269999999996E-3,-1.6582690000000001E-2,8.3305239000000003E-2,0.104213058,1.0054449508829999,-0.59770267399999999,8.0830269999999996E-3,-1.6582690000000001E-2,-5.9270299999999998E-4,0.104213058,1.0054449508829999,-0.59770267399999999,8.0830269999999996E-3,-1.6582690000000001E-2,null,0.104213058,1.0054449508829999,-0.59770267399999999,8.0830269999999996E-3,-1.6582690000000001E-2,-1.9892500000000001E-3,0.104213058,1.0054449508829999,-0.59770267399999999,8.0830269999999996E-3,-1.6582690000000001E-2,0.237694722,0.104213058,1.0054449508829999,-0.59770267399999999,8.0830269999999996E-3,-1.6582690000000001E-2,0.26357214400000001,0.104213058,1.0054449508829999,-0.59770267399999999,8.0830269999999996E-3,-1.6582690000000001E-2,0.25283949700000002,0.104213058,1.0054449508829999,-0.59770267399999999,8.0830269999999996E-3,-1.6582690000000001E-2,8.9117677000000006E-2,0.104213058,1.0054449508829999,-0.59770267399999999,8.0830269999999996E-3,-1.6582690000000001E-2,8.6211458000000005E-2,0.104213058,1.0054449508829999,-0.59770267399999999,8.0830269999999996E-3,-1.6582690000000001E-2,8.7180197666669998E-2,0.104213058,1.0054449508829999,-0.59770267399999999,8.0830269999999996E-3,-1.6582690000000001E-2,-5.9270299999999998E-4,0.104213058,1.0054449508829999,-0.59770267399999999,8.0830269999999996E-3,-1.6582690000000001E-2,-1.9892500000000001E-3,0.104213058,1.0054449508829999,-0.59770267399999999,8.0830269999999996E-3,-1.6582690000000001E-2,-1.2909765000000001E-3,0.104213058,1.0054449508829999,-0.59770267399999999,8.0830269999999996E-3,-1.6582690000000001E-2,0.25063343300000002,0.104213058,1.0054449508829999,-0.59770267399999999,8.0830269999999996E-3,-1.6582690000000001E-2,0.25820582050000002,0.104213058,1.0054449508829999,-0.59770267399999999,8.0830269999999996E-3,-1.6582690000000001E-2,0.25136878766666998,0.104213058,1.0054449508829999]
[null,"Hay","Entire operation (large round), $/bale",2.2700479219999998,4.6787560000000001E-3,6.9023460999999994E-2,null,4.8533381E-2,1.00117843834909,2.3932320790000001,5.9355420000000002E-3,1.8168455E-2,7.1192733999999994E-2,0.104894389,1.0055165770019701,2.3932320790000001,5.9355420000000002E-3,1.8168455E-2,7.5560262000000003E-2,0.104894389,1.0055165770019701,2.3932320790000001,5.9355420000000002E-3,1.8168455E-2,6.1917776000000001E-2,0.104894389,1.0055165770019701,2.3932320790000001,5.9355420000000002E-3,1.8168455E-2,-1.8799540000000001E-3,0.104894389,1.0055165770019701,2.3932320790000001,5.9355420000000002E-3,1.8168455E-2,null,0.104894389,1.0055165770019701,2.3932320790000001,5.9355420000000002E-3,1.8168455E-2,-1.0716754E-2,0.104894389,1.0055165770019701,2.3932320790000001,5.9355420000000002E-3,1.8168455E-2,-0.16335369199999999,0.104894389,1.0055165770019701,2.3932320790000001,5.9355420000000002E-3,1.8168455E-2,-0.207073534,0.104894389,1.0055165770019701,2.3932320790000001,5.9355420000000002E-3,1.8168455E-2,-0.13971792199999999,0.104894389,1.0055165770019701,2.3932320790000001,5.9355420000000002E-3,1.8168455E-2,7.3376497999999998E-2,0.104894389,1.0055165770019701,2.3932320790000001,5.9355420000000002E-3,1.8168455E-2,6.8739018999999998E-2,0.104894389,1.0055165770019701,2.3932320790000001,5.9355420000000002E-3,1.8168455E-2,6.9556924000000006E-2,0.104894389,1.0055165770019701,2.3932320790000001,5.9355420000000002E-3,1.8168455E-2,-1.8799540000000001E-3,0.104894389,1.0055165770019701,2.3932320790000001,5.9355420000000002E-3,1.8168455E-2,-1.0716754E-2,0.104894389,1.0055165770019701,2.3932320790000001,5.9355420000000002E-3,1.8168455E-2,-6.2983539999999999E-3,0.104894389,1.0055165770019701,2.3932320790000001,5.9355420000000002E-3,1.8168455E-2,-0.185213613,0.104894389,1.0055165770019701,2.3932320790000001,5.9355420000000002E-3,1.8168455E-2,-0.173395728,0.104894389,1.0055165770019701,2.3932320790000001,5.9355420000000002E-3,1.8168455E-2,-0.17004838266666999,0.104894389,1.0055165770019701]
[null,"Hay","Entire operation, $/ton",2.7262792990000002,6.8963280000000002E-3,2.6049383999999998E-2,null,6.5251685000000004E-2,1.00213115889548,2.7262792990000002,6.8963280000000002E-3,2.6049383999999998E-2,4.9188199999999999E-14,6.2086058999999999E-2,1.00192919787338,2.7262792990000002,6.8963280000000002E-3,2.6049383999999998E-2,4.9188199999999999E-14,6.2086058999999999E-2,1.00192919787338,2.7262792990000002,6.8963280000000002E-3,2.6049383999999998E-2,4.9188199999999999E-14,6.2086058999999999E-2,1.00192919787338,2.7262792990000002,6.8963280000000002E-3,2.6049383999999998E-2,4.9188199999999999E-14,6.2086058999999999E-2,1.00192919787338,2.7262792990000002,6.8963280000000002E-3,2.6049383999999998E-2,null,6.2086058999999999E-2,1.00192919787338,2.7262792990000002,6.8963280000000002E-3,2.6049383999999998E-2,4.9188199999999999E-14,6.2086058999999999E-2,1.00192919787338,2.7262792990000002,6.8963280000000002E-3,2.6049383999999998E-2,4.9188199999999999E-14,6.2086058999999999E-2,1.00192919787338,2.7262792990000002,6.8963280000000002E-3,2.6049383999999998E-2,4.9188199999999999E-14,6.2086058999999999E-2,1.00192919787338,2.7262792990000002,6.8963280000000002E-3,2.6049383999999998E-2,4.9188199999999999E-14,6.2086058999999999E-2,1.00192919787338,2.7262792990000002,6.8963280000000002E-3,2.6049383999999998E-2,4.9188199999999999E-14,6.2086058999999999E-2,1.00192919787338,2.7262792990000002,6.8963280000000002E-3,2.6049383999999998E-2,4.9188199999999999E-14,6.2086058999999999E-2,1.00192919787338,2.7262792990000002,6.8963280000000002E-3,2.6049383999999998E-2,4.9188199999999999E-14,6.2086058999999999E-2,1.00192919787338,2.7262792990000002,6.8963280000000002E-3,2.6049383999999998E-2,4.9188199999999999E-14,6.2086058999999999E-2,1.00192919787338,2.7262792990000002,6.8963280000000002E-3,2.6049383999999998E-2,4.9188199999999999E-14,6.2086058999999999E-2,1.00192919787338,2.7262792990000002,6.8963280000000002E-3,2.6049383999999998E-2,4.9188199999999999E-14,6.2086058999999999E-2,1.00192919787338,2.7262792990000002,6.8963280000000002E-3,2.6049383999999998E-2,4.9188199999999999E-14,6.2086058999999999E-2,1.00192919787338,2.7262792990000002,6.8963280000000002E-3,2.6049383999999998E-2,4.9188199999999999E-14,6.2086058999999999E-2,1.00192919787338,2.7262792990000002,6.8963280000000002E-3,2.6049383999999998E-2,4.9188199999999999E-14,6.2086058999999999E-2,1.00192919787338]
[]
[null,null,null,null,null,null,null,null,null,null,null,null,null,null,null,null,null,null,null,null,null,null,null,null,null,null,null,null,null,null,null,null,null,null,null,null,null,null,null,null,null,null,null,null,null,null,null,null,null,null,null,null,null,null,null,null,null,null,null,null,null,null,null,null,null,null,null,null,null,null,null,null,null,null,null,null,null,null,null,null,null,null,null,null,null,null,null,null,null,null,null,null,null,null,null,null,null,null,null,null,null,null,null,null,null,null,null,null,null,null,null,null,null,null,null,null,null,null,null,"CRD - Northeast","Intercept"]
[null,null,null,null,null,null,null,null,null,null,null,null,null,null,null,null,null,null,null,null,null,null,null,null,null,null,null,null,null,null,null,null,null,null,null,null,null,null,null,null,null,null,null,null,null,null,null,null,null,null,null,null,null,null,null,null,null,null,null,null,null,null,null,null,null,null,null,null,null,null,null,null,null,null,null,null,null,null,null,null,null,null,null,null,null,null,null,null,null,null,null,null,null,null,null,null,null,null,null,null,null,null,null,null,null,null,null,null,null,null,null,null,null,null,null,null,null,null,null,"CRD - Northeast","PPI"]
[null,null,null,null,null,null,null,null,null,null,null,null,null,null,null,null,null,null,null,null,null,null,null,null,null,null,null,null,null,null,null,null,null,null,null,null,null,null,null,null,null,null,null,null,null,null,null,null,null,null,null,null,null,null,null,null,null,null,null,null,null,null,null,null,null,null,null,null,null,null,null,null,null,null,null,null,null,null,null,null,null,null,null,null,null,null,null,null,null,null,null,null,null,null,null,null,null,null,null,null,null,null,null,null,null,null,null,null,null,null,null,null,null,null,null,null,null,null,null,"CRD - Northeast","fuel"]
[null,null,null,null,null,null,null,null,null,null,null,null,null,null,null,null,null,null,null,null,null,null,null,null,null,null,null,null,null,null,null,null,null,null,null,null,null,null,null,null,null,null,null,null,null,null,null,null,null,null,null,null,null,null,null,null,null,null,null,null,null,null,null,null,null,null,null,null,null,null,null,null,null,null,null,null,null,null,null,null,null,null,null,null,null,null,null,null,null,null,null,null,null,null,null,null,null,null,null,null,null,null,null,null,null,null,null,null,null,null,null,null,null,null,null,null,null,null,null,"CRD - Northeast","Adjustment factor"]
[null,null,null,null,null,null,null,null,null,null,null,null,null,null,null,null,null,null,null,null,null,null,null,null,null,null,null,null,null,null,null,null,null,null,null,null,null,null,null,null,null,null,null,null,null,null,null,null,null,null,null,null,null,null,null,null,null,null,null,null,null,null,null,null,null,null,null,null,null,null,null,null,null,null,null,null,null,null,null,null,null,null,null,null,null,null,null,null,null,null,null,null,null,null,null,null,null,null,null,null,null,null,null,null,null,null,null,null,null,null,null,null,null,null,null,null,null,null,null,"CRD - Northeast","RMSE"]
[null,null,"OPERATION","State","CRD - Northwest","CRD - West central","CRD - Southwest","CRD - North central","CRD - Central","CRD - South central","CRD - Northeast","CRD - East central","CRD - Southeast","Northwest","Southwest","West","North central","South central","Central","Northeast","Southeast","East",null,null,null,null,null,null,null,null,null,null,null,null,"CRD - Central","CRD - Central","CRD - Central","CRD - Central",null,null,null,null,null,null,null,null,null,null,null,null,null,null,null,"CRD - East central","CRD - East central","CRD - East central","CRD - East central",null,"CRD - Southeast","CRD - Southeast","CRD - Southeast","CRD - Southeast","CRD - Southeast",null,null,null,null,null,null,null,null,null,null,null,null,null,null,null,null,null,null,null,null,null,null,null,null,null,null,null,null,null,"South central",null,null,null,null,"Central","Central",null,null,null,"Northeast","Northeast","Northeast",null,null,"Southeast","Southeast","Southeast","Southeast",null,"East","East","East","East","East"]
[null,"Tillage","Disk",{"$f":"EXP(D8 + E8*Prices!$D$2 + F8*Prices!$D$4 + G8) * I8","v":11.739626290689204},{"$f":"EXP(J8 + K8*Prices!$D$2 + L8*Prices!$D$4 + M8) * O8","v":10.288525670516272},{"$f":"EXP(P8 + Q8*Prices!$D$2 + R8*Prices!$D$4 + S8) * U8","v":10.132347038192309},{"$f":"EXP(V8 + W8*Prices!$D$2 + X8*Prices!$D$4 + Y8) * AA8","v":11.448392065355137},{"$f":"EXP(AB8 + AC8*Prices!$D$2 + AD8*Prices!$D$4 + AE8) * AG8","v":12.274511236602102},{"$f":"EXP(AH8 + AI8*Prices!$D$2 + AJ8*Prices!$D$4 + AK8) * AM8","v":11.478169358452071},{"$f":"EXP(AN8 + AO8*Prices!$D$2 + AP8*Prices!$D$4 + AQ8) * AS8","v":12.23725782043695},{"$f":"EXP(AT8 + AU8*Prices!$D$2 + AV8*Prices!$D$4 + AW8) * AY8","v":14.206976651320394},{"$f":"EXP(AZ8 + BA8*Prices!$D$2 + BB8*Prices!$D$4 + BC8) * BE8","v":12.921280014671948},{"$f":"EXP(BF8 + BG8*Prices!$D$2 + BH8*Prices!$D$4 + BI8) * BK8","v":12.728574424964881},{"$f":"EXP(BL8 + BM8*Prices!$D$2 + BN8*Prices!$D$4 + BO8) * BQ8","v":10.210137736829068},{"$f":"EXP(BR8 + BS8*Prices!$D$2 + BT8*Prices!$D$4 + BU8) * BW8","v":10.770286970896615},{"$f":"EXP(BX8 + BY8*Prices!$D$2 + BZ8*Prices!$D$4 + CA8) * CC8","v":10.607244149560929},{"$f":"EXP(CD8 + CE8*Prices!$D$2 + CF8*Prices!$D$4 + CG8) * CI8","v":12.274511236602102},{"$f":"EXP(CJ8 + CK8*Prices!$D$2 + CL8*Prices!$D$4 + CM8) * CO8","v":12.23725782043695},{"$f":"EXP(CP8 + CQ8*Prices!$D$2 + CR8*Prices!$D$4 + CS8) * CU8","v":12.255870373912671},{"$f":"EXP(CV8 + CW8*Prices!$D$2 + CX8*Prices!$D$4 + CY8) * DA8","v":13.548886429283371},{"$f":"EXP(DB8 + DC8*Prices!$D$2 + DD8*Prices!$D$4 + DE8) * DG8","v":12.824565268755306},{"$f":"EXP(DH8 + DI8*Prices!$D$2 + DJ8*Prices!$D$4 + DK8) * DM8","v":13.269737252229445},null,null,null,null,null,null,null,null,null,null,null,null,null,null,null,null,null,null,null,null,null,null,null,null,null,null,null,null,null,null,null,null,null,null,null,null,null,null,null,null,null,null,null,null,null,null,null,null,null,null,null,null,null,null,null,null,null,null,null,null,null,null,null,null,null,null,null,null,null,null,null,null,null,null,null,null,null,null,null,null,null,null,null,null,null,null,null,null,null,null,null,null,null,null,null,null,null,"CRD - East central","Intercept"]
[null,null,"Offset disk",{"$f":"EXP(D9 + E9*Prices!$D$2 + F9*Prices!$D$4 + G9) * I9","v":11.360799209560781},{"$f":"EXP(J9 + K9*Prices!$D$2 + L9*Prices!$D$4 + M9) * O9","v":10.409920152771992},{"$f":"EXP(P9 + Q9*Prices!$D$2 + R9*Prices!$D$4 + S9) * U9","v":10.256909709967264},{"$f":"EXP(V9 + W9*Prices!$D$2 + X9*Prices!$D$4 + Y9) * AA9","v":10.972750622037324},{"$f":"EXP(AB9 + AC9*Prices!$D$2 + AD9*Prices!$D$4 + AE9) * AG9","v":12.156398146235775},{"$f":"EXP(AH9 + AI9*Prices!$D$2 + AJ9*Prices!$D$4 + AK9) * AM9","v":11.027321755025445},{"$f":"EXP(AN9 + AO9*Prices!$D$2 + AP9*Prices!$D$4 + AQ9) * AS9","v":11.824696828534197},{"$f":"EXP(AT9 + AU9*Prices!$D$2 + AV9*Prices!$D$4 + AW9) * AY9","v":14.180615212820751},{"$f":"EXP(AZ9 + BA9*Prices!$D$2 + BB9*Prices!$D$4 + BC9) * BE9","v":13.366456178705992},{"$f":"EXP(BF9 + BG9*Prices!$D$2 + BH9*Prices!$D$4 + BI9) * BK9","v":14.066194561449633},{"$f":"EXP(BL9 + BM9*Prices!$D$2 + BN9*Prices!$D$4 + BO9) * BQ9","v":10.33313171768128},{"$f":"EXP(BR9 + BS9*Prices!$D$2 + BT9*Prices!$D$4 + BU9) * BW9","v":10.608794106788142},{"$f":"EXP(BX9 + BY9*Prices!$D$2 + BZ9*Prices!$D$4 + CA9) * CC9","v":10.542084184578261},{"$f":"EXP(CD9 + CE9*Prices!$D$2 + CF9*Prices!$D$4 + CG9) * CI9","v":12.156398146235775},{"$f":"EXP(CJ9 + CK9*Prices!$D$2 + CL9*Prices!$D$4 + CM9) * CO9","v":11.824696828534197},{"$f":"EXP(CP9 + CQ9*Prices!$D$2 + CR9*Prices!$D$4 + CS9) * CU9","v":11.989400427302218},{"$f":"EXP(CV9 + CW9*Prices!$D$2 + CX9*Prices!$D$4 + CY9) * DA9","v":13.767518724492808},{"$f":"EXP(DB9 + DC9*Prices!$D$2 + DD9*Prices!$D$4 + DE9) * DG9","v":13.711862499557419},{"$f":"EXP(DH9 + DI9*Prices!$D$2 + DJ9*Prices!$D$4 + DK9) * DM9","v":13.866365940933846},null,null,null,null,null,null,null,null,null,null,null,null,null,null,null,null,null,null,null,null,null,null,null,null,null,null,null,null,null,null,null,null,null,null,null,null,null,null,null,null,null,null,null,null,null,null,null,null,null,null,null,null,null,null,null,null,null,null,null,null,null,null,null,null,null,null,null,null,null,null,null,null,null,null,null,null,null,null,null,null,null,null,null,null,null,null,null,null,null,null,null,null,null,null,null,null,null,"CRD - East central","PPI"]
[null,null,"Chisel 4-12 in",{"$f":"EXP(D10 + E10*Prices!$D$2 + F10*Prices!$D$4 + G10) * I10","v":12.344456526874446},{"$f":"EXP(J10 + K10*Prices!$D$2 + L10*Prices!$D$4 + M10) * O10","v":10.786132310741584},{"$f":"EXP(P10 + Q10*Prices!$D$2 + R10*Prices!$D$4 + S10) * U10","v":10.099298506865932},{"$f":"EXP(V10 + W10*Prices!$D$2 + X10*Prices!$D$4 + Y10) * AA10","v":10.76211900749318},{"$f":"EXP(AB10 + AC10*Prices!$D$2 + AD10*Prices!$D$4 + AE10) * AG10","v":12.59546973374627},{"$f":"EXP(AH10 + AI10*Prices!$D$2 + AJ10*Prices!$D$4 + AK10) * AM10","v":12.371766695126817},{"$f":"EXP(AN10 + AO10*Prices!$D$2 + AP10*Prices!$D$4 + AQ10) * AS10","v":12.587797328606795},{"$f":"EXP(AT10 + AU10*Prices!$D$2 + AV10*Prices!$D$4 + AW10) * AY10","v":15.48083562077181},{"$f":"EXP(AZ10 + BA10*Prices!$D$2 + BB10*Prices!$D$4 + BC10) * BE10","v":14.7969395781711},{"$f":"EXP(BF10 + BG10*Prices!$D$2 + BH10*Prices!$D$4 + BI10) * BK10","v":14.219888218055932},{"$f":"EXP(BL10 + BM10*Prices!$D$2 + BN10*Prices!$D$4 + BO10) * BQ10","v":10.437067113932425},{"$f":"EXP(BR10 + BS10*Prices!$D$2 + BT10*Prices!$D$4 + BU10) * BW10","v":10.425442552864997},{"$f":"EXP(BX10 + BY10*Prices!$D$2 + BZ10*Prices!$D$4 + CA10) * CC10","v":10.544311988400809},{"$f":"EXP(CD10 + CE10*Prices!$D$2 + CF10*Prices!$D$4 + CG10) * CI10","v":12.59546973374627},{"$f":"EXP(CJ10 + CK10*Prices!$D$2 + CL10*Prices!$D$4 + CM10) * CO10","v":12.587797328606795},{"$f":"EXP(CP10 + CQ10*Prices!$D$2 + CR10*Prices!$D$4 + CS10) * CU10","v":12.591632946802374},{"$f":"EXP(CV10 + CW10*Prices!$D$2 + CX10*Prices!$D$4 + CY10) * DA10","v":15.135025249406146},{"$f":"EXP(DB10 + DC10*Prices!$D$2 + DD10*Prices!$D$4 + DE10) * DG10","v":14.505544690597555},{"$f":"EXP(DH10 + DI10*Prices!$D$2 + DJ10*Prices!$D$4 + DK10) * DM10","v":14.823616152322767},null,null,null,null,null,null,null,null,null,null,null,null,null,null,null,null,null,null,null,null,null,null,null,null,null,null,null,null,null,null,null,null,null,null,null,null,null,null,null,null,null,null,null,null,null,null,null,null,null,null,null,null,null,null,null,null,null,null,null,null,null,null,null,null,null,null,null,null,null,null,null,null,null,null,null,null,null,null,null,null,null,null,null,null,null,null,null,null,null,null,null,null,null,null,null,null,null,"CRD - East central","fuel"]
[null,null,"Springtooth harrow",{"$f":"EXP(D11 + E11*Prices!$D$2 + F11*Prices!$D$4 + G11) * I11","v":9.5123913960797388},{"$f":"EXP(J11 + K11*Prices!$D$2 + L11*Prices!$D$4 + M11) * O11","v":8.6314936990560671},{"$f":"EXP(P11 + Q11*Prices!$D$2 + R11*Prices!$D$4 + S11) * U11","v":8.456245537697459},{"$f":"EXP(V11 + W11*Prices!$D$2 + X11*Prices!$D$4 + Y11) * AA11","v":8.3105202347150726},{"$f":"EXP(AB11 + AC11*Prices!$D$2 + AD11*Prices!$D$4 + AE11) * AG11","v":8.9127850336061556},{"$f":"EXP(AH11 + AI11*Prices!$D$2 + AJ11*Prices!$D$4 + AK11) * AM11","v":8.6574181975463151},{"$f":"EXP(AN11 + AO11*Prices!$D$2 + AP11*Prices!$D$4 + AQ11) * AS11","v":8.8608271935358438},{"$f":"EXP(AT11 + AU11*Prices!$D$2 + AV11*Prices!$D$4 + AW11) * AY11","v":10.20317972889433},{"$f":"EXP(AZ11 + BA11*Prices!$D$2 + BB11*Prices!$D$4 + BC11) * BE11","v":10.293761714774915},{"$f":"EXP(BF11 + BG11*Prices!$D$2 + BH11*Prices!$D$4 + BI11) * BK11","v":10.291040302586602},{"$f":"EXP(BL11 + BM11*Prices!$D$2 + BN11*Prices!$D$4 + BO11) * BQ11","v":8.5434202797419427},{"$f":"EXP(BR11 + BS11*Prices!$D$2 + BT11*Prices!$D$4 + BU11) * BW11","v":8.3830662439678836},{"$f":"EXP(BX11 + BY11*Prices!$D$2 + BZ11*Prices!$D$4 + CA11) * CC11","v":8.4650706015889234},{"$f":"EXP(CD11 + CE11*Prices!$D$2 + CF11*Prices!$D$4 + CG11) * CI11","v":8.9127850336061556},{"$f":"EXP(CJ11 + CK11*Prices!$D$2 + CL11*Prices!$D$4 + CM11) * CO11","v":8.8608271935358438},{"$f":"EXP(CP11 + CQ11*Prices!$D$2 + CR11*Prices!$D$4 + CS11) * CU11","v":8.8867681412264119},{"$f":"EXP(CV11 + CW11*Prices!$D$2 + CX11*Prices!$D$4 + CY11) * DA11","v":10.248370644266279},{"$f":"EXP(DB11 + DC11*Prices!$D$2 + DD11*Prices!$D$4 + DE11) * DG11","v":10.292400918734733},{"$f":"EXP(DH11 + DI11*Prices!$D$2 + DJ11*Prices!$D$4 + DK11) * DM11","v":10.262574169519263},null,null,null,null,null,null,null,null,null,null,null,null,null,null,null,null,null,null,null,null,null,null,null,null,null,null,null,null,null,null,null,null,null,null,null,null,null,null,null,null,null,null,null,null,null,null,null,null,null,null,null,null,null,null,null,null,null,null,null,null,null,null,null,null,null,null,null,null,null,null,null,null,null,null,null,null,null,null,null,null,null,null,null,null,null,null,null,null,null,null,null,null,null,null,null,null,null,"CRD - East central","Adjustment factor"]
[null,null,"Field cultivate",{"$f":"EXP(D12 + E12*Prices!$D$2 + F12*Prices!$D$4 + G12) * I12","v":10.889853597269793},{"$f":"EXP(J12 + K12*Prices!$D$2 + L12*Prices!$D$4 + M12) * O12","v":10.525736503499228},{"$f":"EXP(P12 + Q12*Prices!$D$2 + R12*Prices!$D$4 + S12) * U12","v":10.245056664256241},{"$f":"EXP(V12 + W12*Prices!$D$2 + X12*Prices!$D$4 + Y12) * AA12","v":11.11233673002236},{"$f":"EXP(AB12 + AC12*Prices!$D$2 + AD12*Prices!$D$4 + AE12) * AG12","v":11.592484269222323},{"$f":"EXP(AH12 + AI12*Prices!$D$2 + AJ12*Prices!$D$4 + AK12) * AM12","v":10.302686997966447},{"$f":"EXP(AN12 + AO12*Prices!$D$2 + AP12*Prices!$D$4 + AQ12) * AS12","v":11.013244478878024},{"$f":"EXP(AT12 + AU12*Prices!$D$2 + AV12*Prices!$D$4 + AW12) * AY12","v":13.404421379466905},{"$f":"EXP(AZ12 + BA12*Prices!$D$2 + BB12*Prices!$D$4 + BC12) * BE12","v":12.427504218544881},{"$f":"EXP(BF12 + BG12*Prices!$D$2 + BH12*Prices!$D$4 + BI12) * BK12","v":11.693236310671637},{"$f":"EXP(BL12 + BM12*Prices!$D$2 + BN12*Prices!$D$4 + BO12) * BQ12","v":10.384448320030291},{"$f":"EXP(BR12 + BS12*Prices!$D$2 + BT12*Prices!$D$4 + BU12) * BW12","v":10.669888446997698},{"$f":"EXP(BX12 + BY12*Prices!$D$2 + BZ12*Prices!$D$4 + CA12) * CC12","v":10.621619769525806},{"$f":"EXP(CD12 + CE12*Prices!$D$2 + CF12*Prices!$D$4 + CG12) * CI12","v":11.592484269222323},{"$f":"EXP(CJ12 + CK12*Prices!$D$2 + CL12*Prices!$D$4 + CM12) * CO12","v":11.013244478878024},{"$f":"EXP(CP12 + CQ12*Prices!$D$2 + CR12*Prices!$D$4 + CS12) * CU12","v":11.299153214931334},{"$f":"EXP(CV12 + CW12*Prices!$D$2 + CX12*Prices!$D$4 + CY12) * DA12","v":12.906723179819108},{"$f":"EXP(DB12 + DC12*Prices!$D$2 + DD12*Prices!$D$4 + DE12) * DG12","v":12.054780942817478},{"$f":"EXP(DH12 + DI12*Prices!$D$2 + DJ12*Prices!$D$4 + DK12) * DM12","v":12.488843953252703},null,null,null,null,null,null,null,null,null,null,null,null,null,null,null,null,null,null,null,null,null,null,null,null,null,null,null,null,null,null,null,null,null,null,null,null,null,null,null,null,null,null,null,null,null,null,null,null,null,null,null,null,null,null,null,null,null,null,null,null,null,null,null,null,null,null,null,null,null,null,null,null,null,null,null,null,null,null,null,null,null,null,null,null,null,null,null,null,null,null,null,null,null,null,null,null,null,"CRD - East central","RMSE"]
[null,null,"V-blade",{"$f":"EXP(D13 + E13*Prices!$D$2 + F13*Prices!$D$4 + G13) * I13","v":8.7522692560685673},{"$f":"EXP(J13 + K13*Prices!$D$2 + L13*Prices!$D$4 + M13) * O13","v":8.5205685787032266},{"$f":"EXP(P13 + Q13*Prices!$D$2 + R13*Prices!$D$4 + S13) * U13","v":7.9283491627961382},{"$f":"EXP(V13 + W13*Prices!$D$2 + X13*Prices!$D$4 + Y13) * AA13","v":8.8521461310218097},{"$f":"EXP(AB13 + AC13*Prices!$D$2 + AD13*Prices!$D$4 + AE13) * AG13","v":10.126954156960286},{"$f":"EXP(AH13 + AI13*Prices!$D$2 + AJ13*Prices!$D$4 + AK13) * AM13","v":9.4136789130179341},{"$f":"EXP(AN13 + AO13*Prices!$D$2 + AP13*Prices!$D$4 + AQ13) * AS13","v":9.8916629319069838},{"$f":"EXP(AT13 + AU13*Prices!$D$2 + AV13*Prices!$D$4 + AW13) * AY13","v":8.5913724806554903},{"$f":"EXP(AZ13 + BA13*Prices!$D$2 + BB13*Prices!$D$4 + BC13) * BE13","v":8.5913724806554903},{"$f":"EXP(BF13 + BG13*Prices!$D$2 + BH13*Prices!$D$4 + BI13) * BK13","v":8.5958549416029513},{"$f":"EXP(BL13 + BM13*Prices!$D$2 + BN13*Prices!$D$4 + BO13) * BQ13","v":8.2191266420167466},{"$f":"EXP(BR13 + BS13*Prices!$D$2 + BT13*Prices!$D$4 + BU13) * BW13","v":8.3775238207262976},{"$f":"EXP(BX13 + BY13*Prices!$D$2 + BZ13*Prices!$D$4 + CA13) * CC13","v":8.4249365672161503},{"$f":"EXP(CD13 + CE13*Prices!$D$2 + CF13*Prices!$D$4 + CG13) * CI13","v":10.126954156960286},{"$f":"EXP(CJ13 + CK13*Prices!$D$2 + CL13*Prices!$D$4 + CM13) * CO13","v":9.8916629319069838},{"$f":"EXP(CP13 + CQ13*Prices!$D$2 + CR13*Prices!$D$4 + CS13) * CU13","v":10.008617139621505},{"$f":"EXP(CV13 + CW13*Prices!$D$2 + CX13*Prices!$D$4 + CY13) * DA13","v":8.5913724806554903},{"$f":"EXP(DB13 + DC13*Prices!$D$2 + DD13*Prices!$D$4 + DE13) * DG13","v":8.593613418870671},{"$f":"EXP(DH13 + DI13*Prices!$D$2 + DJ13*Prices!$D$4 + DK13) * DM13","v":8.5928663745267357},null,null,null,null,null,null,null,null,null,null,null,null,null,null,null,null,null,null,null,null,null,null,null,null,null,null,null,null,null,null,null,null,null,null,null,null,null,null,null,null,null,null,null,null,null,null,null,null,null,null,null,null,null,null,null,null,null,null,null,null,null,null,null,null,null,null,null,null,null,null,null,null,null,null,null,null,null,null,null,null,null,null,null,null,null,null,null,null,null,null,null,null,null,null,null,null,null,"CRD - East central","LN adjustment"]
[null,"Fertillizer application","Row crop cultivation with fertilizer",{"$f":"EXP(D14 + E14*Prices!$D$2 + F14*Prices!$D$4 + G14) * I14","v":10.64614767386017},{"$f":"EXP(J14 + K14*Prices!$D$2 + L14*Prices!$D$4 + M14) * O14","v":12.21992335567464},{"$f":"EXP(P14 + Q14*Prices!$D$2 + R14*Prices!$D$4 + S14) * U14","v":12.21992335567464},{"$f":"EXP(V14 + W14*Prices!$D$2 + X14*Prices!$D$4 + Y14) * AA14","v":12.21992335567464},{"$f":"EXP(AB14 + AC14*Prices!$D$2 + AD14*Prices!$D$4 + AE14) * AG14","v":10.928053812192434},{"$f":"EXP(AH14 + AI14*Prices!$D$2 + AJ14*Prices!$D$4 + AK14) * AM14","v":10.928053812192429},{"$f":"EXP(AN14 + AO14*Prices!$D$2 + AP14*Prices!$D$4 + AQ14) * AS14","v":10.928053812192434},{"$f":"EXP(AT14 + AU14*Prices!$D$2 + AV14*Prices!$D$4 + AW14) * AY14","v":11.352427203321431},{"$f":"EXP(AZ14 + BA14*Prices!$D$2 + BB14*Prices!$D$4 + BC14) * BE14","v":11.352427203321431},{"$f":"EXP(BF14 + BG14*Prices!$D$2 + BH14*Prices!$D$4 + BI14) * BK14","v":11.352427203321431},{"$f":"EXP(BL14 + BM14*Prices!$D$2 + BN14*Prices!$D$4 + BO14) * BQ14","v":12.21992335567464},{"$f":"EXP(BR14 + BS14*Prices!$D$2 + BT14*Prices!$D$4 + BU14) * BW14","v":12.21992335567464},{"$f":"EXP(BX14 + BY14*Prices!$D$2 + BZ14*Prices!$D$4 + CA14) * CC14","v":12.21992335567464},{"$f":"EXP(CD14 + CE14*Prices!$D$2 + CF14*Prices!$D$4 + CG14) * CI14","v":10.928053812192434},{"$f":"EXP(CJ14 + CK14*Prices!$D$2 + CL14*Prices!$D$4 + CM14) * CO14","v":10.928053812192434},{"$f":"EXP(CP14 + CQ14*Prices!$D$2 + CR14*Prices!$D$4 + CS14) * CU14","v":10.928053812192434},{"$f":"EXP(CV14 + CW14*Prices!$D$2 + CX14*Prices!$D$4 + CY14) * DA14","v":11.352427203321431},{"$f":"EXP(DB14 + DC14*Prices!$D$2 + DD14*Prices!$D$4 + DE14) * DG14","v":11.352427203321431},{"$f":"EXP(DH14 + DI14*Prices!$D$2 + DJ14*Prices!$D$4 + DK14) * DM14","v":11.352427203321431},null,null,null,null,null,null,null,null,null,null,null,null,null,null,null,null,null,null,null,null,null,null,null,null,null,null,null,null,null,null,null,null,null,null,null,null,null,null,null,null,null,null,null,null,null,null,null,null,null,null,null,null,null,null,null,null,null,null,null,null,null,null,null,null,null,null,null,null,null,null,null,null,null,null,null,null,null,null,null,null,null,null,null,null,null,null,null,null,null,null,null,null,null,null,null,null,null,"CRD - Southeast","Intercept"]
[null,null,"Dry fertilizer",{"$f":"EXP(D15 + E15*Prices!$D$2 + F15*Prices!$D$4 + G15) * I15","v":6.0732954997794018},{"$f":"EXP(J15 + K15*Prices!$D$2 + L15*Prices!$D$4 + M15) * O15","v":6.0139334780512304},{"$f":"EXP(P15 + Q15*Prices!$D$2 + R15*Prices!$D$4 + S15) * U15","v":6.2659416149368674},{"$f":"EXP(V15 + W15*Prices!$D$2 + X15*Prices!$D$4 + Y15) * AA15","v":6.0973766206180473},{"$f":"EXP(AB15 + AC15*Prices!$D$2 + AD15*Prices!$D$4 + AE15) * AG15","v":6.1026438287352009},{"$f":"EXP(AH15 + AI15*Prices!$D$2 + AJ15*Prices!$D$4 + AK15) * AM15","v":5.6251126120818791},{"$f":"EXP(AN15 + AO15*Prices!$D$2 + AP15*Prices!$D$4 + AQ15) * AS15","v":5.4973862258866255},{"$f":"EXP(AT15 + AU15*Prices!$D$2 + AV15*Prices!$D$4 + AW15) * AY15","v":6.542783494948039},{"$f":"EXP(AZ15 + BA15*Prices!$D$2 + BB15*Prices!$D$4 + BC15) * BE15","v":6.1885275180988568},{"$f":"EXP(BF15 + BG15*Prices!$D$2 + BH15*Prices!$D$4 + BI15) * BK15","v":5.5107057505909571},{"$f":"EXP(BL15 + BM15*Prices!$D$2 + BN15*Prices!$D$4 + BO15) * BQ15","v":6.138644479816632},{"$f":"EXP(BR15 + BS15*Prices!$D$2 + BT15*Prices!$D$4 + BU15) * BW15","v":6.1810845253138318},{"$f":"EXP(BX15 + BY15*Prices!$D$2 + BZ15*Prices!$D$4 + CA15) * CC15","v":6.1248575856933618},{"$f":"EXP(CD15 + CE15*Prices!$D$2 + CF15*Prices!$D$4 + CG15) * CI15","v":6.1026438287352009},{"$f":"EXP(CJ15 + CK15*Prices!$D$2 + CL15*Prices!$D$4 + CM15) * CO15","v":5.4973862258866255},{"$f":"EXP(CP15 + CQ15*Prices!$D$2 + CR15*Prices!$D$4 + CS15) * CU15","v":5.7921144779416487},{"$f":"EXP(CV15 + CW15*Prices!$D$2 + CX15*Prices!$D$4 + CY15) * DA15","v":6.3631906857683713},{"$f":"EXP(DB15 + DC15*Prices!$D$2 + DD15*Prices!$D$4 + DE15) * DG15","v":5.8397905939920269},{"$f":"EXP(DH15 + DI15*Prices!$D$2 + DJ15*Prices!$D$4 + DK15) * DM15","v":6.0653011076157224},null,null,null,null,null,null,null,null,null,null,null,null,null,null,null,null,null,null,null,null,null,null,null,null,null,null,null,null,null,null,null,null,null,null,null,null,null,null,null,null,null,null,null,null,null,null,null,null,null,null,null,null,null,null,null,null,null,null,null,null,null,null,null,null,null,null,null,null,null,null,null,null,null,null,null,null,null,null,null,null,null,null,null,null,null,null,null,null,null,null,null,null,null,null,null,null,null,"CRD - Southeast","PPI"]
[null,null,"Liquid fertilizer",{"$f":"EXP(D16 + E16*Prices!$D$2 + F16*Prices!$D$4 + G16) * I16","v":6.2096482300202682},{"$f":"EXP(J16 + K16*Prices!$D$2 + L16*Prices!$D$4 + M16) * O16","v":6.5336418390930353},{"$f":"EXP(P16 + Q16*Prices!$D$2 + R16*Prices!$D$4 + S16) * U16","v":6.2515541836265482},{"$f":"EXP(V16 + W16*Prices!$D$2 + X16*Prices!$D$4 + Y16) * AA16","v":6.6910702877051706},{"$f":"EXP(AB16 + AC16*Prices!$D$2 + AD16*Prices!$D$4 + AE16) * AG16","v":6.1703006530983142},{"$f":"EXP(AH16 + AI16*Prices!$D$2 + AJ16*Prices!$D$4 + AK16) * AM16","v":5.692696300682365},{"$f":"EXP(AN16 + AO16*Prices!$D$2 + AP16*Prices!$D$4 + AQ16) * AS16","v":5.6620060653041913},{"$f":"EXP(AT16 + AU16*Prices!$D$2 + AV16*Prices!$D$4 + AW16) * AY16","v":6.8446766357556941},{"$f":"EXP(AZ16 + BA16*Prices!$D$2 + BB16*Prices!$D$4 + BC16) * BE16","v":6.7104020901987207},{"$f":"EXP(BF16 + BG16*Prices!$D$2 + BH16*Prices!$D$4 + BI16) * BK16","v":5.9834135194008589},{"$f":"EXP(BL16 + BM16*Prices!$D$2 + BN16*Prices!$D$4 + BO16) * BQ16","v":6.3910418535242837},{"$f":"EXP(BR16 + BS16*Prices!$D$2 + BT16*Prices!$D$4 + BU16) * BW16","v":6.4675797985059722},{"$f":"EXP(BX16 + BY16*Prices!$D$2 + BZ16*Prices!$D$4 + CA16) * CC16","v":6.4895259257340481},{"$f":"EXP(CD16 + CE16*Prices!$D$2 + CF16*Prices!$D$4 + CG16) * CI16","v":6.1703006530983142},{"$f":"EXP(CJ16 + CK16*Prices!$D$2 + CL16*Prices!$D$4 + CM16) * CO16","v":5.6620060653041913},{"$f":"EXP(CP16 + CQ16*Prices!$D$2 + CR16*Prices!$D$4 + CS16) * CU16","v":5.9106919833969593},{"$f":"EXP(CV16 + CW16*Prices!$D$2 + CX16*Prices!$D$4 + CY16) * DA16","v":6.7772068290195255},{"$f":"EXP(DB16 + DC16*Prices!$D$2 + DD16*Prices!$D$4 + DE16) * DG16","v":6.3364903998278725},{"$f":"EXP(DH16 + DI16*Prices!$D$2 + DJ16*Prices!$D$4 + DK16) * DM16","v":6.5015488895453855},null,null,null,null,null,null,null,null,null,null,null,null,null,null,null,null,null,null,null,null,null,null,null,null,null,null,null,null,null,null,null,null,null,null,null,null,null,null,null,null,null,null,null,null,null,null,null,null,null,null,null,null,null,null,null,null,null,null,null,null,null,null,null,null,null,null,null,null,null,null,null,null,null,null,null,null,null,null,null,null,null,null,null,null,null,null,null,null,null,null,null,null,null,null,null,null,null,"CRD - Southeast","fuel"]
[null,null,"NH3 application",{"$f":"EXP(D17 + E17*Prices!$D$2 + F17*Prices!$D$4 + G17) * I17","v":14.232343346208621},{"$f":"EXP(J17 + K17*Prices!$D$2 + L17*Prices!$D$4 + M17) * O17","v":12.790851529834923},{"$f":"EXP(P17 + Q17*Prices!$D$2 + R17*Prices!$D$4 + S17) * U17","v":11.478390496804119},{"$f":"EXP(V17 + W17*Prices!$D$2 + X17*Prices!$D$4 + Y17) * AA17","v":13.258780491417934},{"$f":"EXP(AB17 + AC17*Prices!$D$2 + AD17*Prices!$D$4 + AE17) * AG17","v":12.722025327625555},{"$f":"EXP(AH17 + AI17*Prices!$D$2 + AJ17*Prices!$D$4 + AK17) * AM17","v":11.829181926944129},{"$f":"EXP(AN17 + AO17*Prices!$D$2 + AP17*Prices!$D$4 + AQ17) * AS17","v":10.304766864134224},{"$f":"EXP(AT17 + AU17*Prices!$D$2 + AV17*Prices!$D$4 + AW17) * AY17","v":15.98219861605431},{"$f":"EXP(AZ17 + BA17*Prices!$D$2 + BB17*Prices!$D$4 + BC17) * BE17","v":13.894175129118027},{"$f":"EXP(BF17 + BG17*Prices!$D$2 + BH17*Prices!$D$4 + BI17) * BK17","v":12.129096740163755},{"$f":"EXP(BL17 + BM17*Prices!$D$2 + BN17*Prices!$D$4 + BO17) * BQ17","v":12.116863812310903},{"$f":"EXP(BR17 + BS17*Prices!$D$2 + BT17*Prices!$D$4 + BU17) * BW17","v":12.336509230406387},{"$f":"EXP(BX17 + BY17*Prices!$D$2 + BZ17*Prices!$D$4 + CA17) * CC17","v":12.486134571624316},{"$f":"EXP(CD17 + CE17*Prices!$D$2 + CF17*Prices!$D$4 + CG17) * CI17","v":12.722025327625555},{"$f":"EXP(CJ17 + CK17*Prices!$D$2 + CL17*Prices!$D$4 + CM17) * CO17","v":10.304766864134224},{"$f":"EXP(CP17 + CQ17*Prices!$D$2 + CR17*Prices!$D$4 + CS17) * CU17","v":11.449781877432903},{"$f":"EXP(CV17 + CW17*Prices!$D$2 + CX17*Prices!$D$4 + CY17) * DA17","v":14.901659857875181},{"$f":"EXP(DB17 + DC17*Prices!$D$2 + DD17*Prices!$D$4 + DE17) * DG17","v":12.981671474269072},{"$f":"EXP(DH17 + DI17*Prices!$D$2 + DJ17*Prices!$D$4 + DK17) * DM17","v":13.91337799288454},null,null,null,null,null,null,null,null,null,null,null,null,null,null,null,null,null,null,null,null,null,null,null,null,null,null,null,null,null,null,null,null,null,null,null,null,null,null,null,null,null,null,null,null,null,null,null,null,null,null,null,null,null,null,null,null,null,null,null,null,null,null,null,null,null,null,null,null,null,null,null,null,null,null,null,null,null,null,null,null,null,null,null,null,null,null,null,null,null,null,null,null,null,null,null,null,null,"CRD - Southeast","Adjustment factor"]
[null,null,"Ground herbicide",{"$f":"EXP(D18 + E18*Prices!$D$2 + F18*Prices!$D$4 + G18) * I18","v":6.1333346895476861},{"$f":"EXP(J18 + K18*Prices!$D$2 + L18*Prices!$D$4 + M18) * O18","v":5.988264961616915},{"$f":"EXP(P18 + Q18*Prices!$D$2 + R18*Prices!$D$4 + S18) * U18","v":5.8300019824858484},{"$f":"EXP(V18 + W18*Prices!$D$2 + X18*Prices!$D$4 + Y18) * AA18","v":6.1451793695531531},{"$f":"EXP(AB18 + AC18*Prices!$D$2 + AD18*Prices!$D$4 + AE18) * AG18","v":5.9614924061738499},{"$f":"EXP(AH18 + AI18*Prices!$D$2 + AJ18*Prices!$D$4 + AK18) * AM18","v":5.6096010548323436},{"$f":"EXP(AN18 + AO18*Prices!$D$2 + AP18*Prices!$D$4 + AQ18) * AS18","v":5.6664745059671393},{"$f":"EXP(AT18 + AU18*Prices!$D$2 + AV18*Prices!$D$4 + AW18) * AY18","v":6.7860815236711041},{"$f":"EXP(AZ18 + BA18*Prices!$D$2 + BB18*Prices!$D$4 + BC18) * BE18","v":6.6883965872880911},{"$f":"EXP(BF18 + BG18*Prices!$D$2 + BH18*Prices!$D$4 + BI18) * BK18","v":6.0343327879078101},{"$f":"EXP(BL18 + BM18*Prices!$D$2 + BN18*Prices!$D$4 + BO18) * BQ18","v":5.9086036081190247},{"$f":"EXP(BR18 + BS18*Prices!$D$2 + BT18*Prices!$D$4 + BU18) * BW18","v":5.9855165113150974},{"$f":"EXP(BX18 + BY18*Prices!$D$2 + BZ18*Prices!$D$4 + CA18) * CC18","v":5.9864325212244882},{"$f":"EXP(CD18 + CE18*Prices!$D$2 + CF18*Prices!$D$4 + CG18) * CI18","v":5.9614924061738499},{"$f":"EXP(CJ18 + CK18*Prices!$D$2 + CL18*Prices!$D$4 + CM18) * CO18","v":5.6664745059671393},{"$f":"EXP(CP18 + CQ18*Prices!$D$2 + CR18*Prices!$D$4 + CS18) * CU18","v":5.8121118999121846},{"$f":"EXP(CV18 + CW18*Prices!$D$2 + CX18*Prices!$D$4 + CY18) * DA18","v":6.7370620083223658},{"$f":"EXP(DB18 + DC18*Prices!$D$2 + DD18*Prices!$D$4 + DE18) * DG18","v":6.3529529216895062},{"$f":"EXP(DH18 + DI18*Prices!$D$2 + DJ18*Prices!$D$4 + DK18) * DM18","v":6.4941669465605454},null,null,null,null,null,null,null,null,null,null,null,null,null,null,null,null,null,null,null,null,null,null,null,null,null,null,null,null,null,null,null,null,null,null,null,null,null,null,null,null,null,null,null,null,null,null,null,null,null,null,null,null,null,null,null,null,null,null,null,null,null,null,null,null,null,null,null,null,null,null,null,null,null,null,null,null,null,null,null,null,null,null,null,null,null,null,null,null,null,null,null,null,null,null,null,null,null,"CRD - Southeast","RMSE"]
[null,null,"Aerial herbicide",{"$f":"EXP(D19 + E19*Prices!$D$2 + F19*Prices!$D$4 + G19) * I19","v":7.4442277826694889},{"$f":"EXP(J19 + K19*Prices!$D$2 + L19*Prices!$D$4 + M19) * O19","v":6.6113381460743348},{"$f":"EXP(P19 + Q19*Prices!$D$2 + R19*Prices!$D$4 + S19) * U19","v":6.2556987044421781},{"$f":"EXP(V19 + W19*Prices!$D$2 + X19*Prices!$D$4 + Y19) * AA19","v":6.291690184712361},{"$f":"EXP(AB19 + AC19*Prices!$D$2 + AD19*Prices!$D$4 + AE19) * AG19","v":6.5437494494414867},{"$f":"EXP(AH19 + AI19*Prices!$D$2 + AJ19*Prices!$D$4 + AK19) * AM19","v":6.2135252350384444},{"$f":"EXP(AN19 + AO19*Prices!$D$2 + AP19*Prices!$D$4 + AQ19) * AS19","v":6.7406843131701599},{"$f":"EXP(AT19 + AU19*Prices!$D$2 + AV19*Prices!$D$4 + AW19) * AY19","v":7.6531587909260157},{"$f":"EXP(AZ19 + BA19*Prices!$D$2 + BB19*Prices!$D$4 + BC19) * BE19","v":7.8450274703932967},{"$f":"EXP(BF19 + BG19*Prices!$D$2 + BH19*Prices!$D$4 + BI19) * BK19","v":8.0321047133478363},{"$f":"EXP(BL19 + BM19*Prices!$D$2 + BN19*Prices!$D$4 + BO19) * BQ19","v":6.4310605249076884},{"$f":"EXP(BR19 + BS19*Prices!$D$2 + BT19*Prices!$D$4 + BU19) * BW19","v":6.2736686346393107},{"$f":"EXP(BX19 + BY19*Prices!$D$2 + BZ19*Prices!$D$4 + CA19) * CC19","v":6.3842640499611516},{"$f":"EXP(CD19 + CE19*Prices!$D$2 + CF19*Prices!$D$4 + CG19) * CI19","v":6.5437494494414867},{"$f":"EXP(CJ19 + CK19*Prices!$D$2 + CL19*Prices!$D$4 + CM19) * CO19","v":6.7406843131701599},{"$f":"EXP(CP19 + CQ19*Prices!$D$2 + CR19*Prices!$D$4 + CS19) * CU19","v":6.6414869768121712},{"$f":"EXP(CV19 + CW19*Prices!$D$2 + CX19*Prices!$D$4 + CY19) * DA19","v":7.7484992708328448},{"$f":"EXP(DB19 + DC19*Prices!$D$2 + DD19*Prices!$D$4 + DE19) * DG19","v":7.9380149988072723},{"$f":"EXP(DH19 + DI19*Prices!$D$2 + DJ19*Prices!$D$4 + DK19) * DM19","v":7.8419039427704007},null,null,null,null,null,null,null,null,null,null,null,null,null,null,null,null,null,null,null,null,null,null,null,null,null,null,null,null,null,null,null,null,null,null,null,null,null,null,null,null,null,null,null,null,null,null,null,null,null,null,null,null,null,null,null,null,null,null,null,null,null,null,null,null,null,null,null,null,null,null,null,null,null,null,null,null,null,null,null,null,null,null,null,null,null,null,null,null,null,null,null,null,null,null,null,null,null,"CRD - Southeast","LN adjustment"]
[null,null,"Ground insecticide",{"$f":"EXP(D20 + E20*Prices!$D$2 + F20*Prices!$D$4 + G20) * I20","v":6.1697486542207391},{"$f":"EXP(J20 + K20*Prices!$D$2 + L20*Prices!$D$4 + M20) * O20","v":6.1356678494035943},{"$f":"EXP(P20 + Q20*Prices!$D$2 + R20*Prices!$D$4 + S20) * U20","v":5.8807721682670069},{"$f":"EXP(V20 + W20*Prices!$D$2 + X20*Prices!$D$4 + Y20) * AA20","v":6.1468655273372317},{"$f":"EXP(AB20 + AC20*Prices!$D$2 + AD20*Prices!$D$4 + AE20) * AG20","v":6.0493997905393826},{"$f":"EXP(AH20 + AI20*Prices!$D$2 + AJ20*Prices!$D$4 + AK20) * AM20","v":5.6907194990032997},{"$f":"EXP(AN20 + AO20*Prices!$D$2 + AP20*Prices!$D$4 + AQ20) * AS20","v":5.7200663679714436},{"$f":"EXP(AT20 + AU20*Prices!$D$2 + AV20*Prices!$D$4 + AW20) * AY20","v":6.8244915620498423},{"$f":"EXP(AZ20 + BA20*Prices!$D$2 + BB20*Prices!$D$4 + BC20) * BE20","v":6.9671844124118802},{"$f":"EXP(BF20 + BG20*Prices!$D$2 + BH20*Prices!$D$4 + BI20) * BK20","v":6.049109627092232},{"$f":"EXP(BL20 + BM20*Prices!$D$2 + BN20*Prices!$D$4 + BO20) * BQ20","v":6.0068681292752695},{"$f":"EXP(BR20 + BS20*Prices!$D$2 + BT20*Prices!$D$4 + BU20) * BW20","v":6.0123469390284425},{"$f":"EXP(BX20 + BY20*Prices!$D$2 + BZ20*Prices!$D$4 + CA20) * CC20","v":6.0531760164976376},{"$f":"EXP(CD20 + CE20*Prices!$D$2 + CF20*Prices!$D$4 + CG20) * CI20","v":6.0493997905393826},{"$f":"EXP(CJ20 + CK20*Prices!$D$2 + CL20*Prices!$D$4 + CM20) * CO20","v":5.7200663679714436},{"$f":"EXP(CP20 + CQ20*Prices!$D$2 + CR20*Prices!$D$4 + CS20) * CU20","v":5.8824287746030395},{"$f":"EXP(CV20 + CW20*Prices!$D$2 + CX20*Prices!$D$4 + CY20) * DA20","v":6.8954688915077069},{"$f":"EXP(DB20 + DC20*Prices!$D$2 + DD20*Prices!$D$4 + DE20) * DG20","v":6.4919382547008295},{"$f":"EXP(DH20 + DI20*Prices!$D$2 + DJ20*Prices!$D$4 + DK20) * DM20","v":6.6009486466688569},null,null,null,null,null,null,null,null,null,null,null,null,null,null,null,null,null,null,null,null,null,null,null,null,null,null,null,null,null,null,null,null,null,null,null,null,null,null,null,null,null,null,null,null,null,null,null,null,null,null,null,null,null,null,null,null,null,null,null,null,null,null,null,null,null,null,null,null,null,null,null,null,null,null,null,null,null,null,null,null,null,null,null,null,null,null,null,null,null,null,null,null,null,null,null,null,null,"Northwest","Intercept"]
[null,null,"Aerial insecticide",{"$f":"EXP(D21 + E21*Prices!$D$2 + F21*Prices!$D$4 + G21) * I21","v":7.6635892841900102},{"$f":"EXP(J21 + K21*Prices!$D$2 + L21*Prices!$D$4 + M21) * O21","v":7.4721806463629701},{"$f":"EXP(P21 + Q21*Prices!$D$2 + R21*Prices!$D$4 + S21) * U21","v":6.8637291224003025},{"$f":"EXP(V21 + W21*Prices!$D$2 + X21*Prices!$D$4 + Y21) * AA21","v":6.8770276652183906},{"$f":"EXP(AB21 + AC21*Prices!$D$2 + AD21*Prices!$D$4 + AE21) * AG21","v":7.2608692231550824},{"$f":"EXP(AH21 + AI21*Prices!$D$2 + AJ21*Prices!$D$4 + AK21) * AM21","v":7.0715530007458813},{"$f":"EXP(AN21 + AO21*Prices!$D$2 + AP21*Prices!$D$4 + AQ21) * AS21","v":7.4503877014571467},{"$f":"EXP(AT21 + AU21*Prices!$D$2 + AV21*Prices!$D$4 + AW21) * AY21","v":8.5128378541523286},{"$f":"EXP(AZ21 + BA21*Prices!$D$2 + BB21*Prices!$D$4 + BC21) * BE21","v":8.7028596140988661},{"$f":"EXP(BF21 + BG21*Prices!$D$2 + BH21*Prices!$D$4 + BI21) * BK21","v":8.9653995120413832},{"$f":"EXP(BL21 + BM21*Prices!$D$2 + BN21*Prices!$D$4 + BO21) * BQ21","v":7.1614959268491472},{"$f":"EXP(BR21 + BS21*Prices!$D$2 + BT21*Prices!$D$4 + BU21) * BW21","v":6.8703751761684773},{"$f":"EXP(BX21 + BY21*Prices!$D$2 + BZ21*Prices!$D$4 + CA21) * CC21","v":7.0653891974157048},{"$f":"EXP(CD21 + CE21*Prices!$D$2 + CF21*Prices!$D$4 + CG21) * CI21","v":7.2608692231550824},{"$f":"EXP(CJ21 + CK21*Prices!$D$2 + CL21*Prices!$D$4 + CM21) * CO21","v":7.4503877014571467},{"$f":"EXP(CP21 + CQ21*Prices!$D$2 + CR21*Prices!$D$4 + CS21) * CU21","v":7.3550180667408203},{"$f":"EXP(CV21 + CW21*Prices!$D$2 + CX21*Prices!$D$4 + CY21) * DA21","v":8.6073243672046171},{"$f":"EXP(DB21 + DC21*Prices!$D$2 + DD21*Prices!$D$4 + DE21) * DG21","v":8.8331542122622668},{"$f":"EXP(DH21 + DI21*Prices!$D$2 + DJ21*Prices!$D$4 + DK21) * DM21","v":8.7250648215411193},null,null,null,null,null,null,null,null,null,null,null,null,null,null,null,null,null,null,null,null,null,null,null,null,null,null,null,null,null,null,null,null,null,null,null,null,null,null,null,null,null,null,null,null,null,null,null,null,null,null,null,null,null,null,null,null,null,null,null,null,null,null,null,null,null,null,null,null,null,null,null,null,null,null,null,null,null,null,null,null,null,null,null,null,null,null,null,null,null,null,null,null,null,null,null,null,null,"Northwest","PPI"]
[null,"Planting","Wheat, reg-till planting",{"$f":"EXP(D22 + E22*Prices!$D$2 + F22*Prices!$D$4 + G22) * I22","v":15.552567549431867},{"$f":"EXP(J22 + K22*Prices!$D$2 + L22*Prices!$D$4 + M22) * O22","v":14.69937618528585},{"$f":"EXP(P22 + Q22*Prices!$D$2 + R22*Prices!$D$4 + S22) * U22","v":13.785359006037609},{"$f":"EXP(V22 + W22*Prices!$D$2 + X22*Prices!$D$4 + Y22) * AA22","v":14.972503233168581},{"$f":"EXP(AB22 + AC22*Prices!$D$2 + AD22*Prices!$D$4 + AE22) * AG22","v":17.340057412947129},{"$f":"EXP(AH22 + AI22*Prices!$D$2 + AJ22*Prices!$D$4 + AK22) * AM22","v":15.685297874253408},{"$f":"EXP(AN22 + AO22*Prices!$D$2 + AP22*Prices!$D$4 + AQ22) * AS22","v":15.94560640729037},{"$f":"EXP(AT22 + AU22*Prices!$D$2 + AV22*Prices!$D$4 + AW22) * AY22","v":18.433209686455168},{"$f":"EXP(AZ22 + BA22*Prices!$D$2 + BB22*Prices!$D$4 + BC22) * BE22","v":17.747351730239039},{"$f":"EXP(BF22 + BG22*Prices!$D$2 + BH22*Prices!$D$4 + BI22) * BK22","v":15.768626700718928},{"$f":"EXP(BL22 + BM22*Prices!$D$2 + BN22*Prices!$D$4 + BO22) * BQ22","v":14.235033469541438},{"$f":"EXP(BR22 + BS22*Prices!$D$2 + BT22*Prices!$D$4 + BU22) * BW22","v":14.366674364246228},{"$f":"EXP(BX22 + BY22*Prices!$D$2 + BZ22*Prices!$D$4 + CA22) * CC22","v":14.476729743305409},{"$f":"EXP(CD22 + CE22*Prices!$D$2 + CF22*Prices!$D$4 + CG22) * CI22","v":17.340057412947129},{"$f":"EXP(CJ22 + CK22*Prices!$D$2 + CL22*Prices!$D$4 + CM22) * CO22","v":15.94560640729037},{"$f":"EXP(CP22 + CQ22*Prices!$D$2 + CR22*Prices!$D$4 + CS22) * CU22","v":16.628220908644298},{"$f":"EXP(CV22 + CW22*Prices!$D$2 + CX22*Prices!$D$4 + CY22) * DA22","v":18.087030044282258},{"$f":"EXP(DB22 + DC22*Prices!$D$2 + DD22*Prices!$D$4 + DE22) * DG22","v":16.728758601895727},{"$f":"EXP(DH22 + DI22*Prices!$D$2 + DJ22*Prices!$D$4 + DK22) * DM22","v":17.278636331048499},null,null,null,null,null,null,null,null,null,null,null,null,null,null,null,null,null,null,null,null,null,null,null,null,null,null,null,null,null,null,null,null,null,null,null,null,null,null,null,null,null,null,null,null,null,null,null,null,null,null,null,null,null,null,null,null,null,null,null,null,null,null,null,null,null,null,null,null,null,null,null,null,null,null,null,null,null,null,null,null,null,null,null,null,null,null,null,null,null,null,null,null,null,null,null,null,null,"Northwest","fuel"]
[null,null,"Milo, reg-till planting",{"$f":"EXP(D23 + E23*Prices!$D$2 + F23*Prices!$D$4 + G23) * I23","v":17.887698647266856},{"$f":"EXP(J23 + K23*Prices!$D$2 + L23*Prices!$D$4 + M23) * O23","v":17.988450257936396},{"$f":"EXP(P23 + Q23*Prices!$D$2 + R23*Prices!$D$4 + S23) * U23","v":17.264663863448078},{"$f":"EXP(V23 + W23*Prices!$D$2 + X23*Prices!$D$4 + Y23) * AA23","v":17.306739602035353},{"$f":"EXP(AB23 + AC23*Prices!$D$2 + AD23*Prices!$D$4 + AE23) * AG23","v":18.386049544138128},{"$f":"EXP(AH23 + AI23*Prices!$D$2 + AJ23*Prices!$D$4 + AK23) * AM23","v":18.55415205946634},{"$f":"EXP(AN23 + AO23*Prices!$D$2 + AP23*Prices!$D$4 + AQ23) * AS23","v":19.271240603756905},{"$f":"EXP(AT23 + AU23*Prices!$D$2 + AV23*Prices!$D$4 + AW23) * AY23","v":19.382816078335022},{"$f":"EXP(AZ23 + BA23*Prices!$D$2 + BB23*Prices!$D$4 + BC23) * BE23","v":18.211835953767231},{"$f":"EXP(BF23 + BG23*Prices!$D$2 + BH23*Prices!$D$4 + BI23) * BK23","v":16.509102682014305},{"$f":"EXP(BL23 + BM23*Prices!$D$2 + BN23*Prices!$D$4 + BO23) * BQ23","v":17.62284163032826},{"$f":"EXP(BR23 + BS23*Prices!$D$2 + BT23*Prices!$D$4 + BU23) * BW23","v":17.285688930481353},{"$f":"EXP(BX23 + BY23*Prices!$D$2 + BZ23*Prices!$D$4 + CA23) * CC23","v":17.516837940012365},{"$f":"EXP(CD23 + CE23*Prices!$D$2 + CF23*Prices!$D$4 + CG23) * CI23","v":18.386049544138128},{"$f":"EXP(CJ23 + CK23*Prices!$D$2 + CL23*Prices!$D$4 + CM23) * CO23","v":19.271240603756905},{"$f":"EXP(CP23 + CQ23*Prices!$D$2 + CR23*Prices!$D$4 + CS23) * CU23","v":18.82344241943224},{"$f":"EXP(CV23 + CW23*Prices!$D$2 + CX23*Prices!$D$4 + CY23) * DA23","v":18.788205522100274},{"$f":"EXP(DB23 + DC23*Prices!$D$2 + DD23*Prices!$D$4 + DE23) * DG23","v":17.339581015374627},{"$f":"EXP(DH23 + DI23*Prices!$D$2 + DJ23*Prices!$D$4 + DK23) * DM23","v":17.995532036763738},null,null,null,null,null,null,null,null,null,null,null,null,null,null,null,null,null,null,null,null,null,null,null,null,null,null,null,null,null,null,null,null,null,null,null,null,null,null,null,null,null,null,null,null,null,null,null,null,null,null,null,null,null,null,null,null,null,null,null,null,null,null,null,null,null,null,null,null,null,null,null,null,null,null,null,null,null,null,null,null,null,null,null,null,null,null,null,null,null,null,null,null,null,null,null,null,null,"Northwest","Adjustment factor"]
[null,null,"Corn, reg-till planting",{"$f":"EXP(D24 + E24*Prices!$D$2 + F24*Prices!$D$4 + G24) * I24","v":17.963446556352796},{"$f":"EXP(J24 + K24*Prices!$D$2 + L24*Prices!$D$4 + M24) * O24","v":17.475180000969889},{"$f":"EXP(P24 + Q24*Prices!$D$2 + R24*Prices!$D$4 + S24) * U24","v":17.301689379388634},{"$f":"EXP(V24 + W24*Prices!$D$2 + X24*Prices!$D$4 + Y24) * AA24","v":17.882776034516827},{"$f":"EXP(AB24 + AC24*Prices!$D$2 + AD24*Prices!$D$4 + AE24) * AG24","v":18.22473957297904},{"$f":"EXP(AH24 + AI24*Prices!$D$2 + AJ24*Prices!$D$4 + AK24) * AM24","v":19.214743670210098},{"$f":"EXP(AN24 + AO24*Prices!$D$2 + AP24*Prices!$D$4 + AQ24) * AS24","v":19.177782125665519},{"$f":"EXP(AT24 + AU24*Prices!$D$2 + AV24*Prices!$D$4 + AW24) * AY24","v":19.135286841946371},{"$f":"EXP(AZ24 + BA24*Prices!$D$2 + BB24*Prices!$D$4 + BC24) * BE24","v":17.221584875025027},{"$f":"EXP(BF24 + BG24*Prices!$D$2 + BH24*Prices!$D$4 + BI24) * BK24","v":16.427366498024263},{"$f":"EXP(BL24 + BM24*Prices!$D$2 + BN24*Prices!$D$4 + BO24) * BQ24","v":17.388218316598319},{"$f":"EXP(BR24 + BS24*Prices!$D$2 + BT24*Prices!$D$4 + BU24) * BW24","v":17.589833319005194},{"$f":"EXP(BX24 + BY24*Prices!$D$2 + BZ24*Prices!$D$4 + CA24) * CC24","v":17.551532207824764},{"$f":"EXP(CD24 + CE24*Prices!$D$2 + CF24*Prices!$D$4 + CG24) * CI24","v":18.22473957297904},{"$f":"EXP(CJ24 + CK24*Prices!$D$2 + CL24*Prices!$D$4 + CM24) * CO24","v":19.177782125665519},{"$f":"EXP(CP24 + CQ24*Prices!$D$2 + CR24*Prices!$D$4 + CS24) * CU24","v":18.695188814975541},{"$f":"EXP(CV24 + CW24*Prices!$D$2 + CX24*Prices!$D$4 + CY24) * DA24","v":18.153235702114717},{"$f":"EXP(DB24 + DC24*Prices!$D$2 + DD24*Prices!$D$4 + DE24) * DG24","v":16.819788536687089},{"$f":"EXP(DH24 + DI24*Prices!$D$2 + DJ24*Prices!$D$4 + DK24) * DM24","v":17.558686029910106},null,null,null,null,null,null,null,null,null,null,null,null,null,null,null,null,null,null,null,null,null,null,null,null,null,null,null,null,null,null,null,null,null,null,null,null,null,null,null,null,null,null,null,null,null,null,null,null,null,null,null,null,null,null,null,null,null,null,null,null,null,null,null,null,null,null,null,null,null,null,null,null,null,null,null,null,null,null,null,null,null,null,null,null,null,null,null,null,null,null,null,null,null,null,null,null,null,"Northwest","RMSE"]
[null,null,"Soybeans, reg-till planting",{"$f":"EXP(D25 + E25*Prices!$D$2 + F25*Prices!$D$4 + G25) * I25","v":18.022722765685078},{"$f":"EXP(J25 + K25*Prices!$D$2 + L25*Prices!$D$4 + M25) * O25","v":17.720009817677781},{"$f":"EXP(P25 + Q25*Prices!$D$2 + R25*Prices!$D$4 + S25) * U25","v":17.212770816916159},{"$f":"EXP(V25 + W25*Prices!$D$2 + X25*Prices!$D$4 + Y25) * AA25","v":17.409936782550005},{"$f":"EXP(AB25 + AC25*Prices!$D$2 + AD25*Prices!$D$4 + AE25) * AG25","v":18.047269140216169},{"$f":"EXP(AH25 + AI25*Prices!$D$2 + AJ25*Prices!$D$4 + AK25) * AM25","v":18.183949591896717},{"$f":"EXP(AN25 + AO25*Prices!$D$2 + AP25*Prices!$D$4 + AQ25) * AS25","v":18.509711132854886},{"$f":"EXP(AT25 + AU25*Prices!$D$2 + AV25*Prices!$D$4 + AW25) * AY25","v":18.938908712009077},{"$f":"EXP(AZ25 + BA25*Prices!$D$2 + BB25*Prices!$D$4 + BC25) * BE25","v":17.314565512075475},{"$f":"EXP(BF25 + BG25*Prices!$D$2 + BH25*Prices!$D$4 + BI25) * BK25","v":16.005054721371742},{"$f":"EXP(BL25 + BM25*Prices!$D$2 + BN25*Prices!$D$4 + BO25) * BQ25","v":17.464548888110219},{"$f":"EXP(BR25 + BS25*Prices!$D$2 + BT25*Prices!$D$4 + BU25) * BW25","v":17.311073097154665},{"$f":"EXP(BX25 + BY25*Prices!$D$2 + BZ25*Prices!$D$4 + CA25) * CC25","v":17.44632584505797},{"$f":"EXP(CD25 + CE25*Prices!$D$2 + CF25*Prices!$D$4 + CG25) * CI25","v":18.047269140216169},{"$f":"EXP(CJ25 + CK25*Prices!$D$2 + CL25*Prices!$D$4 + CM25) * CO25","v":18.509711132854886},{"$f":"EXP(CP25 + CQ25*Prices!$D$2 + CR25*Prices!$D$4 + CS25) * CU25","v":18.277027617265638},{"$f":"EXP(CV25 + CW25*Prices!$D$2 + CX25*Prices!$D$4 + CY25) * DA25","v":18.108533226666875},{"$f":"EXP(DB25 + DC25*Prices!$D$2 + DD25*Prices!$D$4 + DE25) * DG25","v":16.646938712494464},{"$f":"EXP(DH25 + DI25*Prices!$D$2 + DJ25*Prices!$D$4 + DK25) * DM25","v":17.378324563281009},null,null,null,null,null,null,null,null,null,null,null,null,null,null,null,null,null,null,null,null,null,null,null,null,null,null,null,null,null,null,null,null,null,null,null,null,null,null,null,null,null,null,null,null,null,null,null,null,null,null,null,null,null,null,null,null,null,null,null,null,null,null,null,null,null,null,null,null,null,null,null,null,null,null,null,null,null,null,null,null,null,null,null,null,null,null,null,null,null,null,null,null,null,null,null,null,null,"Northwest","LN adjustment"]
[null,null,"Grass seeding, reg-till",{"$f":"EXP(D26 + E26*Prices!$D$2 + F26*Prices!$D$4 + G26) * I26","v":18.192977550340508},{"$f":"EXP(J26 + K26*Prices!$D$2 + L26*Prices!$D$4 + M26) * O26","v":17.853930078104597},{"$f":"EXP(P26 + Q26*Prices!$D$2 + R26*Prices!$D$4 + S26) * U26","v":17.012519055110747},{"$f":"EXP(V26 + W26*Prices!$D$2 + X26*Prices!$D$4 + Y26) * AA26","v":17.995119211752296},{"$f":"EXP(AB26 + AC26*Prices!$D$2 + AD26*Prices!$D$4 + AE26) * AG26","v":18.482724990930983},{"$f":"EXP(AH26 + AI26*Prices!$D$2 + AJ26*Prices!$D$4 + AK26) * AM26","v":18.928833369972729},{"$f":"EXP(AN26 + AO26*Prices!$D$2 + AP26*Prices!$D$4 + AQ26) * AS26","v":17.410441218590623},{"$f":"EXP(AT26 + AU26*Prices!$D$2 + AV26*Prices!$D$4 + AW26) * AY26","v":20.500503274013948},{"$f":"EXP(AZ26 + BA26*Prices!$D$2 + BB26*Prices!$D$4 + BC26) * BE26","v":21.633381795118265},{"$f":"EXP(BF26 + BG26*Prices!$D$2 + BH26*Prices!$D$4 + BI26) * BK26","v":19.432923856640119},{"$f":"EXP(BL26 + BM26*Prices!$D$2 + BN26*Prices!$D$4 + BO26) * BQ26","v":17.428147510919494},{"$f":"EXP(BR26 + BS26*Prices!$D$2 + BT26*Prices!$D$4 + BU26) * BW26","v":17.496922829141198},{"$f":"EXP(BX26 + BY26*Prices!$D$2 + BZ26*Prices!$D$4 + CA26) * CC26","v":17.615124922036621},{"$f":"EXP(CD26 + CE26*Prices!$D$2 + CF26*Prices!$D$4 + CG26) * CI26","v":18.482724990930983},{"$f":"EXP(CJ26 + CK26*Prices!$D$2 + CL26*Prices!$D$4 + CM26) * CO26","v":17.410441218590623},{"$f":"EXP(CP26 + CQ26*Prices!$D$2 + CR26*Prices!$D$4 + CS26) * CU26","v":17.938572881195885},{"$f":"EXP(CV26 + CW26*Prices!$D$2 + CX26*Prices!$D$4 + CY26) * DA26","v":21.059326065161997},{"$f":"EXP(DB26 + DC26*Prices!$D$2 + DD26*Prices!$D$4 + DE26) * DG26","v":20.503654825083302},{"$f":"EXP(DH26 + DI26*Prices!$D$2 + DJ26*Prices!$D$4 + DK26) * DM26","v":20.502604254231588},null,null,null,null,null,null,null,null,null,null,null,null,null,null,null,null,null,null,null,null,null,null,null,null,null,null,null,null,null,null,null,null,null,null,null,null,null,null,null,null,null,null,null,null,null,null,null,null,null,null,null,null,null,null,null,null,null,null,null,null,null,null,null,null,null,null,null,null,null,null,null,null,null,null,null,null,null,null,null,null,null,null,null,null,null,null,null,null,null,null,null,null,null,null,null,null,null,"Southwest","Intercept"]
[null,null,"Alfalfa seeding, reg-till",{"$f":"EXP(D27 + E27*Prices!$D$2 + F27*Prices!$D$4 + G27) * I27","v":18.356381655144279},{"$f":"EXP(J27 + K27*Prices!$D$2 + L27*Prices!$D$4 + M27) * O27","v":19.462094256689852},{"$f":"EXP(P27 + Q27*Prices!$D$2 + R27*Prices!$D$4 + S27) * U27","v":18.701925980497137},{"$f":"EXP(V27 + W27*Prices!$D$2 + X27*Prices!$D$4 + Y27) * AA27","v":18.324949609725547},{"$f":"EXP(AB27 + AC27*Prices!$D$2 + AD27*Prices!$D$4 + AE27) * AG27","v":19.459773349636745},{"$f":"EXP(AH27 + AI27*Prices!$D$2 + AJ27*Prices!$D$4 + AK27) * AM27","v":18.431586219025963},{"$f":"EXP(AN27 + AO27*Prices!$D$2 + AP27*Prices!$D$4 + AQ27) * AS27","v":17.525907202304058},{"$f":"EXP(AT27 + AU27*Prices!$D$2 + AV27*Prices!$D$4 + AW27) * AY27","v":20.347402824625398},{"$f":"EXP(AZ27 + BA27*Prices!$D$2 + BB27*Prices!$D$4 + BC27) * BE27","v":21.987604206360501},{"$f":"EXP(BF27 + BG27*Prices!$D$2 + BH27*Prices!$D$4 + BI27) * BK27","v":18.694652048502672},{"$f":"EXP(BL27 + BM27*Prices!$D$2 + BN27*Prices!$D$4 + BO27) * BQ27","v":19.078224398881368},{"$f":"EXP(BR27 + BS27*Prices!$D$2 + BT27*Prices!$D$4 + BU27) * BW27","v":18.512478256501133},{"$f":"EXP(BX27 + BY27*Prices!$D$2 + BZ27*Prices!$D$4 + CA27) * CC27","v":18.823753691781864},{"$f":"EXP(CD27 + CE27*Prices!$D$2 + CF27*Prices!$D$4 + CG27) * CI27","v":19.459773349636745},{"$f":"EXP(CJ27 + CK27*Prices!$D$2 + CL27*Prices!$D$4 + CM27) * CO27","v":17.525907202304058},{"$f":"EXP(CP27 + CQ27*Prices!$D$2 + CR27*Prices!$D$4 + CS27) * CU27","v":18.46754401385315},{"$f":"EXP(CV27 + CW27*Prices!$D$2 + CX27*Prices!$D$4 + CY27) * DA27","v":21.151610811832867},{"$f":"EXP(DB27 + DC27*Prices!$D$2 + DD27*Prices!$D$4 + DE27) * DG27","v":20.27438309833617},{"$f":"EXP(DH27 + DI27*Prices!$D$2 + DJ27*Prices!$D$4 + DK27) * DM27","v":20.29869384475127},null,null,null,null,null,null,null,null,null,null,null,null,null,null,null,null,null,null,null,null,null,null,null,null,null,null,null,null,null,null,null,null,null,null,null,null,null,null,null,null,null,null,null,null,null,null,null,null,null,null,null,null,null,null,null,null,null,null,null,null,null,null,null,null,null,null,null,null,null,null,null,null,null,null,null,null,null,null,null,null,null,null,null,null,null,null,null,null,null,null,null,null,null,null,null,null,null,"Southwest","PPI"]
[null,null,"Sunflowers, reg-till planting",{"$f":"EXP(D28 + E28*Prices!$D$2 + F28*Prices!$D$4 + G28) * I28","v":17.957871384259501},{"$f":"EXP(J28 + K28*Prices!$D$2 + L28*Prices!$D$4 + M28) * O28","v":17.726641582883058},{"$f":"EXP(P28 + Q28*Prices!$D$2 + R28*Prices!$D$4 + S28) * U28","v":17.259669818138253},{"$f":"EXP(V28 + W28*Prices!$D$2 + X28*Prices!$D$4 + Y28) * AA28","v":17.531367976186139},{"$f":"EXP(AB28 + AC28*Prices!$D$2 + AD28*Prices!$D$4 + AE28) * AG28","v":18.21882758663552},{"$f":"EXP(AH28 + AI28*Prices!$D$2 + AJ28*Prices!$D$4 + AK28) * AM28","v":18.646098913030787},{"$f":"EXP(AN28 + AO28*Prices!$D$2 + AP28*Prices!$D$4 + AQ28) * AS28","v":18.983191997781219},{"$f":"EXP(AT28 + AU28*Prices!$D$2 + AV28*Prices!$D$4 + AW28) * AY28","v":19.151477119440202},{"$f":"EXP(AZ28 + BA28*Prices!$D$2 + BB28*Prices!$D$4 + BC28) * BE28","v":17.577056815619425},{"$f":"EXP(BF28 + BG28*Prices!$D$2 + BH28*Prices!$D$4 + BI28) * BK28","v":16.312337613398959},{"$f":"EXP(BL28 + BM28*Prices!$D$2 + BN28*Prices!$D$4 + BO28) * BQ28","v":17.491597431482386},{"$f":"EXP(BR28 + BS28*Prices!$D$2 + BT28*Prices!$D$4 + BU28) * BW28","v":17.394988437169438},{"$f":"EXP(BX28 + BY28*Prices!$D$2 + BZ28*Prices!$D$4 + CA28) * CC28","v":17.504844245049334},{"$f":"EXP(CD28 + CE28*Prices!$D$2 + CF28*Prices!$D$4 + CG28) * CI28","v":18.431225169799657},{"$f":"EXP(CJ28 + CK28*Prices!$D$2 + CL28*Prices!$D$4 + CM28) * CO28","v":18.813890498131418},{"$f":"EXP(CP28 + CQ28*Prices!$D$2 + CR28*Prices!$D$4 + CS28) * CU28","v":18.61340741080879},{"$f":"EXP(CV28 + CW28*Prices!$D$2 + CX28*Prices!$D$4 + CY28) * DA28","v":18.34738677390968},{"$f":"EXP(DB28 + DC28*Prices!$D$2 + DD28*Prices!$D$4 + DE28) * DG28","v":16.932893581023787},{"$f":"EXP(DH28 + DI28*Prices!$D$2 + DJ28*Prices!$D$4 + DK28) * DM28","v":17.642286803772112},null,null,null,null,null,null,null,null,null,null,null,null,null,null,null,null,null,null,null,null,null,null,null,null,null,null,null,null,null,null,null,null,null,null,null,null,null,null,null,null,null,null,null,null,null,null,null,null,null,null,null,null,null,null,null,null,null,null,null,null,null,null,null,null,null,null,null,null,null,null,null,null,null,null,null,null,null,null,null,null,null,null,null,null,null,null,null,null,null,null,null,null,null,null,null,null,null,"Southwest","fuel"]
[null,null,"Wheat, min-till planting",{"$f":"EXP(D29 + E29*Prices!$D$2 + F29*Prices!$D$4 + G29) * I29","v":19.378562124955707},{"$f":"EXP(J29 + K29*Prices!$D$2 + L29*Prices!$D$4 + M29) * O29","v":19.584086417116811},{"$f":"EXP(P29 + Q29*Prices!$D$2 + R29*Prices!$D$4 + S29) * U29","v":18.802855020482816},{"$f":"EXP(V29 + W29*Prices!$D$2 + X29*Prices!$D$4 + Y29) * AA29","v":19.208169005209708},{"$f":"EXP(AB29 + AC29*Prices!$D$2 + AD29*Prices!$D$4 + AE29) * AG29","v":21.890918998341665},{"$f":"EXP(AH29 + AI29*Prices!$D$2 + AJ29*Prices!$D$4 + AK29) * AM29","v":22.218859690210625},{"$f":"EXP(AN29 + AO29*Prices!$D$2 + AP29*Prices!$D$4 + AQ29) * AS29","v":20.325683911067504},{"$f":"EXP(AT29 + AU29*Prices!$D$2 + AV29*Prices!$D$4 + AW29) * AY29","v":24.410988180298119},{"$f":"EXP(AZ29 + BA29*Prices!$D$2 + BB29*Prices!$D$4 + BC29) * BE29","v":23.412304665650929},{"$f":"EXP(BF29 + BG29*Prices!$D$2 + BH29*Prices!$D$4 + BI29) * BK29","v":22.315074612151328},{"$f":"EXP(BL29 + BM29*Prices!$D$2 + BN29*Prices!$D$4 + BO29) * BQ29","v":19.18949550169722},{"$f":"EXP(BR29 + BS29*Prices!$D$2 + BT29*Prices!$D$4 + BU29) * BW29","v":19.004431509884469},{"$f":"EXP(BX29 + BY29*Prices!$D$2 + BZ29*Prices!$D$4 + CA29) * CC29","v":19.195717984915966},{"$f":"EXP(CD29 + CE29*Prices!$D$2 + CF29*Prices!$D$4 + CG29) * CI29","v":21.890918998341665},{"$f":"EXP(CJ29 + CK29*Prices!$D$2 + CL29*Prices!$D$4 + CM29) * CO29","v":20.325683911067504},{"$f":"EXP(CP29 + CQ29*Prices!$D$2 + CR29*Prices!$D$4 + CS29) * CU29","v":21.093788187119909},{"$f":"EXP(CV29 + CW29*Prices!$D$2 + CX29*Prices!$D$4 + CY29) * DA29","v":23.90643203129115},{"$f":"EXP(DB29 + DC29*Prices!$D$2 + DD29*Prices!$D$4 + DE29) * DG29","v":22.857106672901832},{"$f":"EXP(DH29 + DI29*Prices!$D$2 + DJ29*Prices!$D$4 + DK29) * DM29","v":23.363753930760279},null,null,null,null,null,null,null,null,null,null,null,null,null,null,null,null,null,null,null,null,null,null,null,null,null,null,null,null,null,null,null,null,null,null,null,null,null,null,null,null,null,null,null,null,null,null,null,null,null,null,null,null,null,null,null,null,null,null,null,null,null,null,null,null,null,null,null,null,null,null,null,null,null,null,null,null,null,null,null,null,null,null,null,null,null,null,null,null,null,null,null,null,null,null,null,null,null,"Southwest","Adjustment factor"]
[null,null,"Milo, minimum till",{"$f":"EXP(D30 + E30*Prices!$D$2 + F30*Prices!$D$4 + G30) * I30","v":20.265267983950945},{"$f":"EXP(J30 + K30*Prices!$D$2 + L30*Prices!$D$4 + M30) * O30","v":19.239536371194401},{"$f":"EXP(P30 + Q30*Prices!$D$2 + R30*Prices!$D$4 + S30) * U30","v":18.470161909201249},{"$f":"EXP(V30 + W30*Prices!$D$2 + X30*Prices!$D$4 + Y30) * AA30","v":18.581078489775216},{"$f":"EXP(AB30 + AC30*Prices!$D$2 + AD30*Prices!$D$4 + AE30) * AG30","v":20.341469188457094},{"$f":"EXP(AH30 + AI30*Prices!$D$2 + AJ30*Prices!$D$4 + AK30) * AM30","v":21.220985400864205},{"$f":"EXP(AN30 + AO30*Prices!$D$2 + AP30*Prices!$D$4 + AQ30) * AS30","v":21.217555142414124},{"$f":"EXP(AT30 + AU30*Prices!$D$2 + AV30*Prices!$D$4 + AW30) * AY30","v":23.428381199686889},{"$f":"EXP(AZ30 + BA30*Prices!$D$2 + BB30*Prices!$D$4 + BC30) * BE30","v":22.125838837780506},{"$f":"EXP(BF30 + BG30*Prices!$D$2 + BH30*Prices!$D$4 + BI30) * BK30","v":21.409142910583661},{"$f":"EXP(BL30 + BM30*Prices!$D$2 + BN30*Prices!$D$4 + BO30) * BQ30","v":18.850924429160585},{"$f":"EXP(BR30 + BS30*Prices!$D$2 + BT30*Prices!$D$4 + BU30) * BW30","v":18.525537189342845},{"$f":"EXP(BX30 + BY30*Prices!$D$2 + BZ30*Prices!$D$4 + CA30) * CC30","v":18.760543139600188},{"$f":"EXP(CD30 + CE30*Prices!$D$2 + CF30*Prices!$D$4 + CG30) * CI30","v":20.341469188457094},{"$f":"EXP(CJ30 + CK30*Prices!$D$2 + CL30*Prices!$D$4 + CM30) * CO30","v":21.217555142414124},{"$f":"EXP(CP30 + CQ30*Prices!$D$2 + CR30*Prices!$D$4 + CS30) * CU30","v":20.774894564926271},{"$f":"EXP(CV30 + CW30*Prices!$D$2 + CX30*Prices!$D$4 + CY30) * DA30","v":22.767797141013968},{"$f":"EXP(DB30 + DC30*Prices!$D$2 + DD30*Prices!$D$4 + DE30) * DG30","v":21.764541017319551},{"$f":"EXP(DH30 + DI30*Prices!$D$2 + DJ30*Prices!$D$4 + DK30) * DM30","v":22.305592776757877},null,null,null,null,null,null,null,null,null,null,null,null,null,null,null,null,null,null,null,null,null,null,null,null,null,null,null,null,null,null,null,null,null,null,null,null,null,null,null,null,null,null,null,null,null,null,null,null,null,null,null,null,null,null,null,null,null,null,null,null,null,null,null,null,null,null,null,null,null,null,null,null,null,null,null,null,null,null,null,null,null,null,null,null,null,null,null,null,null,null,null,null,null,null,null,null,null,"Southwest","RMSE"]
[null,null,"Corn, minimum till",{"$f":"EXP(D31 + E31*Prices!$D$2 + F31*Prices!$D$4 + G31) * I31","v":20.178463032652232},{"$f":"EXP(J31 + K31*Prices!$D$2 + L31*Prices!$D$4 + M31) * O31","v":19.682471640751974},{"$f":"EXP(P31 + Q31*Prices!$D$2 + R31*Prices!$D$4 + S31) * U31","v":18.993708603526038},{"$f":"EXP(V31 + W31*Prices!$D$2 + X31*Prices!$D$4 + Y31) * AA31","v":20.119832601415556},{"$f":"EXP(AB31 + AC31*Prices!$D$2 + AD31*Prices!$D$4 + AE31) * AG31","v":20.589478515950663},{"$f":"EXP(AH31 + AI31*Prices!$D$2 + AJ31*Prices!$D$4 + AK31) * AM31","v":21.72914488731324},{"$f":"EXP(AN31 + AO31*Prices!$D$2 + AP31*Prices!$D$4 + AQ31) * AS31","v":21.502393275423408},{"$f":"EXP(AT31 + AU31*Prices!$D$2 + AV31*Prices!$D$4 + AW31) * AY31","v":22.875684794635291},{"$f":"EXP(AZ31 + BA31*Prices!$D$2 + BB31*Prices!$D$4 + BC31) * BE31","v":21.745484957918642},{"$f":"EXP(BF31 + BG31*Prices!$D$2 + BH31*Prices!$D$4 + BI31) * BK31","v":20.622608050902762},{"$f":"EXP(BL31 + BM31*Prices!$D$2 + BN31*Prices!$D$4 + BO31) * BQ31","v":19.335023427490633},{"$f":"EXP(BR31 + BS31*Prices!$D$2 + BT31*Prices!$D$4 + BU31) * BW31","v":19.548663319598454},{"$f":"EXP(BX31 + BY31*Prices!$D$2 + BZ31*Prices!$D$4 + CA31) * CC31","v":19.59316471162111},{"$f":"EXP(CD31 + CE31*Prices!$D$2 + CF31*Prices!$D$4 + CG31) * CI31","v":20.589478515950663},{"$f":"EXP(CJ31 + CK31*Prices!$D$2 + CL31*Prices!$D$4 + CM31) * CO31","v":21.502393275423408},{"$f":"EXP(CP31 + CQ31*Prices!$D$2 + CR31*Prices!$D$4 + CS31) * CU31","v":21.040985347313285},{"$f":"EXP(CV31 + CW31*Prices!$D$2 + CX31*Prices!$D$4 + CY31) * DA31","v":22.303427082038969},{"$f":"EXP(DB31 + DC31*Prices!$D$2 + DD31*Prices!$D$4 + DE31) * DG31","v":21.176605326726886},{"$f":"EXP(DH31 + DI31*Prices!$D$2 + DJ31*Prices!$D$4 + DK31) * DM31","v":21.728459139302451},null,null,null,null,null,null,null,null,null,null,null,null,null,null,null,null,null,null,null,null,null,null,null,null,null,null,null,null,null,null,null,null,null,null,null,null,null,null,null,null,null,null,null,null,null,null,null,null,null,null,null,null,null,null,null,null,null,null,null,null,null,null,null,null,null,null,null,null,null,null,null,null,null,null,null,null,null,null,null,null,null,null,null,null,null,null,null,null,null,null,null,null,null,null,null,null,null,"Southwest","LN adjustment"]
[null,null,"Soybeans, minimum till",{"$f":"EXP(D32 + E32*Prices!$D$2 + F32*Prices!$D$4 + G32) * I32","v":20.468583050800579},{"$f":"EXP(J32 + K32*Prices!$D$2 + L32*Prices!$D$4 + M32) * O32","v":20.557095459763513},{"$f":"EXP(P32 + Q32*Prices!$D$2 + R32*Prices!$D$4 + S32) * U32","v":19.862611364815567},{"$f":"EXP(V32 + W32*Prices!$D$2 + X32*Prices!$D$4 + Y32) * AA32","v":21.049112419229072},{"$f":"EXP(AB32 + AC32*Prices!$D$2 + AD32*Prices!$D$4 + AE32) * AG32","v":21.078530640560945},{"$f":"EXP(AH32 + AI32*Prices!$D$2 + AJ32*Prices!$D$4 + AK32) * AM32","v":22.459304210183529},{"$f":"EXP(AN32 + AO32*Prices!$D$2 + AP32*Prices!$D$4 + AQ32) * AS32","v":21.803674818483202},{"$f":"EXP(AT32 + AU32*Prices!$D$2 + AV32*Prices!$D$4 + AW32) * AY32","v":24.043245109536226},{"$f":"EXP(AZ32 + BA32*Prices!$D$2 + BB32*Prices!$D$4 + BC32) * BE32","v":21.993927182738684},{"$f":"EXP(BF32 + BG32*Prices!$D$2 + BH32*Prices!$D$4 + BI32) * BK32","v":21.90888541859308},{"$f":"EXP(BL32 + BM32*Prices!$D$2 + BN32*Prices!$D$4 + BO32) * BQ32","v":20.206870067051387},{"$f":"EXP(BR32 + BS32*Prices!$D$2 + BT32*Prices!$D$4 + BU32) * BW32","v":20.44725750699736},{"$f":"EXP(BX32 + BY32*Prices!$D$2 + BZ32*Prices!$D$4 + CA32) * CC32","v":20.483804794628337},{"$f":"EXP(CD32 + CE32*Prices!$D$2 + CF32*Prices!$D$4 + CG32) * CI32","v":21.078530640560945},{"$f":"EXP(CJ32 + CK32*Prices!$D$2 + CL32*Prices!$D$4 + CM32) * CO32","v":21.803674818483202},{"$f":"EXP(CP32 + CQ32*Prices!$D$2 + CR32*Prices!$D$4 + CS32) * CU32","v":21.438036937607649},{"$f":"EXP(CV32 + CW32*Prices!$D$2 + CX32*Prices!$D$4 + CY32) * DA32","v":22.995768788537671},{"$f":"EXP(DB32 + DC32*Prices!$D$2 + DD32*Prices!$D$4 + DE32) * DG32","v":21.951365118176518},{"$f":"EXP(DH32 + DI32*Prices!$D$2 + DJ32*Prices!$D$4 + DK32) * DM32","v":22.62761167329095},null,null,null,null,null,null,null,null,null,null,null,null,null,null,null,null,null,null,null,null,null,null,null,null,null,null,null,null,null,null,null,null,null,null,null,null,null,null,null,null,null,null,null,null,null,null,null,null,null,null,null,null,null,null,null,null,null,null,null,null,null,null,null,null,null,null,null,null,null,null,null,null,null,null,null,null,null,null,null,null,null,null,null,null,null,null,null,null,null,null,null,null,null,null,null,null,null,"West","Intercept"]
[null,null,"Sunflowers, minimum till",{"$f":"EXP(D33 + E33*Prices!$D$2 + F33*Prices!$D$4 + G33) * I33","v":20.303742276717021},{"$f":"EXP(J33 + K33*Prices!$D$2 + L33*Prices!$D$4 + M33) * O33","v":19.818865111851196},{"$f":"EXP(P33 + Q33*Prices!$D$2 + R33*Prices!$D$4 + S33) * U33","v":19.100250289418717},{"$f":"EXP(V33 + W33*Prices!$D$2 + X33*Prices!$D$4 + Y33) * AA33","v":19.890382808019901},{"$f":"EXP(AB33 + AC33*Prices!$D$2 + AD33*Prices!$D$4 + AE33) * AG33","v":20.667571622082363},{"$f":"EXP(AH33 + AI33*Prices!$D$2 + AJ33*Prices!$D$4 + AK33) * AM33","v":21.797245322119412},{"$f":"EXP(AN33 + AO33*Prices!$D$2 + AP33*Prices!$D$4 + AQ33) * AS33","v":21.506549151860362},{"$f":"EXP(AT33 + AU33*Prices!$D$2 + AV33*Prices!$D$4 + AW33) * AY33","v":23.444264287534065},{"$f":"EXP(AZ33 + BA33*Prices!$D$2 + BB33*Prices!$D$4 + BC33) * BE33","v":21.95452239580225},{"$f":"EXP(BF33 + BG33*Prices!$D$2 + BH33*Prices!$D$4 + BI33) * BK33","v":21.306944259901613},{"$f":"EXP(BL33 + BM33*Prices!$D$2 + BN33*Prices!$D$4 + BO33) * BQ33","v":19.456240235168419},{"$f":"EXP(BR33 + BS33*Prices!$D$2 + BT33*Prices!$D$4 + BU33) * BW33","v":19.491313192946524},{"$f":"EXP(BX33 + BY33*Prices!$D$2 + BZ33*Prices!$D$4 + CA33) * CC33","v":19.599891199844318},{"$f":"EXP(CD33 + CE33*Prices!$D$2 + CF33*Prices!$D$4 + CG33) * CI33","v":21.224894083575602},{"$f":"EXP(CJ33 + CK33*Prices!$D$2 + CL33*Prices!$D$4 + CM33) * CO33","v":21.651409374341423},{"$f":"EXP(CP33 + CQ33*Prices!$D$2 + CR33*Prices!$D$4 + CS33) * CU33","v":21.318366855282484},{"$f":"EXP(CV33 + CW33*Prices!$D$2 + CX33*Prices!$D$4 + CY33) * DA33","v":22.687168738160647},{"$f":"EXP(DB33 + DC33*Prices!$D$2 + DD33*Prices!$D$4 + DE33) * DG33","v":21.628309803128758},{"$f":"EXP(DH33 + DI33*Prices!$D$2 + DJ33*Prices!$D$4 + DK33) * DM33","v":22.217435295131182},null,null,null,null,null,null,null,null,null,null,null,null,null,null,null,null,null,null,null,null,null,null,null,null,null,null,null,null,null,null,null,null,null,null,null,null,null,null,null,null,null,null,null,null,null,null,null,null,null,null,null,null,null,null,null,null,null,null,null,null,null,null,null,null,null,null,null,null,null,null,null,null,null,null,null,null,null,null,null,null,null,null,null,null,null,null,null,null,null,null,null,null,null,null,null,null,null,"West","PPI"]
[null,"Harvesting","Wheat (base)",{"$f":"EXP(D34 + E34*Prices!$D$2 + F34*Prices!$D$4 + G34) * I34","v":21.843999851416591},{"$f":"EXP(J34 + K34*Prices!$D$2 + L34*Prices!$D$4 + M34) * O34","v":20.959411481018986},{"$f":"EXP(P34 + Q34*Prices!$D$2 + R34*Prices!$D$4 + S34) * U34","v":20.745474375881749},{"$f":"EXP(V34 + W34*Prices!$D$2 + X34*Prices!$D$4 + Y34) * AA34","v":20.508813322877501},{"$f":"EXP(AB34 + AC34*Prices!$D$2 + AD34*Prices!$D$4 + AE34) * AG34","v":21.067433441753824},{"$f":"EXP(AH34 + AI34*Prices!$D$2 + AJ34*Prices!$D$4 + AK34) * AM34","v":21.012937405322528},{"$f":"EXP(AN34 + AO34*Prices!$D$2 + AP34*Prices!$D$4 + AQ34) * AS34","v":21.046576326108504},{"$f":"EXP(AT34 + AU34*Prices!$D$2 + AV34*Prices!$D$4 + AW34) * AY34","v":25.563918868648898},{"$f":"EXP(AZ34 + BA34*Prices!$D$2 + BB34*Prices!$D$4 + BC34) * BE34","v":26.548139776179561},{"$f":"EXP(BF34 + BG34*Prices!$D$2 + BH34*Prices!$D$4 + BI34) * BK34","v":24.010755033231799},{"$f":"EXP(BL34 + BM34*Prices!$D$2 + BN34*Prices!$D$4 + BO34) * BQ34","v":20.852168563797893},{"$f":"EXP(BR34 + BS34*Prices!$D$2 + BT34*Prices!$D$4 + BU34) * BW34","v":20.626804436691049},{"$f":"EXP(BX34 + BY34*Prices!$D$2 + BZ34*Prices!$D$4 + CA34) * CC34","v":20.737082812564854},{"$f":"EXP(CD34 + CE34*Prices!$D$2 + CF34*Prices!$D$4 + CG34) * CI34","v":21.067433441753824},{"$f":"EXP(CJ34 + CK34*Prices!$D$2 + CL34*Prices!$D$4 + CM34) * CO34","v":21.046576326108504},{"$f":"EXP(CP34 + CQ34*Prices!$D$2 + CR34*Prices!$D$4 + CS34) * CU34","v":21.057002301540514},{"$f":"EXP(CV34 + CW34*Prices!$D$2 + CX34*Prices!$D$4 + CY34) * DA34","v":26.051381755135466},{"$f":"EXP(DB34 + DC34*Prices!$D$2 + DD34*Prices!$D$4 + DE34) * DG34","v":25.24759158323511},{"$f":"EXP(DH34 + DI34*Prices!$D$2 + DJ34*Prices!$D$4 + DK34) * DM34","v":25.352596688488337},null,null,null,null,null,null,null,null,null,null,null,null,null,null,null,null,null,null,null,null,null,null,null,null,null,null,null,null,null,null,null,null,null,null,null,null,null,null,null,null,null,null,null,null,null,null,null,null,null,null,null,null,null,null,null,null,null,null,null,null,null,null,null,null,null,null,null,null,null,null,null,null,null,null,null,null,null,null,null,null,null,null,null,null,null,null,null,null,null,null,null,null,null,null,null,null,null,"West","fuel"]
[null,null,"Wheat (extra charge for high yield) - $/bu",{"$f":"EXP(D35 + E35*Prices!$D$2 + F35*Prices!$D$4 + G35) * I35","v":21.196904715879175},{"$f":"EXP(J35 + K35*Prices!$D$2 + L35*Prices!$D$4 + M35) * O35","v":21.460045519812478},{"$f":"EXP(P35 + Q35*Prices!$D$2 + R35*Prices!$D$4 + S35) * U35","v":20.636900156697187},{"$f":"EXP(V35 + W35*Prices!$D$2 + X35*Prices!$D$4 + Y35) * AA35","v":20.502459325270699},{"$f":"EXP(AB35 + AC35*Prices!$D$2 + AD35*Prices!$D$4 + AE35) * AG35","v":20.739124988938226},{"$f":"EXP(AH35 + AI35*Prices!$D$2 + AJ35*Prices!$D$4 + AK35) * AM35","v":20.690663995749532},{"$f":"EXP(AN35 + AO35*Prices!$D$2 + AP35*Prices!$D$4 + AQ35) * AS35","v":20.869313751348951},{"$f":"EXP(AT35 + AU35*Prices!$D$2 + AV35*Prices!$D$4 + AW35) * AY35","v":21.101771656917652},{"$f":"EXP(AZ35 + BA35*Prices!$D$2 + BB35*Prices!$D$4 + BC35) * BE35","v":20.409216562843149},{"$f":"EXP(BF35 + BG35*Prices!$D$2 + BH35*Prices!$D$4 + BI35) * BK35","v":20.321692459634821},{"$f":"EXP(BL35 + BM35*Prices!$D$2 + BN35*Prices!$D$4 + BO35) * BQ35","v":21.044448596970916},{"$f":"EXP(BR35 + BS35*Prices!$D$2 + BT35*Prices!$D$4 + BU35) * BW35","v":20.569569904651893},{"$f":"EXP(BX35 + BY35*Prices!$D$2 + BZ35*Prices!$D$4 + CA35) * CC35","v":20.862211964204452},{"$f":"EXP(CD35 + CE35*Prices!$D$2 + CF35*Prices!$D$4 + CG35) * CI35","v":20.739124988938226},{"$f":"EXP(CJ35 + CK35*Prices!$D$2 + CL35*Prices!$D$4 + CM35) * CO35","v":20.869313751348951},{"$f":"EXP(CP35 + CQ35*Prices!$D$2 + CR35*Prices!$D$4 + CS35) * CU35","v":20.804117532897131},{"$f":"EXP(CV35 + CW35*Prices!$D$2 + CX35*Prices!$D$4 + CY35) * DA35","v":20.75260532091578},{"$f":"EXP(DB35 + DC35*Prices!$D$2 + DD35*Prices!$D$4 + DE35) * DG35","v":20.365407492416736},{"$f":"EXP(DH35 + DI35*Prices!$D$2 + DJ35*Prices!$D$4 + DK35) * DM35","v":20.607961893585617},null,null,null,null,null,null,null,null,null,null,null,null,null,null,null,null,null,null,null,null,null,null,null,null,null,null,null,null,null,null,null,null,null,null,null,null,null,null,null,null,null,null,null,null,null,null,null,null,null,null,null,null,null,null,null,null,null,null,null,null,null,null,null,null,null,null,null,null,null,null,null,null,null,null,null,null,null,null,null,null,null,null,null,null,null,null,null,null,null,null,null,null,null,null,null,null,null,"West","Adjustment factor"]
[null,null,"Milo (base)",{"$f":"EXP(D36 + E36*Prices!$D$2 + F36*Prices!$D$4 + G36) * I36","v":22.23881423425728},{"$f":"EXP(J36 + K36*Prices!$D$2 + L36*Prices!$D$4 + M36) * O36","v":22.064595727902578},{"$f":"EXP(P36 + Q36*Prices!$D$2 + R36*Prices!$D$4 + S36) * U36","v":21.664944524496416},{"$f":"EXP(V36 + W36*Prices!$D$2 + X36*Prices!$D$4 + Y36) * AA36","v":21.547929795772767},{"$f":"EXP(AB36 + AC36*Prices!$D$2 + AD36*Prices!$D$4 + AE36) * AG36","v":22.311077862730844},{"$f":"EXP(AH36 + AI36*Prices!$D$2 + AJ36*Prices!$D$4 + AK36) * AM36","v":21.797262015430032},{"$f":"EXP(AN36 + AO36*Prices!$D$2 + AP36*Prices!$D$4 + AQ36) * AS36","v":22.368620589157164},{"$f":"EXP(AT36 + AU36*Prices!$D$2 + AV36*Prices!$D$4 + AW36) * AY36","v":27.855308738317326},{"$f":"EXP(AZ36 + BA36*Prices!$D$2 + BB36*Prices!$D$4 + BC36) * BE36","v":28.164855131479893},{"$f":"EXP(BF36 + BG36*Prices!$D$2 + BH36*Prices!$D$4 + BI36) * BK36","v":25.264310640771697},{"$f":"EXP(BL36 + BM36*Prices!$D$2 + BN36*Prices!$D$4 + BO36) * BQ36","v":21.863856988199831},{"$f":"EXP(BR36 + BS36*Prices!$D$2 + BT36*Prices!$D$4 + BU36) * BW36","v":21.606357944900392},{"$f":"EXP(BX36 + BY36*Prices!$D$2 + BZ36*Prices!$D$4 + CA36) * CC36","v":21.75803658279327},{"$f":"EXP(CD36 + CE36*Prices!$D$2 + CF36*Prices!$D$4 + CG36) * CI36","v":22.311077862730844},{"$f":"EXP(CJ36 + CK36*Prices!$D$2 + CL36*Prices!$D$4 + CM36) * CO36","v":22.368620589157164},{"$f":"EXP(CP36 + CQ36*Prices!$D$2 + CR36*Prices!$D$4 + CS36) * CU36","v":22.339830698699682},{"$f":"EXP(CV36 + CW36*Prices!$D$2 + CX36*Prices!$D$4 + CY36) * DA36","v":28.009654322346663},{"$f":"EXP(DB36 + DC36*Prices!$D$2 + DD36*Prices!$D$4 + DE36) * DG36","v":26.675187894259356},{"$f":"EXP(DH36 + DI36*Prices!$D$2 + DJ36*Prices!$D$4 + DK36) * DM36","v":27.062899011384669},null,null,null,null,null,null,null,null,null,null,null,null,null,null,null,null,null,null,null,null,null,null,null,null,null,null,null,null,null,null,null,null,null,null,null,null,null,null,null,null,null,null,null,null,null,null,null,null,null,null,null,null,null,null,null,null,null,null,null,null,null,null,null,null,null,null,null,null,null,null,null,null,null,null,null,null,null,null,null,null,null,null,null,null,null,null,null,null,null,null,null,null,null,null,null,null,null,"West","RMSE"]
[null,null,"Milo (extra charge for high yield) - $/bu",{"$f":"EXP(D37 + E37*Prices!$D$2 + F37*Prices!$D$4 + G37) * I37","v":21.618119019639689},{"$f":"EXP(J37 + K37*Prices!$D$2 + L37*Prices!$D$4 + M37) * O37","v":22.209302061370675},{"$f":"EXP(P37 + Q37*Prices!$D$2 + R37*Prices!$D$4 + S37) * U37","v":21.946390865437735},{"$f":"EXP(V37 + W37*Prices!$D$2 + X37*Prices!$D$4 + Y37) * AA37","v":21.995875791630574},{"$f":"EXP(AB37 + AC37*Prices!$D$2 + AD37*Prices!$D$4 + AE37) * AG37","v":22.013320287604543},{"$f":"EXP(AH37 + AI37*Prices!$D$2 + AJ37*Prices!$D$4 + AK37) * AM37","v":21.851493744877729},{"$f":"EXP(AN37 + AO37*Prices!$D$2 + AP37*Prices!$D$4 + AQ37) * AS37","v":21.830546724563028},{"$f":"EXP(AT37 + AU37*Prices!$D$2 + AV37*Prices!$D$4 + AW37) * AY37","v":21.115028451160118},{"$f":"EXP(AZ37 + BA37*Prices!$D$2 + BB37*Prices!$D$4 + BC37) * BE37","v":21.057153880646691},{"$f":"EXP(BF37 + BG37*Prices!$D$2 + BH37*Prices!$D$4 + BI37) * BK37","v":21.039266844965066},{"$f":"EXP(BL37 + BM37*Prices!$D$2 + BN37*Prices!$D$4 + BO37) * BQ37","v":22.077455104413932},{"$f":"EXP(BR37 + BS37*Prices!$D$2 + BT37*Prices!$D$4 + BU37) * BW37","v":21.971119396852409},{"$f":"EXP(BX37 + BY37*Prices!$D$2 + BZ37*Prices!$D$4 + CA37) * CC37","v":22.050228437104945},{"$f":"EXP(CD37 + CE37*Prices!$D$2 + CF37*Prices!$D$4 + CG37) * CI37","v":22.013320287604543},{"$f":"EXP(CJ37 + CK37*Prices!$D$2 + CL37*Prices!$D$4 + CM37) * CO37","v":21.830546724563028},{"$f":"EXP(CP37 + CQ37*Prices!$D$2 + CR37*Prices!$D$4 + CS37) * CU37","v":21.92174302151442},{"$f":"EXP(CV37 + CW37*Prices!$D$2 + CX37*Prices!$D$4 + CY37) * DA37","v":21.086071309997781},{"$f":"EXP(DB37 + DC37*Prices!$D$2 + DD37*Prices!$D$4 + DE37) * DG37","v":21.048208462727121},{"$f":"EXP(DH37 + DI37*Prices!$D$2 + DJ37*Prices!$D$4 + DK37) * DM37","v":21.070458263927254},null,null,null,null,null,null,null,null,null,null,null,null,null,null,null,null,null,null,null,null,null,null,null,null,null,null,null,null,null,null,null,null,null,null,null,null,null,null,null,null,null,null,null,null,null,null,null,null,null,null,null,null,null,null,null,null,null,null,null,null,null,null,null,null,null,null,null,null,null,null,null,null,null,null,null,null,null,null,null,null,null,null,null,null,null,null,null,null,null,null,null,null,null,null,null,null,null,"West","LN adjustment"]
[null,null,"Corn (base)",{"$f":"EXP(D38 + E38*Prices!$D$2 + F38*Prices!$D$4 + G38) * I38","v":28.356278072813716},{"$f":"EXP(J38 + K38*Prices!$D$2 + L38*Prices!$D$4 + M38) * O38","v":27.126920829548958},{"$f":"EXP(P38 + Q38*Prices!$D$2 + R38*Prices!$D$4 + S38) * U38","v":27.054332591472743},{"$f":"EXP(V38 + W38*Prices!$D$2 + X38*Prices!$D$4 + Y38) * AA38","v":27.050505885792784},{"$f":"EXP(AB38 + AC38*Prices!$D$2 + AD38*Prices!$D$4 + AE38) * AG38","v":28.568587090865037},{"$f":"EXP(AH38 + AI38*Prices!$D$2 + AJ38*Prices!$D$4 + AK38) * AM38","v":27.438994949824547},{"$f":"EXP(AN38 + AO38*Prices!$D$2 + AP38*Prices!$D$4 + AQ38) * AS38","v":29.193047215712085},{"$f":"EXP(AT38 + AU38*Prices!$D$2 + AV38*Prices!$D$4 + AW38) * AY38","v":30.296484526373309},{"$f":"EXP(AZ38 + BA38*Prices!$D$2 + BB38*Prices!$D$4 + BC38) * BE38","v":29.034830173865792},{"$f":"EXP(BF38 + BG38*Prices!$D$2 + BH38*Prices!$D$4 + BI38) * BK38","v":27.810396876397537},{"$f":"EXP(BL38 + BM38*Prices!$D$2 + BN38*Prices!$D$4 + BO38) * BQ38","v":27.090602398344107},{"$f":"EXP(BR38 + BS38*Prices!$D$2 + BT38*Prices!$D$4 + BU38) * BW38","v":27.052419170969195},{"$f":"EXP(BX38 + BY38*Prices!$D$2 + BZ38*Prices!$D$4 + CA38) * CC38","v":27.077230294686093},{"$f":"EXP(CD38 + CE38*Prices!$D$2 + CF38*Prices!$D$4 + CG38) * CI38","v":28.568587090865037},{"$f":"EXP(CJ38 + CK38*Prices!$D$2 + CL38*Prices!$D$4 + CM38) * CO38","v":29.193047215712085},{"$f":"EXP(CP38 + CQ38*Prices!$D$2 + CR38*Prices!$D$4 + CS38) * CU38","v":28.879129346810412},{"$f":"EXP(CV38 + CW38*Prices!$D$2 + CX38*Prices!$D$4 + CY38) * DA38","v":29.658949460296309},{"$f":"EXP(DB38 + DC38*Prices!$D$2 + DD38*Prices!$D$4 + DE38) * DG38","v":28.416019256292774},{"$f":"EXP(DH38 + DI38*Prices!$D$2 + DJ38*Prices!$D$4 + DK38) * DM38","v":29.029501059631375},null,null,null,null,null,null,null,null,null,null,null,null,null,null,null,null,null,null,null,null,null,null,null,null,null,null,null,null,null,null,null,null,null,null,null,null,null,null,null,null,null,null,null,null,null,null,null,null,null,null,null,null,null,null,null,null,null,null,null,null,null,null,null,null,null,null,null,null,null,null,null,null,null,null,null,null,null,null,null,null,null,null,null,null,null,null,null,null,null,null,null,null,null,null,null,null,null,"North central","Intercept"]
[null,null,"Corn  (extra charge for high yield) - $/bu",{"$f":"EXP(D39 + E39*Prices!$D$2 + F39*Prices!$D$4 + G39) * I39","v":24.376765753190803},{"$f":"EXP(J39 + K39*Prices!$D$2 + L39*Prices!$D$4 + M39) * O39","v":23.702636198084569},{"$f":"EXP(P39 + Q39*Prices!$D$2 + R39*Prices!$D$4 + S39) * U39","v":23.7294728503011},{"$f":"EXP(V39 + W39*Prices!$D$2 + X39*Prices!$D$4 + Y39) * AA39","v":23.410719967398343},{"$f":"EXP(AB39 + AC39*Prices!$D$2 + AD39*Prices!$D$4 + AE39) * AG39","v":23.241673558432744},{"$f":"EXP(AH39 + AI39*Prices!$D$2 + AJ39*Prices!$D$4 + AK39) * AM39","v":22.27166339370903},{"$f":"EXP(AN39 + AO39*Prices!$D$2 + AP39*Prices!$D$4 + AQ39) * AS39","v":23.565828954494336},{"$f":"EXP(AT39 + AU39*Prices!$D$2 + AV39*Prices!$D$4 + AW39) * AY39","v":19.412313561549063},{"$f":"EXP(AZ39 + BA39*Prices!$D$2 + BB39*Prices!$D$4 + BC39) * BE39","v":16.673049831333415},{"$f":"EXP(BF39 + BG39*Prices!$D$2 + BH39*Prices!$D$4 + BI39) * BK39","v":19.305916413927338},{"$f":"EXP(BL39 + BM39*Prices!$D$2 + BN39*Prices!$D$4 + BO39) * BQ39","v":23.71605072820962},{"$f":"EXP(BR39 + BS39*Prices!$D$2 + BT39*Prices!$D$4 + BU39) * BW39","v":23.569557566326424},{"$f":"EXP(BX39 + BY39*Prices!$D$2 + BZ39*Prices!$D$4 + CA39) * CC39","v":23.613833883405174},{"$f":"EXP(CD39 + CE39*Prices!$D$2 + CF39*Prices!$D$4 + CG39) * CI39","v":23.241673558432744},{"$f":"EXP(CJ39 + CK39*Prices!$D$2 + CL39*Prices!$D$4 + CM39) * CO39","v":23.565828954494336},{"$f":"EXP(CP39 + CQ39*Prices!$D$2 + CR39*Prices!$D$4 + CS39) * CU39","v":23.403190032433923},{"$f":"EXP(CV39 + CW39*Prices!$D$2 + CX39*Prices!$D$4 + CY39) * DA39","v":17.990621761161389},{"$f":"EXP(DB39 + DC39*Prices!$D$2 + DD39*Prices!$D$4 + DE39) * DG39","v":17.941251528501709},{"$f":"EXP(DH39 + DI39*Prices!$D$2 + DJ39*Prices!$D$4 + DK39) * DM39","v":18.418782626219105},null,null,null,null,null,null,null,null,null,null,null,null,null,null,null,null,null,null,null,null,null,null,null,null,null,null,null,null,null,null,null,null,null,null,null,null,null,null,null,null,null,null,null,null,null,null,null,null,null,null,null,null,null,null,null,null,null,null,null,null,null,null,null,null,null,null,null,null,null,null,null,null,null,null,null,null,null,null,null,null,null,null,null,null,null,null,null,null,null,null,null,null,null,null,null,null,null,"North central","PPI"]
[null,null,"Soybeans (base)",{"$f":"EXP(D40 + E40*Prices!$D$2 + F40*Prices!$D$4 + G40) * I40","v":27.12982389516462},{"$f":"EXP(J40 + K40*Prices!$D$2 + L40*Prices!$D$4 + M40) * O40","v":27.262297451760823},{"$f":"EXP(P40 + Q40*Prices!$D$2 + R40*Prices!$D$4 + S40) * U40","v":27.429944082533488},{"$f":"EXP(V40 + W40*Prices!$D$2 + X40*Prices!$D$4 + Y40) * AA40","v":29.001100812217931},{"$f":"EXP(AB40 + AC40*Prices!$D$2 + AD40*Prices!$D$4 + AE40) * AG40","v":27.696942092153421},{"$f":"EXP(AH40 + AI40*Prices!$D$2 + AJ40*Prices!$D$4 + AK40) * AM40","v":26.020441876086601},{"$f":"EXP(AN40 + AO40*Prices!$D$2 + AP40*Prices!$D$4 + AQ40) * AS40","v":27.549286588339726},{"$f":"EXP(AT40 + AU40*Prices!$D$2 + AV40*Prices!$D$4 + AW40) * AY40","v":28.171507204532734},{"$f":"EXP(AZ40 + BA40*Prices!$D$2 + BB40*Prices!$D$4 + BC40) * BE40","v":26.284992447635968},{"$f":"EXP(BF40 + BG40*Prices!$D$2 + BH40*Prices!$D$4 + BI40) * BK40","v":24.116687257957473},{"$f":"EXP(BL40 + BM40*Prices!$D$2 + BN40*Prices!$D$4 + BO40) * BQ40","v":27.345992296188392},{"$f":"EXP(BR40 + BS40*Prices!$D$2 + BT40*Prices!$D$4 + BU40) * BW40","v":28.204584265878882},{"$f":"EXP(BX40 + BY40*Prices!$D$2 + BZ40*Prices!$D$4 + CA40) * CC40","v":27.886924383523851},{"$f":"EXP(CD40 + CE40*Prices!$D$2 + CF40*Prices!$D$4 + CG40) * CI40","v":27.696942092153421},{"$f":"EXP(CJ40 + CK40*Prices!$D$2 + CL40*Prices!$D$4 + CM40) * CO40","v":27.549286588339726},{"$f":"EXP(CP40 + CQ40*Prices!$D$2 + CR40*Prices!$D$4 + CS40) * CU40","v":27.623015681083487},{"$f":"EXP(CV40 + CW40*Prices!$D$2 + CX40*Prices!$D$4 + CY40) * DA40","v":27.21190647693896},{"$f":"EXP(DB40 + DC40*Prices!$D$2 + DD40*Prices!$D$4 + DE40) * DG40","v":25.177508662244644},{"$f":"EXP(DH40 + DI40*Prices!$D$2 + DJ40*Prices!$D$4 + DK40) * DM40","v":26.138371745949286},null,null,null,null,null,null,null,null,null,null,null,null,null,null,null,null,null,null,null,null,null,null,null,null,null,null,null,null,null,null,null,null,null,null,null,null,null,null,null,null,null,null,null,null,null,null,null,null,null,null,null,null,null,null,null,null,null,null,null,null,null,null,null,null,null,null,null,null,null,null,null,null,null,null,null,null,null,null,null,null,null,null,null,null,null,null,null,null,null,null,null,null,null,null,null,null,null,"North central","fuel"]
[null,null,"Soybeans  (extra charge for high yield) - $/bu",{"$f":"EXP(D41 + E41*Prices!$D$2 + F41*Prices!$D$4 + G41) * I41","v":20.06367630900839},{"$f":"EXP(J41 + K41*Prices!$D$2 + L41*Prices!$D$4 + M41) * O41","v":20.397957315302563},{"$f":"EXP(P41 + Q41*Prices!$D$2 + R41*Prices!$D$4 + S41) * U41","v":20.518071037711042},{"$f":"EXP(V41 + W41*Prices!$D$2 + X41*Prices!$D$4 + Y41) * AA41","v":20.623684853786838},{"$f":"EXP(AB41 + AC41*Prices!$D$2 + AD41*Prices!$D$4 + AE41) * AG41","v":21.299533038895824},{"$f":"EXP(AH41 + AI41*Prices!$D$2 + AJ41*Prices!$D$4 + AK41) * AM41","v":20.233034829812883},{"$f":"EXP(AN41 + AO41*Prices!$D$2 + AP41*Prices!$D$4 + AQ41) * AS41","v":20.762805361961274},{"$f":"EXP(AT41 + AU41*Prices!$D$2 + AV41*Prices!$D$4 + AW41) * AY41","v":21.194785177782169},{"$f":"EXP(AZ41 + BA41*Prices!$D$2 + BB41*Prices!$D$4 + BC41) * BE41","v":20.29574698807404},{"$f":"EXP(BF41 + BG41*Prices!$D$2 + BH41*Prices!$D$4 + BI41) * BK41","v":21.482243041980428},{"$f":"EXP(BL41 + BM41*Prices!$D$2 + BN41*Prices!$D$4 + BO41) * BQ41","v":20.457926024393959},{"$f":"EXP(BR41 + BS41*Prices!$D$2 + BT41*Prices!$D$4 + BU41) * BW41","v":20.570810166091263},{"$f":"EXP(BX41 + BY41*Prices!$D$2 + BZ41*Prices!$D$4 + CA41) * CC41","v":20.513030408017872},{"$f":"EXP(CD41 + CE41*Prices!$D$2 + CF41*Prices!$D$4 + CG41) * CI41","v":21.299533038895824},{"$f":"EXP(CJ41 + CK41*Prices!$D$2 + CL41*Prices!$D$4 + CM41) * CO41","v":20.762805361961274},{"$f":"EXP(CP41 + CQ41*Prices!$D$2 + CR41*Prices!$D$4 + CS41) * CU41","v":21.029456930393081},{"$f":"EXP(CV41 + CW41*Prices!$D$2 + CX41*Prices!$D$4 + CY41) * DA41","v":20.740395305655415},{"$f":"EXP(DB41 + DC41*Prices!$D$2 + DD41*Prices!$D$4 + DE41) * DG41","v":20.880569185641203},{"$f":"EXP(DH41 + DI41*Prices!$D$2 + DJ41*Prices!$D$4 + DK41) * DM41","v":20.984786820524452},null,null,null,null,null,null,null,null,null,null,null,null,null,null,null,null,null,null,null,null,null,null,null,null,null,null,null,null,null,null,null,null,null,null,null,null,null,null,null,null,null,null,null,null,null,null,null,null,null,null,null,null,null,null,null,null,null,null,null,null,null,null,null,null,null,null,null,null,null,null,null,null,null,null,null,null,null,null,null,null,null,null,null,null,null,null,null,null,null,null,null,null,null,null,null,null,null,"North central","Adjustment factor"]
[null,null,"Sunflower (base)",{"$f":"EXP(D42 + E42*Prices!$D$2 + F42*Prices!$D$4 + G42) * I42","v":31.242148595297405},{"$f":"EXP(J42 + K42*Prices!$D$2 + L42*Prices!$D$4 + M42) * O42","v":30.765998110604436},{"$f":"EXP(P42 + Q42*Prices!$D$2 + R42*Prices!$D$4 + S42) * U42","v":30.616598112056323},{"$f":"EXP(V42 + W42*Prices!$D$2 + X42*Prices!$D$4 + Y42) * AA42","v":30.546438216984846},{"$f":"EXP(AB42 + AC42*Prices!$D$2 + AD42*Prices!$D$4 + AE42) * AG42","v":31.392601363162079},{"$f":"EXP(AH42 + AI42*Prices!$D$2 + AJ42*Prices!$D$4 + AK42) * AM42","v":31.232831927545455},{"$f":"EXP(AN42 + AO42*Prices!$D$2 + AP42*Prices!$D$4 + AQ42) * AS42","v":31.919501143580927},{"$f":"EXP(AT42 + AU42*Prices!$D$2 + AV42*Prices!$D$4 + AW42) * AY42","v":31.666191069620048},{"$f":"EXP(AZ42 + BA42*Prices!$D$2 + BB42*Prices!$D$4 + BC42) * BE42","v":31.784620491564905},{"$f":"EXP(BF42 + BG42*Prices!$D$2 + BH42*Prices!$D$4 + BI42) * BK42","v":31.181096824108064},{"$f":"EXP(BL42 + BM42*Prices!$D$2 + BN42*Prices!$D$4 + BO42) * BQ42","v":30.691207204485313},{"$f":"EXP(BR42 + BS42*Prices!$D$2 + BT42*Prices!$D$4 + BU42) * BW42","v":30.58149804447412},{"$f":"EXP(BX42 + BY42*Prices!$D$2 + BZ42*Prices!$D$4 + CA42) * CC42","v":30.642874801578568},{"$f":"EXP(CD42 + CE42*Prices!$D$2 + CF42*Prices!$D$4 + CG42) * CI42","v":31.392601363162079},{"$f":"EXP(CJ42 + CK42*Prices!$D$2 + CL42*Prices!$D$4 + CM42) * CO42","v":31.919501143580927},{"$f":"EXP(CP42 + CQ42*Prices!$D$2 + CR42*Prices!$D$4 + CS42) * CU42","v":31.654954985143192},{"$f":"EXP(CV42 + CW42*Prices!$D$2 + CX42*Prices!$D$4 + CY42) * DA42","v":31.725350519123584},{"$f":"EXP(DB42 + DC42*Prices!$D$2 + DD42*Prices!$D$4 + DE42) * DG42","v":31.481412437579962},{"$f":"EXP(DH42 + DI42*Prices!$D$2 + DJ42*Prices!$D$4 + DK42) * DM42","v":31.542885200866436},null,null,null,null,null,null,null,null,null,null,null,null,null,null,null,null,null,null,null,null,null,null,null,null,null,null,null,null,null,null,null,null,null,null,null,null,null,null,null,null,null,null,null,null,null,null,null,null,null,null,null,null,null,null,null,null,null,null,null,null,null,null,null,null,null,null,null,null,null,null,null,null,null,null,null,null,null,null,null,null,null,null,null,null,null,null,null,null,null,null,null,null,null,null,null,null,null,"North central","RMSE"]
[null,null,"Sunflower  (extra charge for high yield) - $/bu",{"$f":"EXP(D43 + E43*Prices!$D$2 + F43*Prices!$D$4 + G43) * I43","v":27.712424493166679},{"$f":"EXP(J43 + K43*Prices!$D$2 + L43*Prices!$D$4 + M43) * O43","v":28.241495320367981},{"$f":"EXP(P43 + Q43*Prices!$D$2 + R43*Prices!$D$4 + S43) * U43","v":28.299969134532244},{"$f":"EXP(V43 + W43*Prices!$D$2 + X43*Prices!$D$4 + Y43) * AA43","v":28.299969134532244},{"$f":"EXP(AB43 + AC43*Prices!$D$2 + AD43*Prices!$D$4 + AE43) * AG43","v":28.337367919670591},{"$f":"EXP(AH43 + AI43*Prices!$D$2 + AJ43*Prices!$D$4 + AK43) * AM43","v":28.337367919668864},{"$f":"EXP(AN43 + AO43*Prices!$D$2 + AP43*Prices!$D$4 + AQ43) * AS43","v":28.337367919670591},{"$f":"EXP(AT43 + AU43*Prices!$D$2 + AV43*Prices!$D$4 + AW43) * AY43","v":28.337367919670591},{"$f":"EXP(AZ43 + BA43*Prices!$D$2 + BB43*Prices!$D$4 + BC43) * BE43","v":28.337367919670591},{"$f":"EXP(BF43 + BG43*Prices!$D$2 + BH43*Prices!$D$4 + BI43) * BK43","v":28.337367919670591},{"$f":"EXP(BL43 + BM43*Prices!$D$2 + BN43*Prices!$D$4 + BO43) * BQ43","v":28.270717109395072},{"$f":"EXP(BR43 + BS43*Prices!$D$2 + BT43*Prices!$D$4 + BU43) * BW43","v":28.299969134532244},{"$f":"EXP(BX43 + BY43*Prices!$D$2 + BZ43*Prices!$D$4 + CA43) * CC43","v":28.280464423328919},{"$f":"EXP(CD43 + CE43*Prices!$D$2 + CF43*Prices!$D$4 + CG43) * CI43","v":28.337367919670591},{"$f":"EXP(CJ43 + CK43*Prices!$D$2 + CL43*Prices!$D$4 + CM43) * CO43","v":28.337367919670591},{"$f":"EXP(CP43 + CQ43*Prices!$D$2 + CR43*Prices!$D$4 + CS43) * CU43","v":28.337367919670591},{"$f":"EXP(CV43 + CW43*Prices!$D$2 + CX43*Prices!$D$4 + CY43) * DA43","v":28.337367919670591},{"$f":"EXP(DB43 + DC43*Prices!$D$2 + DD43*Prices!$D$4 + DE43) * DG43","v":28.337367919670591},{"$f":"EXP(DH43 + DI43*Prices!$D$2 + DJ43*Prices!$D$4 + DK43) * DM43","v":28.337367919670591},null,null,null,null,null,null,null,null,null,null,null,null,null,null,null,null,null,null,null,null,null,null,null,null,null,null,null,null,null,null,null,null,null,null,null,null,null,null,null,null,null,null,null,null,null,null,null,null,null,null,null,null,null,null,null,null,null,null,null,null,null,null,null,null,null,null,null,null,null,null,null,null,null,null,null,null,null,null,null,null,null,null,null,null,null,null,null,null,null,null,null,null,null,null,null,null,null,"North central","LN adjustment"]
[null,null,"Silage (base)",{"$f":"EXP(D44 + E44*Prices!$D$2 + F44*Prices!$D$4 + G44) * I44","v":7.6517240684401067},{"$f":"EXP(J44 + K44*Prices!$D$2 + L44*Prices!$D$4 + M44) * O44","v":7.7695647742178542},{"$f":"EXP(P44 + Q44*Prices!$D$2 + R44*Prices!$D$4 + S44) * U44","v":7.9207673686823563},{"$f":"EXP(V44 + W44*Prices!$D$2 + X44*Prices!$D$4 + Y44) * AA44","v":7.9282689019546186},{"$f":"EXP(AB44 + AC44*Prices!$D$2 + AD44*Prices!$D$4 + AE44) * AG44","v":7.6849042466680384},{"$f":"EXP(AH44 + AI44*Prices!$D$2 + AJ44*Prices!$D$4 + AK44) * AM44","v":7.9367373272213513},{"$f":"EXP(AN44 + AO44*Prices!$D$2 + AP44*Prices!$D$4 + AQ44) * AS44","v":8.3355159359467521},{"$f":"EXP(AT44 + AU44*Prices!$D$2 + AV44*Prices!$D$4 + AW44) * AY44","v":8.1326770255025256},{"$f":"EXP(AZ44 + BA44*Prices!$D$2 + BB44*Prices!$D$4 + BC44) * BE44","v":7.7313109159917746},{"$f":"EXP(BF44 + BG44*Prices!$D$2 + BH44*Prices!$D$4 + BI44) * BK44","v":8.0565869739538307},{"$f":"EXP(BL44 + BM44*Prices!$D$2 + BN44*Prices!$D$4 + BO44) * BQ44","v":7.8448017905163168},{"$f":"EXP(BR44 + BS44*Prices!$D$2 + BT44*Prices!$D$4 + BU44) * BW44","v":7.9245172476776933},{"$f":"EXP(BX44 + BY44*Prices!$D$2 + BZ44*Prices!$D$4 + CA44) * CC44","v":7.8725260653507263},{"$f":"EXP(CD44 + CE44*Prices!$D$2 + CF44*Prices!$D$4 + CG44) * CI44","v":7.6849042466680384},{"$f":"EXP(CJ44 + CK44*Prices!$D$2 + CL44*Prices!$D$4 + CM44) * CO44","v":8.3355159359467521},{"$f":"EXP(CP44 + CQ44*Prices!$D$2 + CR44*Prices!$D$4 + CS44) * CU44","v":8.0036018025840256},{"$f":"EXP(CV44 + CW44*Prices!$D$2 + CX44*Prices!$D$4 + CY44) * DA44","v":7.9294548780797713},{"$f":"EXP(DB44 + DC44*Prices!$D$2 + DD44*Prices!$D$4 + DE44) * DG44","v":7.8922733617992318},{"$f":"EXP(DH44 + DI44*Prices!$D$2 + DJ44*Prices!$D$4 + DK44) * DM44","v":7.9716077620851014},null,null,null,null,null,null,null,null,null,null,null,null,null,null,null,null,null,null,null,null,null,null,null,null,null,null,null,null,null,null,null,null,null,null,null,null,null,null,null,null,null,null,null,null,null,null,null,null,null,null,null,null,null,null,null,null,null,null,null,null,null,null,null,null,null,null,null,null,null,null,null,null,null,null,null,null,null,null,null,null,null,null,null,null,null,null,null,null,null,null,null,null,null,null,null,null,null,"South central","Intercept"]
[null,"Hauling","Wheat - hauling - $/bu",{"$f":"EXP(D45 + E45*Prices!$D$2 + F45*Prices!$D$4 + G45) * I45","v":20.108316869873743},{"$f":"EXP(J45 + K45*Prices!$D$2 + L45*Prices!$D$4 + M45) * O45","v":20.482465348773328},{"$f":"EXP(P45 + Q45*Prices!$D$2 + R45*Prices!$D$4 + S45) * U45","v":20.547197211072728},{"$f":"EXP(V45 + W45*Prices!$D$2 + X45*Prices!$D$4 + Y45) * AA45","v":20.258644958654262},{"$f":"EXP(AB45 + AC45*Prices!$D$2 + AD45*Prices!$D$4 + AE45) * AG45","v":20.293725352458608},{"$f":"EXP(AH45 + AI45*Prices!$D$2 + AJ45*Prices!$D$4 + AK45) * AM45","v":20.19693220556805},{"$f":"EXP(AN45 + AO45*Prices!$D$2 + AP45*Prices!$D$4 + AQ45) * AS45","v":20.278233069793082},{"$f":"EXP(AT45 + AU45*Prices!$D$2 + AV45*Prices!$D$4 + AW45) * AY45","v":20.485462618553502},{"$f":"EXP(AZ45 + BA45*Prices!$D$2 + BB45*Prices!$D$4 + BC45) * BE45","v":18.206459578132584},{"$f":"EXP(BF45 + BG45*Prices!$D$2 + BH45*Prices!$D$4 + BI45) * BK45","v":19.762960459007406},{"$f":"EXP(BL45 + BM45*Prices!$D$2 + BN45*Prices!$D$4 + BO45) * BQ45","v":20.514805748293334},{"$f":"EXP(BR45 + BS45*Prices!$D$2 + BT45*Prices!$D$4 + BU45) * BW45","v":20.402410965240687},{"$f":"EXP(BX45 + BY45*Prices!$D$2 + BZ45*Prices!$D$4 + CA45) * CC45","v":20.429060933962127},{"$f":"EXP(CD45 + CE45*Prices!$D$2 + CF45*Prices!$D$4 + CG45) * CI45","v":20.293725352458608},{"$f":"EXP(CJ45 + CK45*Prices!$D$2 + CL45*Prices!$D$4 + CM45) * CO45","v":20.278233069793082},{"$f":"EXP(CP45 + CQ45*Prices!$D$2 + CR45*Prices!$D$4 + CS45) * CU45","v":20.285977732205179},{"$f":"EXP(CV45 + CW45*Prices!$D$2 + CX45*Prices!$D$4 + CY45) * DA45","v":19.312372901951758},{"$f":"EXP(DB45 + DC45*Prices!$D$2 + DD45*Prices!$D$4 + DE45) * DG45","v":18.968751691694187},{"$f":"EXP(DH45 + DI45*Prices!$D$2 + DJ45*Prices!$D$4 + DK45) * DM45","v":19.461415563056566},null,null,null,null,null,null,null,null,null,null,null,null,null,null,null,null,null,null,null,null,null,null,null,null,null,null,null,null,null,null,null,null,null,null,null,null,null,null,null,null,null,null,null,null,null,null,null,null,null,null,null,null,null,null,null,null,null,null,null,null,null,null,null,null,null,null,null,null,null,null,null,null,null,null,null,null,null,null,null,null,null,null,null,null,null,null,null,null,null,null,null,null,null,null,null,null,null,"South central","PPI"]
[null,null,"Milo - hauling - $/bu",{"$f":"EXP(D46 + E46*Prices!$D$2 + F46*Prices!$D$4 + G46) * I46","v":19.909475073122042},{"$f":"EXP(J46 + K46*Prices!$D$2 + L46*Prices!$D$4 + M46) * O46","v":20.369270120598088},{"$f":"EXP(P46 + Q46*Prices!$D$2 + R46*Prices!$D$4 + S46) * U46","v":20.610815900201555},{"$f":"EXP(V46 + W46*Prices!$D$2 + X46*Prices!$D$4 + Y46) * AA46","v":19.790043106063308},{"$f":"EXP(AB46 + AC46*Prices!$D$2 + AD46*Prices!$D$4 + AE46) * AG46","v":20.093092421901233},{"$f":"EXP(AH46 + AI46*Prices!$D$2 + AJ46*Prices!$D$4 + AK46) * AM46","v":20.023153036027264},{"$f":"EXP(AN46 + AO46*Prices!$D$2 + AP46*Prices!$D$4 + AQ46) * AS46","v":20.414527941253052},{"$f":"EXP(AT46 + AU46*Prices!$D$2 + AV46*Prices!$D$4 + AW46) * AY46","v":19.917134250357243},{"$f":"EXP(AZ46 + BA46*Prices!$D$2 + BB46*Prices!$D$4 + BC46) * BE46","v":18.200692468283787},{"$f":"EXP(BF46 + BG46*Prices!$D$2 + BH46*Prices!$D$4 + BI46) * BK46","v":19.335683700531089},{"$f":"EXP(BL46 + BM46*Prices!$D$2 + BN46*Prices!$D$4 + BO46) * BQ46","v":20.489687076115228},{"$f":"EXP(BR46 + BS46*Prices!$D$2 + BT46*Prices!$D$4 + BU46) * BW46","v":20.196260424051967},{"$f":"EXP(BX46 + BY46*Prices!$D$2 + BZ46*Prices!$D$4 + CA46) * CC46","v":20.253766427257816},{"$f":"EXP(CD46 + CE46*Prices!$D$2 + CF46*Prices!$D$4 + CG46) * CI46","v":20.093092421901233},{"$f":"EXP(CJ46 + CK46*Prices!$D$2 + CL46*Prices!$D$4 + CM46) * CO46","v":20.414527941253052},{"$f":"EXP(CP46 + CQ46*Prices!$D$2 + CR46*Prices!$D$4 + CS46) * CU46","v":20.253172508846188},{"$f":"EXP(CV46 + CW46*Prices!$D$2 + CX46*Prices!$D$4 + CY46) * DA46","v":19.039580755370487},{"$f":"EXP(DB46 + DC46*Prices!$D$2 + DD46*Prices!$D$4 + DE46) * DG46","v":18.759606411046416},{"$f":"EXP(DH46 + DI46*Prices!$D$2 + DJ46*Prices!$D$4 + DK46) * DM46","v":19.137774447720645},null,null,null,null,null,null,null,null,null,null,null,null,null,null,null,null,null,null,null,null,null,null,null,null,null,null,null,null,null,null,null,null,null,null,null,null,null,null,null,null,null,null,null,null,null,null,null,null,null,null,null,null,null,null,null,null,null,null,null,null,null,null,null,null,null,null,null,null,null,null,null,null,null,null,null,null,null,null,null,null,null,null,null,null,null,null,null,null,null,null,null,null,null,null,null,null,null,"South central","fuel"]
[null,null,"Corn - hauling - $/bu",{"$f":"EXP(D47 + E47*Prices!$D$2 + F47*Prices!$D$4 + G47) * I47","v":17.002097197705499},{"$f":"EXP(J47 + K47*Prices!$D$2 + L47*Prices!$D$4 + M47) * O47","v":16.514196283940453},{"$f":"EXP(P47 + Q47*Prices!$D$2 + R47*Prices!$D$4 + S47) * U47","v":17.526811250540142},{"$f":"EXP(V47 + W47*Prices!$D$2 + X47*Prices!$D$4 + Y47) * AA47","v":15.975210683055948},{"$f":"EXP(AB47 + AC47*Prices!$D$2 + AD47*Prices!$D$4 + AE47) * AG47","v":17.134760379311732},{"$f":"EXP(AH47 + AI47*Prices!$D$2 + AJ47*Prices!$D$4 + AK47) * AM47","v":16.871123726666429},{"$f":"EXP(AN47 + AO47*Prices!$D$2 + AP47*Prices!$D$4 + AQ47) * AS47","v":15.490331096620391},{"$f":"EXP(AT47 + AU47*Prices!$D$2 + AV47*Prices!$D$4 + AW47) * AY47","v":17.426122974844969},{"$f":"EXP(AZ47 + BA47*Prices!$D$2 + BB47*Prices!$D$4 + BC47) * BE47","v":16.157762292884406},{"$f":"EXP(BF47 + BG47*Prices!$D$2 + BH47*Prices!$D$4 + BI47) * BK47","v":16.347887072550822},{"$f":"EXP(BL47 + BM47*Prices!$D$2 + BN47*Prices!$D$4 + BO47) * BQ47","v":17.012971557696584},{"$f":"EXP(BR47 + BS47*Prices!$D$2 + BT47*Prices!$D$4 + BU47) * BW47","v":16.7330362555495},{"$f":"EXP(BX47 + BY47*Prices!$D$2 + BZ47*Prices!$D$4 + CA47) * CC47","v":16.65976926092539},{"$f":"EXP(CD47 + CE47*Prices!$D$2 + CF47*Prices!$D$4 + CG47) * CI47","v":17.134760379311732},{"$f":"EXP(CJ47 + CK47*Prices!$D$2 + CL47*Prices!$D$4 + CM47) * CO47","v":15.490331096620391},{"$f":"EXP(CP47 + CQ47*Prices!$D$2 + CR47*Prices!$D$4 + CS47) * CU47","v":16.291811180368935},{"$f":"EXP(CV47 + CW47*Prices!$D$2 + CX47*Prices!$D$4 + CY47) * DA47","v":16.77996283411003},{"$f":"EXP(DB47 + DC47*Prices!$D$2 + DD47*Prices!$D$4 + DE47) * DG47","v":16.252546671497182},{"$f":"EXP(DH47 + DI47*Prices!$D$2 + DJ47*Prices!$D$4 + DK47) * DM47","v":16.634683393678078},null,null,null,null,null,null,null,null,null,null,null,null,null,null,null,null,null,null,null,null,null,null,null,null,null,null,null,null,null,null,null,null,null,null,null,null,null,null,null,null,null,null,null,null,null,null,null,null,null,null,null,null,null,null,null,null,null,null,null,null,null,null,null,null,null,null,null,null,null,null,null,null,null,null,null,null,null,null,null,null,null,null,null,null,null,null,null,null,null,null,null,null,null,null,null,null,null,"South central","Adjustment factor"]
[null,null,"Soybeans - hauling - $/bu",{"$f":"EXP(D48 + E48*Prices!$D$2 + F48*Prices!$D$4 + G48) * I48","v":18.08070812287615},{"$f":"EXP(J48 + K48*Prices!$D$2 + L48*Prices!$D$4 + M48) * O48","v":18.285051315032785},{"$f":"EXP(P48 + Q48*Prices!$D$2 + R48*Prices!$D$4 + S48) * U48","v":18.505830249646795},{"$f":"EXP(V48 + W48*Prices!$D$2 + X48*Prices!$D$4 + Y48) * AA48","v":18.071225970532659},{"$f":"EXP(AB48 + AC48*Prices!$D$2 + AD48*Prices!$D$4 + AE48) * AG48","v":18.574270345796091},{"$f":"EXP(AH48 + AI48*Prices!$D$2 + AJ48*Prices!$D$4 + AK48) * AM48","v":18.578431765461509},{"$f":"EXP(AN48 + AO48*Prices!$D$2 + AP48*Prices!$D$4 + AQ48) * AS48","v":18.822139128481624},{"$f":"EXP(AT48 + AU48*Prices!$D$2 + AV48*Prices!$D$4 + AW48) * AY48","v":18.575853629732851},{"$f":"EXP(AZ48 + BA48*Prices!$D$2 + BB48*Prices!$D$4 + BC48) * BE48","v":17.316925049715813},{"$f":"EXP(BF48 + BG48*Prices!$D$2 + BH48*Prices!$D$4 + BI48) * BK48","v":18.5609764206181},{"$f":"EXP(BL48 + BM48*Prices!$D$2 + BN48*Prices!$D$4 + BO48) * BQ48","v":18.395109560480311},{"$f":"EXP(BR48 + BS48*Prices!$D$2 + BT48*Prices!$D$4 + BU48) * BW48","v":18.287237085292098},{"$f":"EXP(BX48 + BY48*Prices!$D$2 + BZ48*Prices!$D$4 + CA48) * CC48","v":18.286508466175711},{"$f":"EXP(CD48 + CE48*Prices!$D$2 + CF48*Prices!$D$4 + CG48) * CI48","v":18.574270345796091},{"$f":"EXP(CJ48 + CK48*Prices!$D$2 + CL48*Prices!$D$4 + CM48) * CO48","v":18.822139128481624},{"$f":"EXP(CP48 + CQ48*Prices!$D$2 + CR48*Prices!$D$4 + CS48) * CU48","v":18.697794005138832},{"$f":"EXP(CV48 + CW48*Prices!$D$2 + CX48*Prices!$D$4 + CY48) * DA48","v":17.935346805695506},{"$f":"EXP(DB48 + DC48*Prices!$D$2 + DD48*Prices!$D$4 + DE48) * DG48","v":17.928163250187772},{"$f":"EXP(DH48 + DI48*Prices!$D$2 + DJ48*Prices!$D$4 + DK48) * DM48","v":18.141511100738452},null,null,null,null,null,null,null,null,null,null,null,null,null,null,null,null,null,null,null,null,null,null,null,null,null,null,null,null,null,null,null,null,null,null,null,null,null,null,null,null,null,null,null,null,null,null,null,null,null,null,null,null,null,null,null,null,null,null,null,null,null,null,null,null,null,null,null,null,null,null,null,null,null,null,null,null,null,null,null,null,null,null,null,null,null,null,null,null,null,null,null,null,null,null,null,null,null,"South central","RMSE"]
[null,null,"Sunflower - hauling - $/bu",{"$f":"EXP(D49 + E49*Prices!$D$2 + F49*Prices!$D$4 + G49) * I49","v":29.281203088184288},{"$f":"EXP(J49 + K49*Prices!$D$2 + L49*Prices!$D$4 + M49) * O49","v":44.329677272178543},{"$f":"EXP(P49 + Q49*Prices!$D$2 + R49*Prices!$D$4 + S49) * U49","v":44.329677272178543},{"$f":"EXP(V49 + W49*Prices!$D$2 + X49*Prices!$D$4 + Y49) * AA49","v":44.676047790446447},{"$f":"EXP(AB49 + AC49*Prices!$D$2 + AD49*Prices!$D$4 + AE49) * AG49","v":40.931603441197908},{"$f":"EXP(AH49 + AI49*Prices!$D$2 + AJ49*Prices!$D$4 + AK49) * AM49","v":40.931603441197993},{"$f":"EXP(AN49 + AO49*Prices!$D$2 + AP49*Prices!$D$4 + AQ49) * AS49","v":40.931603441197908},{"$f":"EXP(AT49 + AU49*Prices!$D$2 + AV49*Prices!$D$4 + AW49) * AY49","v":30.879884821505243},{"$f":"EXP(AZ49 + BA49*Prices!$D$2 + BB49*Prices!$D$4 + BC49) * BE49","v":30.879884821505243},{"$f":"EXP(BF49 + BG49*Prices!$D$2 + BH49*Prices!$D$4 + BI49) * BK49","v":30.879884821505243},{"$f":"EXP(BL49 + BM49*Prices!$D$2 + BN49*Prices!$D$4 + BO49) * BQ49","v":44.329677272178543},{"$f":"EXP(BR49 + BS49*Prices!$D$2 + BT49*Prices!$D$4 + BU49) * BW49","v":44.502525550208233},{"$f":"EXP(BX49 + BY49*Prices!$D$2 + BZ49*Prices!$D$4 + CA49) * CC49","v":44.444834702319227},{"$f":"EXP(CD49 + CE49*Prices!$D$2 + CF49*Prices!$D$4 + CG49) * CI49","v":40.931603441197908},{"$f":"EXP(CJ49 + CK49*Prices!$D$2 + CL49*Prices!$D$4 + CM49) * CO49","v":40.931603441197908},{"$f":"EXP(CP49 + CQ49*Prices!$D$2 + CR49*Prices!$D$4 + CS49) * CU49","v":40.931603441197908},{"$f":"EXP(CV49 + CW49*Prices!$D$2 + CX49*Prices!$D$4 + CY49) * DA49","v":30.879884821505243},{"$f":"EXP(DB49 + DC49*Prices!$D$2 + DD49*Prices!$D$4 + DE49) * DG49","v":30.879884821505243},{"$f":"EXP(DH49 + DI49*Prices!$D$2 + DJ49*Prices!$D$4 + DK49) * DM49","v":30.879884821505243},null,null,null,null,null,null,null,null,null,null,null,null,null,null,null,null,null,null,null,null,null,null,null,null,null,null,null,null,null,null,null,null,null,null,null,null,null,null,null,null,null,null,null,null,null,null,null,null,null,null,null,null,null,null,null,null,null,null,null,null,null,null,null,null,null,null,null,null,null,null,null,null,null,null,null,null,null,null,null,null,null,null,null,null,null,null,null,null,null,null,null,null,null,null,null,null,null,"South central","LN adjustment"]
[null,"Hay","Rotary mow, $/acre",{"$f":"EXP(D50 + E50*Prices!$D$2 + F50*Prices!$D$4 + G50) * I50","v":14.386337459944601},{"$f":"EXP(J50 + K50*Prices!$D$2 + L50*Prices!$D$4 + M50) * O50","v":13.883629590169843},{"$f":"EXP(P50 + Q50*Prices!$D$2 + R50*Prices!$D$4 + S50) * U50","v":13.717654319916059},{"$f":"EXP(V50 + W50*Prices!$D$2 + X50*Prices!$D$4 + Y50) * AA50","v":14.360464095771874},{"$f":"EXP(AB50 + AC50*Prices!$D$2 + AD50*Prices!$D$4 + AE50) * AG50","v":13.524419127416241},{"$f":"EXP(AH50 + AI50*Prices!$D$2 + AJ50*Prices!$D$4 + AK50) * AM50","v":13.361850002258484},{"$f":"EXP(AN50 + AO50*Prices!$D$2 + AP50*Prices!$D$4 + AQ50) * AS50","v":13.397534650776647},{"$f":"EXP(AT50 + AU50*Prices!$D$2 + AV50*Prices!$D$4 + AW50) * AY50","v":14.010898986039443},{"$f":"EXP(AZ50 + BA50*Prices!$D$2 + BB50*Prices!$D$4 + BC50) * BE50","v":15.576820077349753},{"$f":"EXP(BF50 + BG50*Prices!$D$2 + BH50*Prices!$D$4 + BI50) * BK50","v":13.701499107391459},{"$f":"EXP(BL50 + BM50*Prices!$D$2 + BN50*Prices!$D$4 + BO50) * BQ50","v":13.800392437308},{"$f":"EXP(BR50 + BS50*Prices!$D$2 + BT50*Prices!$D$4 + BU50) * BW50","v":14.035379664952581},{"$f":"EXP(BX50 + BY50*Prices!$D$2 + BZ50*Prices!$D$4 + CA50) * CC50","v":13.984612901829873},{"$f":"EXP(CD50 + CE50*Prices!$D$2 + CF50*Prices!$D$4 + CG50) * CI50","v":13.524419127416241},{"$f":"EXP(CJ50 + CK50*Prices!$D$2 + CL50*Prices!$D$4 + CM50) * CO50","v":13.397534650776647},{"$f":"EXP(CP50 + CQ50*Prices!$D$2 + CR50*Prices!$D$4 + CS50) * CU50","v":13.460827385089878},{"$f":"EXP(CV50 + CW50*Prices!$D$2 + CX50*Prices!$D$4 + CY50) * DA50","v":14.773126027603585},{"$f":"EXP(DB50 + DC50*Prices!$D$2 + DD50*Prices!$D$4 + DE50) * DG50","v":14.609099437877923},{"$f":"EXP(DH50 + DI50*Prices!$D$2 + DJ50*Prices!$D$4 + DK50) * DM50","v":14.406914012061296},null,null,null,null,null,null,null,null,null,null,null,null,null,null,null,null,null,null,null,null,null,null,null,null,null,null,null,null,null,null,null,null,null,null,null,null,null,null,null,null,null,null,null,null,null,null,null,null,null,null,null,null,null,null,null,null,null,null,null,null,null,null,null,null,null,null,null,null,null,null,null,null,null,null,null,null,null,null,null,null,null,null,null,null,null,null,null,null,null,null,null,null,null,null,null,null,null,"Central","Intercept"]
[null,null,"Rotary mow, $/hour",{"$f":"EXP(D51 + E51*Prices!$D$2 + F51*Prices!$D$4 + G51) * I51","v":142.4963336434551},{"$f":"EXP(J51 + K51*Prices!$D$2 + L51*Prices!$D$4 + M51) * O51","v":158.54562171331568},{"$f":"EXP(P51 + Q51*Prices!$D$2 + R51*Prices!$D$4 + S51) * U51","v":158.42029672383862},{"$f":"EXP(V51 + W51*Prices!$D$2 + X51*Prices!$D$4 + Y51) * AA51","v":157.0573512223535},{"$f":"EXP(AB51 + AC51*Prices!$D$2 + AD51*Prices!$D$4 + AE51) * AG51","v":138.95324311221782},{"$f":"EXP(AH51 + AI51*Prices!$D$2 + AJ51*Prices!$D$4 + AK51) * AM51","v":131.7708016248753},{"$f":"EXP(AN51 + AO51*Prices!$D$2 + AP51*Prices!$D$4 + AQ51) * AS51","v":140.99076489780461},{"$f":"EXP(AT51 + AU51*Prices!$D$2 + AV51*Prices!$D$4 + AW51) * AY51","v":137.80817777348554},{"$f":"EXP(AZ51 + BA51*Prices!$D$2 + BB51*Prices!$D$4 + BC51) * BE51","v":139.0384129421725},{"$f":"EXP(BF51 + BG51*Prices!$D$2 + BH51*Prices!$D$4 + BI51) * BK51","v":128.25096572659308},{"$f":"EXP(BL51 + BM51*Prices!$D$2 + BN51*Prices!$D$4 + BO51) * BQ51","v":158.48294683053101},{"$f":"EXP(BR51 + BS51*Prices!$D$2 + BT51*Prices!$D$4 + BU51) * BW51","v":157.73735189645271},{"$f":"EXP(BX51 + BY51*Prices!$D$2 + BZ51*Prices!$D$4 + CA51) * CC51","v":158.00631628592333},{"$f":"EXP(CD51 + CE51*Prices!$D$2 + CF51*Prices!$D$4 + CG51) * CI51","v":138.95324311221782},{"$f":"EXP(CJ51 + CK51*Prices!$D$2 + CL51*Prices!$D$4 + CM51) * CO51","v":140.99076489780461},{"$f":"EXP(CP51 + CQ51*Prices!$D$2 + CR51*Prices!$D$4 + CS51) * CU51","v":139.96829652254181},{"$f":"EXP(CV51 + CW51*Prices!$D$2 + CX51*Prices!$D$4 + CY51) * DA51","v":138.42192863877528},{"$f":"EXP(DB51 + DC51*Prices!$D$2 + DD51*Prices!$D$4 + DE51) * DG51","v":133.53580318748399},{"$f":"EXP(DH51 + DI51*Prices!$D$2 + DJ51*Prices!$D$4 + DK51) * DM51","v":134.9450044580926},null,null,null,null,null,null,null,null,null,null,null,null,null,null,null,null,null,null,null,null,null,null,null,null,null,null,null,null,null,null,null,null,null,null,null,null,null,null,null,null,null,null,null,null,null,null,null,null,null,null,null,null,null,null,null,null,null,null,null,null,null,null,null,null,null,null,null,null,null,null,null,null,null,null,null,null,null,null,null,null,null,null,null,null,null,null,null,null,null,null,null,null,null,null,null,null,null,"Central","PPI"]
[null,null,"Hay-mow/swath, $/acre",{"$f":"EXP(D52 + E52*Prices!$D$2 + F52*Prices!$D$4 + G52) * I52","v":13.843968394553221},{"$f":"EXP(J52 + K52*Prices!$D$2 + L52*Prices!$D$4 + M52) * O52","v":16.296676210939616},{"$f":"EXP(P52 + Q52*Prices!$D$2 + R52*Prices!$D$4 + S52) * U52","v":16.265828326869009},{"$f":"EXP(V52 + W52*Prices!$D$2 + X52*Prices!$D$4 + Y52) * AA52","v":15.708353463264254},{"$f":"EXP(AB52 + AC52*Prices!$D$2 + AD52*Prices!$D$4 + AE52) * AG52","v":14.606198736172486},{"$f":"EXP(AH52 + AI52*Prices!$D$2 + AJ52*Prices!$D$4 + AK52) * AM52","v":15.000830595166139},{"$f":"EXP(AN52 + AO52*Prices!$D$2 + AP52*Prices!$D$4 + AQ52) * AS52","v":15.367708365983143},{"$f":"EXP(AT52 + AU52*Prices!$D$2 + AV52*Prices!$D$4 + AW52) * AY52","v":15.434523137270855},{"$f":"EXP(AZ52 + BA52*Prices!$D$2 + BB52*Prices!$D$4 + BC52) * BE52","v":14.198351333332422},{"$f":"EXP(BF52 + BG52*Prices!$D$2 + BH52*Prices!$D$4 + BI52) * BK52","v":14.545871731725224},{"$f":"EXP(BL52 + BM52*Prices!$D$2 + BN52*Prices!$D$4 + BO52) * BQ52","v":16.281244963015382},{"$f":"EXP(BR52 + BS52*Prices!$D$2 + BT52*Prices!$D$4 + BU52) * BW52","v":15.984660795000769},{"$f":"EXP(BX52 + BY52*Prices!$D$2 + BZ52*Prices!$D$4 + CA52) * CC52","v":16.087996462408569},{"$f":"EXP(CD52 + CE52*Prices!$D$2 + CF52*Prices!$D$4 + CG52) * CI52","v":14.606198736172486},{"$f":"EXP(CJ52 + CK52*Prices!$D$2 + CL52*Prices!$D$4 + CM52) * CO52","v":15.367708365983143},{"$f":"EXP(CP52 + CQ52*Prices!$D$2 + CR52*Prices!$D$4 + CS52) * CU52","v":14.982116089294275},{"$f":"EXP(CV52 + CW52*Prices!$D$2 + CX52*Prices!$D$4 + CY52) * DA52","v":14.803539514772122},{"$f":"EXP(DB52 + DC52*Prices!$D$2 + DD52*Prices!$D$4 + DE52) * DG52","v":14.371061105451581},{"$f":"EXP(DH52 + DI52*Prices!$D$2 + DJ52*Prices!$D$4 + DK52) * DM52","v":14.717147053954577},null,null,null,null,null,null,null,null,null,null,null,null,null,null,null,null,null,null,null,null,null,null,null,null,null,null,null,null,null,null,null,null,null,null,null,null,null,null,null,null,null,null,null,null,null,null,null,null,null,null,null,null,null,null,null,null,null,null,null,null,null,null,null,null,null,null,null,null,null,null,null,null,null,null,null,null,null,null,null,null,null,null,null,null,null,null,null,null,null,null,null,null,null,null,null,null,null,"Central","fuel"]
[null,null,"Forage-mow/swath, $/acre",{"$f":"EXP(D53 + E53*Prices!$D$2 + F53*Prices!$D$4 + G53) * I53","v":18.710962125918147},{"$f":"EXP(J53 + K53*Prices!$D$2 + L53*Prices!$D$4 + M53) * O53","v":14.36074214607245},{"$f":"EXP(P53 + Q53*Prices!$D$2 + R53*Prices!$D$4 + S53) * U53","v":13.72472445102494},{"$f":"EXP(V53 + W53*Prices!$D$2 + X53*Prices!$D$4 + Y53) * AA53","v":13.815743382916422},{"$f":"EXP(AB53 + AC53*Prices!$D$2 + AD53*Prices!$D$4 + AE53) * AG53","v":13.300868259499261},{"$f":"EXP(AH53 + AI53*Prices!$D$2 + AJ53*Prices!$D$4 + AK53) * AM53","v":13.148330662736987},{"$f":"EXP(AN53 + AO53*Prices!$D$2 + AP53*Prices!$D$4 + AQ53) * AS53","v":13.231200090032473},{"$f":"EXP(AT53 + AU53*Prices!$D$2 + AV53*Prices!$D$4 + AW53) * AY53","v":11.918521703290722},{"$f":"EXP(AZ53 + BA53*Prices!$D$2 + BB53*Prices!$D$4 + BC53) * BE53","v":11.75162382326009},{"$f":"EXP(BF53 + BG53*Prices!$D$2 + BH53*Prices!$D$4 + BI53) * BK53","v":11.695591240815329},{"$f":"EXP(BL53 + BM53*Prices!$D$2 + BN53*Prices!$D$4 + BO53) * BQ53","v":14.039132055332514},{"$f":"EXP(BR53 + BS53*Prices!$D$2 + BT53*Prices!$D$4 + BU53) * BW53","v":13.770158714284996},{"$f":"EXP(BX53 + BY53*Prices!$D$2 + BZ53*Prices!$D$4 + CA53) * CC53","v":13.964270688105747},{"$f":"EXP(CD53 + CE53*Prices!$D$2 + CF53*Prices!$D$4 + CG53) * CI53","v":13.300868259499261},{"$f":"EXP(CJ53 + CK53*Prices!$D$2 + CL53*Prices!$D$4 + CM53) * CO53","v":13.231200090032473},{"$f":"EXP(CP53 + CQ53*Prices!$D$2 + CR53*Prices!$D$4 + CS53) * CU53","v":13.265988440843628},{"$f":"EXP(CV53 + CW53*Prices!$D$2 + CX53*Prices!$D$4 + CY53) * DA53","v":11.834778560937828},{"$f":"EXP(DB53 + DC53*Prices!$D$2 + DD53*Prices!$D$4 + DE53) * DG53","v":11.723574056262766},{"$f":"EXP(DH53 + DI53*Prices!$D$2 + DJ53*Prices!$D$4 + DK53) * DM53","v":11.788199704838794},null,null,null,null,null,null,null,null,null,null,null,null,null,null,null,null,null,null,null,null,null,null,null,null,null,null,null,null,null,null,null,null,null,null,null,null,null,null,null,null,null,null,null,null,null,null,null,null,null,null,null,null,null,null,null,null,null,null,null,null,null,null,null,null,null,null,null,null,null,null,null,null,null,null,null,null,null,null,null,null,null,null,null,null,null,null,null,null,null,null,null,null,null,null,null,null,null,"Central","Adjustment factor"]
[null,null,"Swathing and condition, $/acre",{"$f":"EXP(D54 + E54*Prices!$D$2 + F54*Prices!$D$4 + G54) * I54","v":17.118971193205578},{"$f":"EXP(J54 + K54*Prices!$D$2 + L54*Prices!$D$4 + M54) * O54","v":17.212510975630572},{"$f":"EXP(P54 + Q54*Prices!$D$2 + R54*Prices!$D$4 + S54) * U54","v":17.189190547364095},{"$f":"EXP(V54 + W54*Prices!$D$2 + X54*Prices!$D$4 + Y54) * AA54","v":16.493357658594032},{"$f":"EXP(AB54 + AC54*Prices!$D$2 + AD54*Prices!$D$4 + AE54) * AG54","v":15.331957104050977},{"$f":"EXP(AH54 + AI54*Prices!$D$2 + AJ54*Prices!$D$4 + AK54) * AM54","v":15.689436534587387},{"$f":"EXP(AN54 + AO54*Prices!$D$2 + AP54*Prices!$D$4 + AQ54) * AS54","v":16.130765992725351},{"$f":"EXP(AT54 + AU54*Prices!$D$2 + AV54*Prices!$D$4 + AW54) * AY54","v":16.416557787741688},{"$f":"EXP(AZ54 + BA54*Prices!$D$2 + BB54*Prices!$D$4 + BC54) * BE54","v":15.294734803920699},{"$f":"EXP(BF54 + BG54*Prices!$D$2 + BH54*Prices!$D$4 + BI54) * BK54","v":16.278440941251489},{"$f":"EXP(BL54 + BM54*Prices!$D$2 + BN54*Prices!$D$4 + BO54) * BQ54","v":17.200846809349528},{"$f":"EXP(BR54 + BS54*Prices!$D$2 + BT54*Prices!$D$4 + BU54) * BW54","v":16.83767999337794},{"$f":"EXP(BX54 + BY54*Prices!$D$2 + BZ54*Prices!$D$4 + CA54) * CC54","v":16.961707811198419},{"$f":"EXP(CD54 + CE54*Prices!$D$2 + CF54*Prices!$D$4 + CG54) * CI54","v":15.331957104050977},{"$f":"EXP(CJ54 + CK54*Prices!$D$2 + CL54*Prices!$D$4 + CM54) * CO54","v":16.130765992725351},{"$f":"EXP(CP54 + CQ54*Prices!$D$2 + CR54*Prices!$D$4 + CS54) * CU54","v":15.726290479828652},{"$f":"EXP(CV54 + CW54*Prices!$D$2 + CX54*Prices!$D$4 + CY54) * DA54","v":15.845721749316068},{"$f":"EXP(DB54 + DC54*Prices!$D$2 + DD54*Prices!$D$4 + DE54) * DG54","v":15.778923829517868},{"$f":"EXP(DH54 + DI54*Prices!$D$2 + DJ54*Prices!$D$4 + DK54) * DM54","v":15.988668064971893},null,null,null,null,null,null,null,null,null,null,null,null,null,null,null,null,null,null,null,null,null,null,null,null,null,null,null,null,null,null,null,null,null,null,null,null,null,null,null,null,null,null,null,null,null,null,null,null,null,null,null,null,null,null,null,null,null,null,null,null,null,null,null,null,null,null,null,null,null,null,null,null,null,null,null,null,null,null,null,null,null,null,null,null,null,null,null,null,null,null,null,null,null,null,null,null,null,"Central","RMSE"]
[null,null,"Sideraking hay, $/acre",{"$f":"EXP(D55 + E55*Prices!$D$2 + F55*Prices!$D$4 + G55) * I55","v":4.118529978879172},{"$f":"EXP(J55 + K55*Prices!$D$2 + L55*Prices!$D$4 + M55) * O55","v":5.1469710497109089},{"$f":"EXP(P55 + Q55*Prices!$D$2 + R55*Prices!$D$4 + S55) * U55","v":4.5056933003238173},{"$f":"EXP(V55 + W55*Prices!$D$2 + X55*Prices!$D$4 + Y55) * AA55","v":4.5645086540259845},{"$f":"EXP(AB55 + AC55*Prices!$D$2 + AD55*Prices!$D$4 + AE55) * AG55","v":4.0070527857965015},{"$f":"EXP(AH55 + AI55*Prices!$D$2 + AJ55*Prices!$D$4 + AK55) * AM55","v":4.171406578647229},{"$f":"EXP(AN55 + AO55*Prices!$D$2 + AP55*Prices!$D$4 + AQ55) * AS55","v":4.1614306939528216},{"$f":"EXP(AT55 + AU55*Prices!$D$2 + AV55*Prices!$D$4 + AW55) * AY55","v":4.4235838483327994},{"$f":"EXP(AZ55 + BA55*Prices!$D$2 + BB55*Prices!$D$4 + BC55) * BE55","v":4.3578726804515364},{"$f":"EXP(BF55 + BG55*Prices!$D$2 + BH55*Prices!$D$4 + BI55) * BK55","v":4.5316779394126856},{"$f":"EXP(BL55 + BM55*Prices!$D$2 + BN55*Prices!$D$4 + BO55) * BQ55","v":4.8156695251691737},{"$f":"EXP(BR55 + BS55*Prices!$D$2 + BT55*Prices!$D$4 + BU55) * BW55","v":4.535005629733547},{"$f":"EXP(BX55 + BY55*Prices!$D$2 + BZ55*Prices!$D$4 + CA55) * CC55","v":4.7304500625853159},{"$f":"EXP(CD55 + CE55*Prices!$D$2 + CF55*Prices!$D$4 + CG55) * CI55","v":4.0070527857965015},{"$f":"EXP(CJ55 + CK55*Prices!$D$2 + CL55*Prices!$D$4 + CM55) * CO55","v":4.1614306939528216},{"$f":"EXP(CP55 + CQ55*Prices!$D$2 + CR55*Prices!$D$4 + CS55) * CU55","v":4.0835122694933492},{"$f":"EXP(CV55 + CW55*Prices!$D$2 + CX55*Prices!$D$4 + CY55) * DA55","v":4.3906053343857021},{"$f":"EXP(DB55 + DC55*Prices!$D$2 + DD55*Prices!$D$4 + DE55) * DG55","v":4.4439256844339168},{"$f":"EXP(DH55 + DI55*Prices!$D$2 + DJ55*Prices!$D$4 + DK55) * DM55","v":4.4371347000445853},null,null,null,null,null,null,null,null,null,null,null,null,null,null,null,null,null,null,null,null,null,null,null,null,null,null,null,null,null,null,null,null,null,null,null,null,null,null,null,null,null,null,null,null,null,null,null,null,null,null,null,null,null,null,null,null,null,null,null,null,null,null,null,null,null,null,null,null,null,null,null,null,null,null,null,null,null,null,null,null,null,null,null,null,null,null,null,null,null,null,null,null,null,null,null,null,null,"Central","LN adjustment"]
[null,null,"Small square with twine, $/bale",{"$f":"EXP(D56 + E56*Prices!$D$2 + F56*Prices!$D$4 + G56) * I56","v":1.5443613424941529},{"$f":"EXP(J56 + K56*Prices!$D$2 + L56*Prices!$D$4 + M56) * O56","v":1.3124362959055227},{"$f":"EXP(P56 + Q56*Prices!$D$2 + R56*Prices!$D$4 + S56) * U56","v":1.3762024483535398},{"$f":"EXP(V56 + W56*Prices!$D$2 + X56*Prices!$D$4 + Y56) * AA56","v":1.4363942910151037},{"$f":"EXP(AB56 + AC56*Prices!$D$2 + AD56*Prices!$D$4 + AE56) * AG56","v":1.1922636950449603},{"$f":"EXP(AH56 + AI56*Prices!$D$2 + AJ56*Prices!$D$4 + AK56) * AM56","v":1.410940718055115},{"$f":"EXP(AN56 + AO56*Prices!$D$2 + AP56*Prices!$D$4 + AQ56) * AS56","v":1.185815749380386},{"$f":"EXP(AT56 + AU56*Prices!$D$2 + AV56*Prices!$D$4 + AW56) * AY56","v":1.2254976052120354},{"$f":"EXP(AZ56 + BA56*Prices!$D$2 + BB56*Prices!$D$4 + BC56) * BE56","v":1.3697096757239138},{"$f":"EXP(BF56 + BG56*Prices!$D$2 + BH56*Prices!$D$4 + BI56) * BK56","v":1.3346077398555136},{"$f":"EXP(BL56 + BM56*Prices!$D$2 + BN56*Prices!$D$4 + BO56) * BQ56","v":1.343941235223189},{"$f":"EXP(BR56 + BS56*Prices!$D$2 + BT56*Prices!$D$4 + BU56) * BW56","v":1.4059762942866543},{"$f":"EXP(BX56 + BY56*Prices!$D$2 + BZ56*Prices!$D$4 + CA56) * CC56","v":1.3740780738863869},{"$f":"EXP(CD56 + CE56*Prices!$D$2 + CF56*Prices!$D$4 + CG56) * CI56","v":1.1922636950449603},{"$f":"EXP(CJ56 + CK56*Prices!$D$2 + CL56*Prices!$D$4 + CM56) * CO56","v":1.185815749380386},{"$f":"EXP(CP56 + CQ56*Prices!$D$2 + CR56*Prices!$D$4 + CS56) * CU56","v":1.1890353514503964},{"$f":"EXP(CV56 + CW56*Prices!$D$2 + CX56*Prices!$D$4 + CY56) * DA56","v":1.2955986752985702},{"$f":"EXP(DB56 + DC56*Prices!$D$2 + DD56*Prices!$D$4 + DE56) * DG56","v":1.3520447975478183},{"$f":"EXP(DH56 + DI56*Prices!$D$2 + DJ56*Prices!$D$4 + DK56) * DM56","v":1.3084733346093425},null,null,null,null,null,null,null,null,null,null,null,null,null,null,null,null,null,null,null,null,null,null,null,null,null,null,null,null,null,null,null,null,null,null,null,null,null,null,null,null,null,null,null,null,null,null,null,null,null,null,null,null,null,null,null,null,null,null,null,null,null,null,null,null,null,null,null,null,null,null,null,null,null,null,null,null,null,null,null,null,null,null,null,null,null,null,null,null,null,null,null,null,null,null,null,null,null,"Northeast","Intercept"]
[null,null,"Small square with wire, $/bale",{"$f":"EXP(D57 + E57*Prices!$D$2 + F57*Prices!$D$4 + G57) * I57","v":1.3293198116000373},{"$f":"EXP(J57 + K57*Prices!$D$2 + L57*Prices!$D$4 + M57) * O57","v":1.2976818170168023},{"$f":"EXP(P57 + Q57*Prices!$D$2 + R57*Prices!$D$4 + S57) * U57","v":1.3922049133753487},{"$f":"EXP(V57 + W57*Prices!$D$2 + X57*Prices!$D$4 + Y57) * AA57","v":1.3787694534410864},{"$f":"EXP(AB57 + AC57*Prices!$D$2 + AD57*Prices!$D$4 + AE57) * AG57","v":1.4957985897415327},{"$f":"EXP(AH57 + AI57*Prices!$D$2 + AJ57*Prices!$D$4 + AK57) * AM57","v":1.2843885184523887},{"$f":"EXP(AN57 + AO57*Prices!$D$2 + AP57*Prices!$D$4 + AQ57) * AS57","v":1.2150928285378666},{"$f":"EXP(AT57 + AU57*Prices!$D$2 + AV57*Prices!$D$4 + AW57) * AY57","v":1.2318463075484056},{"$f":"EXP(AZ57 + BA57*Prices!$D$2 + BB57*Prices!$D$4 + BC57) * BE57","v":1.2634275923007576},{"$f":"EXP(BF57 + BG57*Prices!$D$2 + BH57*Prices!$D$4 + BI57) * BK57","v":1.2439441551649029},{"$f":"EXP(BL57 + BM57*Prices!$D$2 + BN57*Prices!$D$4 + BO57) * BQ57","v":1.3441127191008357},{"$f":"EXP(BR57 + BS57*Prices!$D$2 + BT57*Prices!$D$4 + BU57) * BW57","v":1.3854708973820147},{"$f":"EXP(BX57 + BY57*Prices!$D$2 + BZ57*Prices!$D$4 + CA57) * CC57","v":1.3555670740670529},{"$f":"EXP(CD57 + CE57*Prices!$D$2 + CF57*Prices!$D$4 + CG57) * CI57","v":1.4957985897415327},{"$f":"EXP(CJ57 + CK57*Prices!$D$2 + CL57*Prices!$D$4 + CM57) * CO57","v":1.2150928285378666},{"$f":"EXP(CP57 + CQ57*Prices!$D$2 + CR57*Prices!$D$4 + CS57) * CU57","v":1.3481595377892006},{"$f":"EXP(CV57 + CW57*Prices!$D$2 + CX57*Prices!$D$4 + CY57) * DA57","v":1.247537019262539},{"$f":"EXP(DB57 + DC57*Prices!$D$2 + DD57*Prices!$D$4 + DE57) * DG57","v":1.2536480243340207},{"$f":"EXP(DH57 + DI57*Prices!$D$2 + DJ57*Prices!$D$4 + DK57) * DM57","v":1.2463382463507082},null,null,null,null,null,null,null,null,null,null,null,null,null,null,null,null,null,null,null,null,null,null,null,null,null,null,null,null,null,null,null,null,null,null,null,null,null,null,null,null,null,null,null,null,null,null,null,null,null,null,null,null,null,null,null,null,null,null,null,null,null,null,null,null,null,null,null,null,null,null,null,null,null,null,null,null,null,null,null,null,null,null,null,null,null,null,null,null,null,null,null,null,null,null,null,null,null,"Northeast","PPI"]
[null,null,"Round (< 1500 lbs) w/o net, $/bale",{"$f":"EXP(D58 + E58*Prices!$D$2 + F58*Prices!$D$4 + G58) * I58","v":13.180282552391956},{"$f":"EXP(J58 + K58*Prices!$D$2 + L58*Prices!$D$4 + M58) * O58","v":11.948442560682366},{"$f":"EXP(P58 + Q58*Prices!$D$2 + R58*Prices!$D$4 + S58) * U58","v":12.34926698947854},{"$f":"EXP(V58 + W58*Prices!$D$2 + X58*Prices!$D$4 + Y58) * AA58","v":15.463772330273549},{"$f":"EXP(AB58 + AC58*Prices!$D$2 + AD58*Prices!$D$4 + AE58) * AG58","v":12.065445136214004},{"$f":"EXP(AH58 + AI58*Prices!$D$2 + AJ58*Prices!$D$4 + AK58) * AM58","v":12.756459786647905},{"$f":"EXP(AN58 + AO58*Prices!$D$2 + AP58*Prices!$D$4 + AQ58) * AS58","v":13.100824645105117},{"$f":"EXP(AT58 + AU58*Prices!$D$2 + AV58*Prices!$D$4 + AW58) * AY58","v":12.645034749923143},{"$f":"EXP(AZ58 + BA58*Prices!$D$2 + BB58*Prices!$D$4 + BC58) * BE58","v":13.112823063348561},{"$f":"EXP(BF58 + BG58*Prices!$D$2 + BH58*Prices!$D$4 + BI58) * BK58","v":13.784721487339011},{"$f":"EXP(BL58 + BM58*Prices!$D$2 + BN58*Prices!$D$4 + BO58) * BQ58","v":12.147201623843872},{"$f":"EXP(BR58 + BS58*Prices!$D$2 + BT58*Prices!$D$4 + BU58) * BW58","v":13.819053989729495},{"$f":"EXP(BX58 + BY58*Prices!$D$2 + BZ58*Prices!$D$4 + CA58) * CC58","v":13.165053927710233},{"$f":"EXP(CD58 + CE58*Prices!$D$2 + CF58*Prices!$D$4 + CG58) * CI58","v":12.065445136214004},{"$f":"EXP(CJ58 + CK58*Prices!$D$2 + CL58*Prices!$D$4 + CM58) * CO58","v":13.100824645105117},{"$f":"EXP(CP58 + CQ58*Prices!$D$2 + CR58*Prices!$D$4 + CS58) * CU58","v":12.572481099396258},{"$f":"EXP(CV58 + CW58*Prices!$D$2 + CX58*Prices!$D$4 + CY58) * DA58","v":12.876804856238063},{"$f":"EXP(DB58 + DC58*Prices!$D$2 + DD58*Prices!$D$4 + DE58) * DG58","v":13.444575628892695},{"$f":"EXP(DH58 + DI58*Prices!$D$2 + DJ58*Prices!$D$4 + DK58) * DM58","v":13.172597083428878},null,null,null,null,null,null,null,null,null,null,null,null,null,null,null,null,null,null,null,null,null,null,null,null,null,null,null,null,null,null,null,null,null,null,null,null,null,null,null,null,null,null,null,null,null,null,null,null,null,null,null,null,null,null,null,null,null,null,null,null,null,null,null,null,null,null,null,null,null,null,null,null,null,null,null,null,null,null,null,null,null,null,null,null,null,null,null,null,null,null,null,null,null,null,null,null,null,"Northeast","fuel"]
[null,null,"Round (< 1500 lbs) w/ net, $/bale",{"$f":"EXP(D59 + E59*Prices!$D$2 + F59*Prices!$D$4 + G59) * I59","v":12.898471822305837},{"$f":"EXP(J59 + K59*Prices!$D$2 + L59*Prices!$D$4 + M59) * O59","v":10.457064362186383},{"$f":"EXP(P59 + Q59*Prices!$D$2 + R59*Prices!$D$4 + S59) * U59","v":10.886154707743863},{"$f":"EXP(V59 + W59*Prices!$D$2 + X59*Prices!$D$4 + Y59) * AA59","v":11.488631228139147},{"$f":"EXP(AB59 + AC59*Prices!$D$2 + AD59*Prices!$D$4 + AE59) * AG59","v":10.912632166122886},{"$f":"EXP(AH59 + AI59*Prices!$D$2 + AJ59*Prices!$D$4 + AK59) * AM59","v":11.083749876121397},{"$f":"EXP(AN59 + AO59*Prices!$D$2 + AP59*Prices!$D$4 + AQ59) * AS59","v":11.334425993993218},{"$f":"EXP(AT59 + AU59*Prices!$D$2 + AV59*Prices!$D$4 + AW59) * AY59","v":11.327402005953218},{"$f":"EXP(AZ59 + BA59*Prices!$D$2 + BB59*Prices!$D$4 + BC59) * BE59","v":12.201548727207678},{"$f":"EXP(BF59 + BG59*Prices!$D$2 + BH59*Prices!$D$4 + BI59) * BK59","v":12.13618931687818},{"$f":"EXP(BL59 + BM59*Prices!$D$2 + BN59*Prices!$D$4 + BO59) * BQ59","v":10.669452677414894},{"$f":"EXP(BR59 + BS59*Prices!$D$2 + BT59*Prices!$D$4 + BU59) * BW59","v":11.183336574106141},{"$f":"EXP(BX59 + BY59*Prices!$D$2 + BZ59*Prices!$D$4 + CA59) * CC59","v":10.935807514757593},{"$f":"EXP(CD59 + CE59*Prices!$D$2 + CF59*Prices!$D$4 + CG59) * CI59","v":10.912632166122886},{"$f":"EXP(CJ59 + CK59*Prices!$D$2 + CL59*Prices!$D$4 + CM59) * CO59","v":11.334425993993218},{"$f":"EXP(CP59 + CQ59*Prices!$D$2 + CR59*Prices!$D$4 + CS59) * CU59","v":11.121529646887147},{"$f":"EXP(CV59 + CW59*Prices!$D$2 + CX59*Prices!$D$4 + CY59) * DA59","v":11.756353496229524},{"$f":"EXP(DB59 + DC59*Prices!$D$2 + DD59*Prices!$D$4 + DE59) * DG59","v":12.168825141011203},{"$f":"EXP(DH59 + DI59*Prices!$D$2 + DJ59*Prices!$D$4 + DK59) * DM59","v":11.881625829060352},null,null,null,null,null,null,null,null,null,null,null,null,null,null,null,null,null,null,null,null,null,null,null,null,null,null,null,null,null,null,null,null,null,null,null,null,null,null,null,null,null,null,null,null,null,null,null,null,null,null,null,null,null,null,null,null,null,null,null,null,null,null,null,null,null,null,null,null,null,null,null,null,null,null,null,null,null,null,null,null,null,null,null,null,null,null,null,null,null,null,null,null,null,null,null,null,null,"Northeast","Adjustment factor"]
[null,null,"Round (> 1500 lbs) w/o net, $/bale",{"$f":"EXP(D60 + E60*Prices!$D$2 + F60*Prices!$D$4 + G60) * I60","v":11.463192567670143},{"$f":"EXP(J60 + K60*Prices!$D$2 + L60*Prices!$D$4 + M60) * O60","v":10.83608272348291},{"$f":"EXP(P60 + Q60*Prices!$D$2 + R60*Prices!$D$4 + S60) * U60","v":10.97206877548733},{"$f":"EXP(V60 + W60*Prices!$D$2 + X60*Prices!$D$4 + Y60) * AA60","v":13.853231411485323},{"$f":"EXP(AB60 + AC60*Prices!$D$2 + AD60*Prices!$D$4 + AE60) * AG60","v":11.307530235825974},{"$f":"EXP(AH60 + AI60*Prices!$D$2 + AJ60*Prices!$D$4 + AK60) * AM60","v":11.144911169025775},{"$f":"EXP(AN60 + AO60*Prices!$D$2 + AP60*Prices!$D$4 + AQ60) * AS60","v":11.813474908234769},{"$f":"EXP(AT60 + AU60*Prices!$D$2 + AV60*Prices!$D$4 + AW60) * AY60","v":11.56504376950158},{"$f":"EXP(AZ60 + BA60*Prices!$D$2 + BB60*Prices!$D$4 + BC60) * BE60","v":12.544323359891072},{"$f":"EXP(BF60 + BG60*Prices!$D$2 + BH60*Prices!$D$4 + BI60) * BK60","v":13.093708940760813},{"$f":"EXP(BL60 + BM60*Prices!$D$2 + BN60*Prices!$D$4 + BO60) * BQ60","v":10.903863760104697},{"$f":"EXP(BR60 + BS60*Prices!$D$2 + BT60*Prices!$D$4 + BU60) * BW60","v":12.328771545030691},{"$f":"EXP(BX60 + BY60*Prices!$D$2 + BZ60*Prices!$D$4 + CA60) * CC60","v":11.809657630532339},{"$f":"EXP(CD60 + CE60*Prices!$D$2 + CF60*Prices!$D$4 + CG60) * CI60","v":11.307530235825974},{"$f":"EXP(CJ60 + CK60*Prices!$D$2 + CL60*Prices!$D$4 + CM60) * CO60","v":11.813474908234769},{"$f":"EXP(CP60 + CQ60*Prices!$D$2 + CR60*Prices!$D$4 + CS60) * CU60","v":11.557734410992325},{"$f":"EXP(CV60 + CW60*Prices!$D$2 + CX60*Prices!$D$4 + CY60) * DA60","v":12.044735311160698},{"$f":"EXP(DB60 + DC60*Prices!$D$2 + DD60*Prices!$D$4 + DE60) * DG60","v":12.816072679772088},{"$f":"EXP(DH60 + DI60*Prices!$D$2 + DJ60*Prices!$D$4 + DK60) * DM60","v":12.384706950262046},null,null,null,null,null,null,null,null,null,null,null,null,null,null,null,null,null,null,null,null,null,null,null,null,null,null,null,null,null,null,null,null,null,null,null,null,null,null,null,null,null,null,null,null,null,null,null,null,null,null,null,null,null,null,null,null,null,null,null,null,null,null,null,null,null,null,null,null,null,null,null,null,null,null,null,null,null,null,null,null,null,null,null,null,null,null,null,null,null,null,null,null,null,null,null,null,null,"Northeast","RMSE"]
[null,null,"Round (> 1500 lbs) w/ net, $/bale",{"$f":"EXP(D61 + E61*Prices!$D$2 + F61*Prices!$D$4 + G61) * I61","v":12.82791218507716},{"$f":"EXP(J61 + K61*Prices!$D$2 + L61*Prices!$D$4 + M61) * O61","v":10.181307368845788},{"$f":"EXP(P61 + Q61*Prices!$D$2 + R61*Prices!$D$4 + S61) * U61","v":10.719799896605329},{"$f":"EXP(V61 + W61*Prices!$D$2 + X61*Prices!$D$4 + Y61) * AA61","v":11.101540340520824},{"$f":"EXP(AB61 + AC61*Prices!$D$2 + AD61*Prices!$D$4 + AE61) * AG61","v":10.007924709522584},{"$f":"EXP(AH61 + AI61*Prices!$D$2 + AJ61*Prices!$D$4 + AK61) * AM61","v":10.137033003152862},{"$f":"EXP(AN61 + AO61*Prices!$D$2 + AP61*Prices!$D$4 + AQ61) * AS61","v":10.331519943796749},{"$f":"EXP(AT61 + AU61*Prices!$D$2 + AV61*Prices!$D$4 + AW61) * AY61","v":11.394186430709107},{"$f":"EXP(AZ61 + BA61*Prices!$D$2 + BB61*Prices!$D$4 + BC61) * BE61","v":12.351162696485513},{"$f":"EXP(BF61 + BG61*Prices!$D$2 + BH61*Prices!$D$4 + BI61) * BK61","v":12.716867719323634},{"$f":"EXP(BL61 + BM61*Prices!$D$2 + BN61*Prices!$D$4 + BO61) * BQ61","v":10.447084649789153},{"$f":"EXP(BR61 + BS61*Prices!$D$2 + BT61*Prices!$D$4 + BU61) * BW61","v":10.909000458083913},{"$f":"EXP(BX61 + BY61*Prices!$D$2 + BZ61*Prices!$D$4 + CA61) * CC61","v":10.660833392672071},{"$f":"EXP(CD61 + CE61*Prices!$D$2 + CF61*Prices!$D$4 + CG61) * CI61","v":10.007924709522584},{"$f":"EXP(CJ61 + CK61*Prices!$D$2 + CL61*Prices!$D$4 + CM61) * CO61","v":10.331519943796749},{"$f":"EXP(CP61 + CQ61*Prices!$D$2 + CR61*Prices!$D$4 + CS61) * CU61","v":10.168435166359123},{"$f":"EXP(CV61 + CW61*Prices!$D$2 + CX61*Prices!$D$4 + CY61) * DA61","v":11.863028719503957},{"$f":"EXP(DB61 + DC61*Prices!$D$2 + DD61*Prices!$D$4 + DE61) * DG61","v":12.532681364777885},{"$f":"EXP(DH61 + DI61*Prices!$D$2 + DJ61*Prices!$D$4 + DK61) * DM61","v":12.141073990051234},null,null,null,null,null,null,null,null,null,null,null,null,null,null,null,null,null,null,null,null,null,null,null,null,null,null,null,null,null,null,null,null,null,null,null,null,null,null,null,null,null,null,null,null,null,null,null,null,null,null,null,null,null,null,null,null,null,null,null,null,null,null,null,null,null,null,null,null,null,null,null,null,null,null,null,null,null,null,null,null,null,null,null,null,null,null,null,null,null,null,null,null,null,null,null,null,null,"Northeast","LN adjustment"]
[null,null,"Square (approx 1 ton), $/bale",{"$f":"EXP(D62 + E62*Prices!$D$2 + F62*Prices!$D$4 + G62) * I62","v":12.011123054115034},{"$f":"EXP(J62 + K62*Prices!$D$2 + L62*Prices!$D$4 + M62) * O62","v":12.305904180314727},{"$f":"EXP(P62 + Q62*Prices!$D$2 + R62*Prices!$D$4 + S62) * U62","v":12.356983043067343},{"$f":"EXP(V62 + W62*Prices!$D$2 + X62*Prices!$D$4 + Y62) * AA62","v":12.713329816365082},{"$f":"EXP(AB62 + AC62*Prices!$D$2 + AD62*Prices!$D$4 + AE62) * AG62","v":10.838087145717074},{"$f":"EXP(AH62 + AI62*Prices!$D$2 + AJ62*Prices!$D$4 + AK62) * AM62","v":11.942874911842321},{"$f":"EXP(AN62 + AO62*Prices!$D$2 + AP62*Prices!$D$4 + AQ62) * AS62","v":11.704106485233174},{"$f":"EXP(AT62 + AU62*Prices!$D$2 + AV62*Prices!$D$4 + AW62) * AY62","v":10.306223023860349},{"$f":"EXP(AZ62 + BA62*Prices!$D$2 + BB62*Prices!$D$4 + BC62) * BE62","v":10.614196535549567},{"$f":"EXP(BF62 + BG62*Prices!$D$2 + BH62*Prices!$D$4 + BI62) * BK62","v":10.870983167857343},{"$f":"EXP(BL62 + BM62*Prices!$D$2 + BN62*Prices!$D$4 + BO62) * BQ62","v":12.331417164533871},{"$f":"EXP(BR62 + BS62*Prices!$D$2 + BT62*Prices!$D$4 + BU62) * BW62","v":12.533890096923056},{"$f":"EXP(BX62 + BY62*Prices!$D$2 + BZ62*Prices!$D$4 + CA62) * CC62","v":12.457429304234791},{"$f":"EXP(CD62 + CE62*Prices!$D$2 + CF62*Prices!$D$4 + CG62) * CI62","v":10.838087145717074},{"$f":"EXP(CJ62 + CK62*Prices!$D$2 + CL62*Prices!$D$4 + CM62) * CO62","v":11.704106485233174},{"$f":"EXP(CP62 + CQ62*Prices!$D$2 + CR62*Prices!$D$4 + CS62) * CU62","v":11.262776125348028},{"$f":"EXP(CV62 + CW62*Prices!$D$2 + CX62*Prices!$D$4 + CY62) * DA62","v":10.459076283996577},{"$f":"EXP(DB62 + DC62*Prices!$D$2 + DD62*Prices!$D$4 + DE62) * DG62","v":10.741822558499518},{"$f":"EXP(DH62 + DI62*Prices!$D$2 + DJ62*Prices!$D$4 + DK62) * DM62","v":10.594614562475588},null,null,null,null,null,null,null,null,null,null,null,null,null,null,null,null,null,null,null,null,null,null,null,null,null,null,null,null,null,null,null,null,null,null,null,null,null,null,null,null,null,null,null,null,null,null,null,null,null,null,null,null,null,null,null,null,null,null,null,null,null,null,null,null,null,null,null,null,null,null,null,null,null,null,null,null,null,null,null,null,null,null,null,null,null,null,null,null,null,null,null,null,null,null,null,null,null,"Southeast","Intercept"]
[null,null,"Stacking hay (4-6 tons), $",{"$f":"EXP(D63 + E63*Prices!$D$2 + F63*Prices!$D$4 + G63) * I63","v":68.714163270548184},{"$f":"EXP(J63 + K63*Prices!$D$2 + L63*Prices!$D$4 + M63) * O63","v":68.702930429077611},{"$f":"EXP(P63 + Q63*Prices!$D$2 + R63*Prices!$D$4 + S63) * U63","v":68.702930429077611},{"$f":"EXP(V63 + W63*Prices!$D$2 + X63*Prices!$D$4 + Y63) * AA63","v":68.702930429077611},{"$f":"EXP(AB63 + AC63*Prices!$D$2 + AD63*Prices!$D$4 + AE63) * AG63","v":68.702930429077611},{"$f":"EXP(AH63 + AI63*Prices!$D$2 + AJ63*Prices!$D$4 + AK63) * AM63","v":68.70293042907376},{"$f":"EXP(AN63 + AO63*Prices!$D$2 + AP63*Prices!$D$4 + AQ63) * AS63","v":68.702930429077611},{"$f":"EXP(AT63 + AU63*Prices!$D$2 + AV63*Prices!$D$4 + AW63) * AY63","v":68.702930429077611},{"$f":"EXP(AZ63 + BA63*Prices!$D$2 + BB63*Prices!$D$4 + BC63) * BE63","v":68.702930429077611},{"$f":"EXP(BF63 + BG63*Prices!$D$2 + BH63*Prices!$D$4 + BI63) * BK63","v":68.702930429077611},{"$f":"EXP(BL63 + BM63*Prices!$D$2 + BN63*Prices!$D$4 + BO63) * BQ63","v":68.702930429077611},{"$f":"EXP(BR63 + BS63*Prices!$D$2 + BT63*Prices!$D$4 + BU63) * BW63","v":68.702930429077611},{"$f":"EXP(BX63 + BY63*Prices!$D$2 + BZ63*Prices!$D$4 + CA63) * CC63","v":68.702930429077611},{"$f":"EXP(CD63 + CE63*Prices!$D$2 + CF63*Prices!$D$4 + CG63) * CI63","v":68.702930429077611},{"$f":"EXP(CJ63 + CK63*Prices!$D$2 + CL63*Prices!$D$4 + CM63) * CO63","v":68.702930429077611},{"$f":"EXP(CP63 + CQ63*Prices!$D$2 + CR63*Prices!$D$4 + CS63) * CU63","v":68.702930429077611},{"$f":"EXP(CV63 + CW63*Prices!$D$2 + CX63*Prices!$D$4 + CY63) * DA63","v":68.702930429077611},{"$f":"EXP(DB63 + DC63*Prices!$D$2 + DD63*Prices!$D$4 + DE63) * DG63","v":68.702930429077611},{"$f":"EXP(DH63 + DI63*Prices!$D$2 + DJ63*Prices!$D$4 + DK63) * DM63","v":68.702930429077611},null,null,null,null,null,null,null,null,null,null,null,null,null,null,null,null,null,null,null,null,null,null,null,null,null,null,null,null,null,null,null,null,null,null,null,null,null,null,null,null,null,null,null,null,null,null,null,null,null,null,null,null,null,null,null,null,null,null,null,null,null,null,null,null,null,null,null,null,null,null,null,null,null,null,null,null,null,null,null,null,null,null,null,null,null,null,null,null,null,null,null,null,null,null,null,null,null,"Southeast","PPI"]
[null,null,"Hauling small squares, $/bale",{"$f":"EXP(D64 + E64*Prices!$D$2 + F64*Prices!$D$4 + G64) * I64","v":1.2472871816414977},{"$f":"EXP(J64 + K64*Prices!$D$2 + L64*Prices!$D$4 + M64) * O64","v":1.537678062144626},{"$f":"EXP(P64 + Q64*Prices!$D$2 + R64*Prices!$D$4 + S64) * U64","v":1.5882547514241312},{"$f":"EXP(V64 + W64*Prices!$D$2 + X64*Prices!$D$4 + Y64) * AA64","v":1.4959266442678643},{"$f":"EXP(AB64 + AC64*Prices!$D$2 + AD64*Prices!$D$4 + AE64) * AG64","v":1.6471552083625054},{"$f":"EXP(AH64 + AI64*Prices!$D$2 + AJ64*Prices!$D$4 + AK64) * AM64","v":1.5803575545260278},{"$f":"EXP(AN64 + AO64*Prices!$D$2 + AP64*Prices!$D$4 + AQ64) * AS64","v":1.7950646765041272},{"$f":"EXP(AT64 + AU64*Prices!$D$2 + AV64*Prices!$D$4 + AW64) * AY64","v":1.6483255917284894},{"$f":"EXP(AZ64 + BA64*Prices!$D$2 + BB64*Prices!$D$4 + BC64) * BE64","v":1.675502500810472},{"$f":"EXP(BF64 + BG64*Prices!$D$2 + BH64*Prices!$D$4 + BI64) * BK64","v":1.7352221885593575},{"$f":"EXP(BL64 + BM64*Prices!$D$2 + BN64*Prices!$D$4 + BO64) * BQ64","v":1.5627618143408331},{"$f":"EXP(BR64 + BS64*Prices!$D$2 + BT64*Prices!$D$4 + BU64) * BW64","v":1.54139955901784},{"$f":"EXP(BX64 + BY64*Prices!$D$2 + BZ64*Prices!$D$4 + CA64) * CC64","v":1.5401580603809175},{"$f":"EXP(CD64 + CE64*Prices!$D$2 + CF64*Prices!$D$4 + CG64) * CI64","v":1.6471552083625054},{"$f":"EXP(CJ64 + CK64*Prices!$D$2 + CL64*Prices!$D$4 + CM64) * CO64","v":1.7950646765041272},{"$f":"EXP(CP64 + CQ64*Prices!$D$2 + CR64*Prices!$D$4 + CS64) * CU64","v":1.7195203201042231},{"$f":"EXP(CV64 + CW64*Prices!$D$2 + CX64*Prices!$D$4 + CY64) * DA64","v":1.6618584931007168},{"$f":"EXP(DB64 + DC64*Prices!$D$2 + DD64*Prices!$D$4 + DE64) * DG64","v":1.705100910912027},{"$f":"EXP(DH64 + DI64*Prices!$D$2 + DJ64*Prices!$D$4 + DK64) * DM64","v":1.6859617785717294},null,null,null,null,null,null,null,null,null,null,null,null,null,null,null,null,null,null,null,null,null,null,null,null,null,null,null,null,null,null,null,null,null,null,null,null,null,null,null,null,null,null,null,null,null,null,null,null,null,null,null,null,null,null,null,null,null,null,null,null,null,null,null,null,null,null,null,null,null,null,null,null,null,null,null,null,null,null,null,null,null,null,null,null,null,null,null,null,null,null,null,null,null,null,null,null,null,"Southeast","fuel"]
[null,null,"Hauling large round, $/bale",{"$f":"EXP(D65 + E65*Prices!$D$2 + F65*Prices!$D$4 + G65) * I65","v":5.2380126863536223},{"$f":"EXP(J65 + K65*Prices!$D$2 + L65*Prices!$D$4 + M65) * O65","v":5.3236486926260378},{"$f":"EXP(P65 + Q65*Prices!$D$2 + R65*Prices!$D$4 + S65) * U65","v":5.6397891313262143},{"$f":"EXP(V65 + W65*Prices!$D$2 + X65*Prices!$D$4 + Y65) * AA65","v":5.0847059645513779},{"$f":"EXP(AB65 + AC65*Prices!$D$2 + AD65*Prices!$D$4 + AE65) * AG65","v":4.4233708657956257},{"$f":"EXP(AH65 + AI65*Prices!$D$2 + AJ65*Prices!$D$4 + AK65) * AM65","v":5.244082325399007},{"$f":"EXP(AN65 + AO65*Prices!$D$2 + AP65*Prices!$D$4 + AQ65) * AS65","v":5.0348501484340193},{"$f":"EXP(AT65 + AU65*Prices!$D$2 + AV65*Prices!$D$4 + AW65) * AY65","v":5.5688726113658786},{"$f":"EXP(AZ65 + BA65*Prices!$D$2 + BB65*Prices!$D$4 + BC65) * BE65","v":5.1800726887403252},{"$f":"EXP(BF65 + BG65*Prices!$D$2 + BH65*Prices!$D$4 + BI65) * BK65","v":5.9088465829891321},{"$f":"EXP(BL65 + BM65*Prices!$D$2 + BN65*Prices!$D$4 + BO65) * BQ65","v":5.4794393906376353},{"$f":"EXP(BR65 + BS65*Prices!$D$2 + BT65*Prices!$D$4 + BU65) * BW65","v":5.3550601709846761},{"$f":"EXP(BX65 + BY65*Prices!$D$2 + BZ65*Prices!$D$4 + CA65) * CC65","v":5.3445691387684668},{"$f":"EXP(CD65 + CE65*Prices!$D$2 + CF65*Prices!$D$4 + CG65) * CI65","v":4.4233708657956257},{"$f":"EXP(CJ65 + CK65*Prices!$D$2 + CL65*Prices!$D$4 + CM65) * CO65","v":5.0348501484340193},{"$f":"EXP(CP65 + CQ65*Prices!$D$2 + CR65*Prices!$D$4 + CS65) * CU65","v":4.7192170388984893},{"$f":"EXP(CV65 + CW65*Prices!$D$2 + CX65*Prices!$D$4 + CY65) * DA65","v":5.3709556804362473},{"$f":"EXP(DB65 + DC65*Prices!$D$2 + DD65*Prices!$D$4 + DE65) * DG65","v":5.5324727569594581},{"$f":"EXP(DH65 + DI65*Prices!$D$2 + DJ65*Prices!$D$4 + DK65) * DM65","v":5.5445795290513713},null,null,null,null,null,null,null,null,null,null,null,null,null,null,null,null,null,null,null,null,null,null,null,null,null,null,null,null,null,null,null,null,null,null,null,null,null,null,null,null,null,null,null,null,null,null,null,null,null,null,null,null,null,null,null,null,null,null,null,null,null,null,null,null,null,null,null,null,null,null,null,null,null,null,null,null,null,null,null,null,null,null,null,null,null,null,null,null,null,null,null,null,null,null,null,null,null,"Southeast","Adjustment factor"]
[null,null,"Hauling large round, $/ton",{"$f":"EXP(D66 + E66*Prices!$D$2 + F66*Prices!$D$4 + G66) * I66","v":7.5611522882838784},{"$f":"EXP(J66 + K66*Prices!$D$2 + L66*Prices!$D$4 + M66) * O66","v":2.9881624856187279},{"$f":"EXP(P66 + Q66*Prices!$D$2 + R66*Prices!$D$4 + S66) * U66","v":2.9569057628348272},{"$f":"EXP(V66 + W66*Prices!$D$2 + X66*Prices!$D$4 + Y66) * AA66","v":2.9409007035483072},{"$f":"EXP(AB66 + AC66*Prices!$D$2 + AD66*Prices!$D$4 + AE66) * AG66","v":3.7403334087680662},{"$f":"EXP(AH66 + AI66*Prices!$D$2 + AJ66*Prices!$D$4 + AK66) * AM66","v":3.9510616706655206},{"$f":"EXP(AN66 + AO66*Prices!$D$2 + AP66*Prices!$D$4 + AQ66) * AS66","v":3.5954117409861186},{"$f":"EXP(AT66 + AU66*Prices!$D$2 + AV66*Prices!$D$4 + AW66) * AY66","v":5.8566363096017833},{"$f":"EXP(AZ66 + BA66*Prices!$D$2 + BB66*Prices!$D$4 + BC66) * BE66","v":5.8340414783531482},{"$f":"EXP(BF66 + BG66*Prices!$D$2 + BH66*Prices!$D$4 + BI66) * BK66","v":5.7617332573817936},{"$f":"EXP(BL66 + BM66*Prices!$D$2 + BN66*Prices!$D$4 + BO66) * BQ66","v":2.9724930401958649},{"$f":"EXP(BR66 + BS66*Prices!$D$2 + BT66*Prices!$D$4 + BU66) * BW66","v":2.9488923748158373},{"$f":"EXP(BX66 + BY66*Prices!$D$2 + BZ66*Prices!$D$4 + CA66) * CC66","v":2.9619247316103365},{"$f":"EXP(CD66 + CE66*Prices!$D$2 + CF66*Prices!$D$4 + CG66) * CI66","v":3.7403334087680662},{"$f":"EXP(CJ66 + CK66*Prices!$D$2 + CL66*Prices!$D$4 + CM66) * CO66","v":3.5954117409861186},{"$f":"EXP(CP66 + CQ66*Prices!$D$2 + CR66*Prices!$D$4 + CS66) * CU66","v":3.6671567532745772},{"$f":"EXP(CV66 + CW66*Prices!$D$2 + CX66*Prices!$D$4 + CY66) * DA66","v":5.8453279765848825},{"$f":"EXP(DB66 + DC66*Prices!$D$2 + DD66*Prices!$D$4 + DE66) * DG66","v":5.7977746429791646},{"$f":"EXP(DH66 + DI66*Prices!$D$2 + DJ66*Prices!$D$4 + DK66) * DM66","v":5.8173291715522115},null,null,null,null,null,null,null,null,null,null,null,null,null,null,null,null,null,null,null,null,null,null,null,null,null,null,null,null,null,null,null,null,null,null,null,null,null,null,null,null,null,null,null,null,null,null,null,null,null,null,null,null,null,null,null,null,null,null,null,null,null,null,null,null,null,null,null,null,null,null,null,null,null,null,null,null,null,null,null,null,null,null,null,null,null,null,null,null,null,null,null,null,null,null,null,null,null,"Southeast","RMSE"]
[null,null,"Entire operation (small square), $/bale",{"$f":"EXP(D67 + E67*Prices!$D$2 + F67*Prices!$D$4 + G67) * I67","v":2.7671414644353138},{"$f":"EXP(J67 + K67*Prices!$D$2 + L67*Prices!$D$4 + M67) * O67","v":1.6168550523654297},{"$f":"EXP(P67 + Q67*Prices!$D$2 + R67*Prices!$D$4 + S67) * U67","v":1.6168550523654297},{"$f":"EXP(V67 + W67*Prices!$D$2 + X67*Prices!$D$4 + Y67) * AA67","v":1.6074844420460375},{"$f":"EXP(AB67 + AC67*Prices!$D$2 + AD67*Prices!$D$4 + AE67) * AG67","v":1.4781222862103676},{"$f":"EXP(AH67 + AI67*Prices!$D$2 + AJ67*Prices!$D$4 + AK67) * AM67","v":1.4789986334049223},{"$f":"EXP(AN67 + AO67*Prices!$D$2 + AP67*Prices!$D$4 + AQ67) * AS67","v":1.4760594597182704},{"$f":"EXP(AT67 + AU67*Prices!$D$2 + AV67*Prices!$D$4 + AW67) * AY67","v":1.8758464203144767},{"$f":"EXP(AZ67 + BA67*Prices!$D$2 + BB67*Prices!$D$4 + BC67) * BE67","v":1.9250220144049184},{"$f":"EXP(BF67 + BG67*Prices!$D$2 + BH67*Prices!$D$4 + BI67) * BK67","v":1.9044719084366859},{"$f":"EXP(BL67 + BM67*Prices!$D$2 + BN67*Prices!$D$4 + BO67) * BQ67","v":1.6168550523654297},{"$f":"EXP(BR67 + BS67*Prices!$D$2 + BT67*Prices!$D$4 + BU67) * BW67","v":1.6121629389490877},{"$f":"EXP(BX67 + BY67*Prices!$D$2 + BZ67*Prices!$D$4 + CA67) * CC67","v":1.6137254618539454},{"$f":"EXP(CD67 + CE67*Prices!$D$2 + CF67*Prices!$D$4 + CG67) * CI67","v":1.4781222862103676},{"$f":"EXP(CJ67 + CK67*Prices!$D$2 + CL67*Prices!$D$4 + CM67) * CO67","v":1.4760594597182704},{"$f":"EXP(CP67 + CQ67*Prices!$D$2 + CR67*Prices!$D$4 + CS67) * CU67","v":1.4770905128600651},{"$f":"EXP(CV67 + CW67*Prices!$D$2 + CX67*Prices!$D$4 + CY67) * DA67","v":1.900275152378736},{"$f":"EXP(DB67 + DC67*Prices!$D$2 + DD67*Prices!$D$4 + DE67) * DG67","v":1.9147193918578167},{"$f":"EXP(DH67 + DI67*Prices!$D$2 + DJ67*Prices!$D$4 + DK67) * DM67","v":1.9016730424895112},null,null,null,null,null,null,null,null,null,null,null,null,null,null,null,null,null,null,null,null,null,null,null,null,null,null,null,null,null,null,null,null,null,null,null,null,null,null,null,null,null,null,null,null,null,null,null,null,null,null,null,null,null,null,null,null,null,null,null,null,null,null,null,null,null,null,null,null,null,null,null,null,null,null,null,null,null,null,null,null,null,null,null,null,null,null,null,null,null,null,null,null,null,null,null,null,null,"Southeast","LN adjustment"]
[null,null,"Entire operation (large round), $/bale",{"$f":"EXP(D68 + E68*Prices!$D$2 + F68*Prices!$D$4 + G68) * I68","v":20.200314844268981},{"$f":"EXP(J68 + K68*Prices!$D$2 + L68*Prices!$D$4 + M68) * O68","v":25.944464607154181},{"$f":"EXP(P68 + Q68*Prices!$D$2 + R68*Prices!$D$4 + S68) * U68","v":26.058025592645425},{"$f":"EXP(V68 + W68*Prices!$D$2 + X68*Prices!$D$4 + Y68) * AA68","v":25.704943279779076},{"$f":"EXP(AB68 + AC68*Prices!$D$2 + AD68*Prices!$D$4 + AE68) * AG68","v":24.116242808216914},{"$f":"EXP(AH68 + AI68*Prices!$D$2 + AJ68*Prices!$D$4 + AK68) * AM68","v":24.16162287820595},{"$f":"EXP(AN68 + AO68*Prices!$D$2 + AP68*Prices!$D$4 + AQ68) * AS68","v":23.904071233343331},{"$f":"EXP(AT68 + AU68*Prices!$D$2 + AV68*Prices!$D$4 + AW68) * AY68","v":20.520242765743529},{"$f":"EXP(AZ68 + BA68*Prices!$D$2 + BB68*Prices!$D$4 + BC68) * BE68","v":19.642429736035421},{"$f":"EXP(BF68 + BG68*Prices!$D$2 + BH68*Prices!$D$4 + BI68) * BK68","v":21.01103174375648},{"$f":"EXP(BL68 + BM68*Prices!$D$2 + BN68*Prices!$D$4 + BO68) * BQ68","v":26.001183102326461},{"$f":"EXP(BR68 + BS68*Prices!$D$2 + BT68*Prices!$D$4 + BU68) * BW68","v":25.880882323483142},{"$f":"EXP(BX68 + BY68*Prices!$D$2 + BZ68*Prices!$D$4 + CA68) * CC68","v":25.902059085649206},{"$f":"EXP(CD68 + CE68*Prices!$D$2 + CF68*Prices!$D$4 + CG68) * CI68","v":24.116242808216914},{"$f":"EXP(CJ68 + CK68*Prices!$D$2 + CL68*Prices!$D$4 + CM68) * CO68","v":23.904071233343331},{"$f":"EXP(CP68 + CQ68*Prices!$D$2 + CR68*Prices!$D$4 + CS68) * CU68","v":24.009922656439795},{"$f":"EXP(CV68 + CW68*Prices!$D$2 + CX68*Prices!$D$4 + CY68) * DA68","v":20.076539211041982},{"$f":"EXP(DB68 + DC68*Prices!$D$2 + DD68*Prices!$D$4 + DE68) * DG68","v":20.315208950644504},{"$f":"EXP(DH68 + DI68*Prices!$D$2 + DJ68*Prices!$D$4 + DK68) * DM68","v":20.383324910739965},null,null,null,null,null,null,null,null,null,null,null,null,null,null,null,null,null,null,null,null,null,null,null,null,null,null,null,null,null,null,null,null,null,null,null,null,null,null,null,null,null,null,null,null,null,null,null,null,null,null,null,null,null,null,null,null,null,null,null,null,null,null,null,null,null,null,null,null,null,null,null,null,null,null,null,null,null,null,null,null,null,null,null,null,null,null,null,null,null,null,null,null,null,null,null,null,null,"East","Intercept"]
[null,null,"Entire operation, $/ton",{"$f":"EXP(D69 + E69*Prices!$D$2 + F69*Prices!$D$4 + G69) * I69","v":38.553590120041896},{"$f":"EXP(J69 + K69*Prices!$D$2 + L69*Prices!$D$4 + M69) * O69","v":38.545820356178908},{"$f":"EXP(P69 + Q69*Prices!$D$2 + R69*Prices!$D$4 + S69) * U69","v":38.545820356178908},{"$f":"EXP(V69 + W69*Prices!$D$2 + X69*Prices!$D$4 + Y69) * AA69","v":38.545820356178908},{"$f":"EXP(AB69 + AC69*Prices!$D$2 + AD69*Prices!$D$4 + AE69) * AG69","v":38.545820356178908},{"$f":"EXP(AH69 + AI69*Prices!$D$2 + AJ69*Prices!$D$4 + AK69) * AM69","v":38.545820356177003},{"$f":"EXP(AN69 + AO69*Prices!$D$2 + AP69*Prices!$D$4 + AQ69) * AS69","v":38.545820356178908},{"$f":"EXP(AT69 + AU69*Prices!$D$2 + AV69*Prices!$D$4 + AW69) * AY69","v":38.545820356178908},{"$f":"EXP(AZ69 + BA69*Prices!$D$2 + BB69*Prices!$D$4 + BC69) * BE69","v":38.545820356178908},{"$f":"EXP(BF69 + BG69*Prices!$D$2 + BH69*Prices!$D$4 + BI69) * BK69","v":38.545820356178908},{"$f":"EXP(BL69 + BM69*Prices!$D$2 + BN69*Prices!$D$4 + BO69) * BQ69","v":38.545820356178908},{"$f":"EXP(BR69 + BS69*Prices!$D$2 + BT69*Prices!$D$4 + BU69) * BW69","v":38.545820356178908},{"$f":"EXP(BX69 + BY69*Prices!$D$2 + BZ69*Prices!$D$4 + CA69) * CC69","v":38.545820356178908},{"$f":"EXP(CD69 + CE69*Prices!$D$2 + CF69*Prices!$D$4 + CG69) * CI69","v":38.545820356178908},{"$f":"EXP(CJ69 + CK69*Prices!$D$2 + CL69*Prices!$D$4 + CM69) * CO69","v":38.545820356178908},{"$f":"EXP(CP69 + CQ69*Prices!$D$2 + CR69*Prices!$D$4 + CS69) * CU69","v":38.545820356178908},{"$f":"EXP(CV69 + CW69*Prices!$D$2 + CX69*Prices!$D$4 + CY69) * DA69","v":38.545820356178908},{"$f":"EXP(DB69 + DC69*Prices!$D$2 + DD69*Prices!$D$4 + DE69) * DG69","v":38.545820356178908},{"$f":"EXP(DH69 + DI69*Prices!$D$2 + DJ69*Prices!$D$4 + DK69) * DM69","v":38.545820356178908},null,null,null,null,null,null,null,null,null,null,null,null,null,null,null,null,null,null,null,null,null,null,null,null,null,null,null,null,null,null,null,null,null,null,null,null,null,null,null,null,null,null,null,null,null,null,null,null,null,null,null,null,null,null,null,null,null,null,null,null,null,null,null,null,null,null,null,null,null,null,null,null,null,null,null,null,null,null,null,null,null,null,null,null,null,null,null,null,null,null,null,null,null,null,null,null,null,"East","PPI"]
[null,null,null,null,null,null,null,null,null,null,null,null,null,null,null,null,null,null,null,null,null,null,null,null,null,null,null,null,null,null,null,null,null,null,null,null,null,null,null,null,null,null,null,null,null,null,null,null,null,null,null,null,null,null,null,null,null,null,null,null,null,null,null,null,null,null,null,null,null,null,null,null,null,null,null,null,null,null,null,null,null,null,null,null,null,null,null,null,null,null,null,null,null,null,null,null,null,null,null,null,null,null,null,null,null,null,null,null,null,null,null,null,null,null,null,null,null,null,null,"East","fuel"]
[null,null,null,null,null,null,null,null,null,null,null,null,null,null,null,null,null,null,null,null,null,null,null,null,null,null,null,null,null,null,null,null,null,null,null,null,null,null,null,null,null,null,null,null,null,null,null,null,null,null,null,null,null,null,null,null,null,null,null,null,null,null,null,null,null,null,null,null,null,null,null,null,null,null,null,null,null,null,null,null,null,null,null,null,null,null,null,null,null,null,null,null,null,null,null,null,null,null,null,null,null,null,null,null,null,null,null,null,null,null,null,null,null,null,null,null,null,null,null,"East","Adjustment factor"]
[null,null,null,null,null,null,null,null,null,null,null,null,null,null,null,null,null,null,null,null,null,null,null,null,null,null,null,null,null,null,null,null,null,null,null,null,null,null,null,null,null,null,null,null,null,null,null,null,null,null,null,null,null,null,null,null,null,null,null,null,null,null,null,null,null,null,null,null,null,null,null,null,null,null,null,null,null,null,null,null,null,null,null,null,null,null,null,null,null,null,null,null,null,null,null,null,null,null,null,null,null,null,null,null,null,null,null,null,null,null,null,null,null,null,null,null,null,null,null,"East","RMSE"]
[null,null,null,null,null,null,null,null,null,null,null,null,null,null,null,null,null,null,null,null,null,null,null,null,null,null,null,null,null,null,null,null,null,null,null,null,null,null,null,null,null,null,null,null,null,null,null,null,null,null,null,null,null,null,null,null,null,null,null,null,null,null,null,null,null,null,null,null,null,null,null,null,null,null,null,null,null,null,null,null,null,null,null,null,null,null,null,null,null,null,null,null,null,null,null,null,null,null,null,null,null,null,null,null,null,null,null,null,null,null,null,null,null,null,null,null,null,null,null,"East","LN adjustment"]

{"sheet":"PPI","index":3,"n_rows":35,"n_cols":12,"rows_kept":35,"cut":false,"hidden":true,"merged":[]}
[null,null,"Kevins's"]
["PPI index","Year","PPI index","90-92 index","2011 index","Growth rate",null,"US diesel prices"]
[{"$f":"E3/$E$23*100","v":41.48936170212766},1990,43.572984749455337,100,39,null,null,null,null,null,"NASS series "]
[{"$f":"E4/$E$23*100","v":43.61702127659575},1991,44.444444444444443,102,41,{"$f":"(E4-E3)/E3","v":5.128205128205128E-2},null,null,null,null,"Machinery (1990-92=100)"]
[45.744680851063826,1992,45.315904139433549,104,43,{"$f":"(E5-E4)/E4","v":4.878048780487805E-2},null,null,null,null,"Prices Paid Index (Annual Prices)"]
[46.808510638297875,1993,46.623093681917211,107,44,2.3255813953488372E-2,null,null,null,null,"Values from 1997 forward are annual averages based on monthly values from Quick Stats"]
[50,1994,49.23747276688453,113,47,6.8181818181818177E-2,null,null,null,null,"2013 is the last yr for the 90-92 index from quick stats - moved to the 2011 index"]
[52.12765957446809,1995,52.287581699346411,120,49,4.2553191489361701E-2]
[54.255319148936167,1996,54.466230936819173,125,51,4.0816326530612242E-2,null,null,null,null,"KD base yr",2010]
[56.38297872340425,1997,55.846042120551921,128.16666666666666,53,3.9215686274509803E-2]
[57.446808510638306,1998,57.62527233115469,132.25,54,1.8867924528301886E-2,null,null,null,null,117.4]
[59.574468085106382,1999,58.968772694262896,135.33333333333334,56,3.7037037037037035E-2,null,null,null,null,3.83]
[60.638297872340431,2000,60.602759622367472,139.08333333333334,57,1.7857142857142856E-2,null,1.49076923076923,null,null,"2014 as used by kevin"]
[62.765957446808507,2001,62.563543936092955,143.58333333333334,59,3.5087719298245612E-2,null,1.4049615384615399]
[64.893617021276597,2002,64.306463326071167,147.58333333333334,61,3.3898305084745763E-2,null,1.3187500000000001]
[65.957446808510639,2003,65.831517792302108,151.08333333333334,62,1.6393442622950821E-2,null,1.50932692307692]
[70.212765957446805,2004,70.515613652868552,161.83333333333334,66,6.4516129032258063E-2,null,1.80994230769231]
[75.531914893617028,2005,75.16339869281046,172.5,71,7.575757575757576E-2,null,2.4015192307692299]
[79.787234042553195,2006,79.121278140885991,181.58333333333334,75,5.6338028169014086E-2,null,2.7048461538461499]
[82.978723404255319,2007,83.297022512708779,191.16666666666666,78,0.04,null,2.8764038461538401]
[91.489361702127653,2008,90.813362381989833,208.41666666666666,86,0.10256410256410256,null,3.8029615384615401]
[96.808510638297875,2009,96.804647785039933,222.16666666666666,91,5.8139534883720929E-2,null,2.4673269230769201]
[100,2010,100,229.5,94,3.2967032967032968E-2,null,2.9915576923076901]
[106.38297872340425,2011,106.1365286855483,243.58333333333334,100,6.3829787234042548E-2,null,3.8397115384615401]
[111.70212765957446,2012,111.76470588235294,256.5,105,0.05,null,3.9686923076923102]
[114.89361702127661,2013,114.54248366013071,263.67,108,2.8571428571428571E-2,null,3.9217307692307699]
[119.14893617021276,2014,null,null,112,3.7037037037037035E-2,null,3.8246346153846198]
[122.34042553191489,2015,null,null,115,2.6785714285714284E-2,null,2.7065961538461498]
[null,2016]
[null,2017]
[]
[]
[]
[]
[null,null,null,{"$f":"122.3*1.03","v":125.96899999999999}]